BEGIN:VCALENDAR
VERSION:2.0
PRODID:-//Heber Overgaard Community Resource Network - ECPv6.15.17.1//NONSGML v1.0//EN
CALSCALE:GREGORIAN
METHOD:PUBLISH
X-WR-CALNAME:Heber Overgaard Community Resource Network
X-ORIGINAL-URL:https://www.hocrn.org
X-WR-CALDESC:Events for Heber Overgaard Community Resource Network
REFRESH-INTERVAL;VALUE=DURATION:PT1H
X-Robots-Tag:noindex
X-PUBLISHED-TTL:PT1H
BEGIN:VTIMEZONE
TZID:America/Phoenix
BEGIN:STANDARD
TZOFFSETFROM:-0700
TZOFFSETTO:-0700
TZNAME:MST
DTSTART:20250101T000000
END:STANDARD
END:VTIMEZONE
BEGIN:VEVENT
DTSTART;TZID=America/Phoenix:20260707T150000
DTEND;TZID=America/Phoenix:20260707T160000
DTSTAMP:20260423T060643
CREATED:20241008T145701Z
LAST-MODIFIED:20241008T153724Z
UID:10005321-1783436400-1783440000@www.hocrn.org
SUMMARY:Caregiver Support
DESCRIPTION:
URL:https://www.hocrn.org/event/caregiver-support/2026-07-07
LOCATION:Methodist Church
CATEGORIES:Community Events & Meetings
END:VEVENT
BEGIN:VEVENT
DTSTART;TZID=America/Phoenix:20260714T150000
DTEND;TZID=America/Phoenix:20260714T160000
DTSTAMP:20260423T060643
CREATED:20241008T145701Z
LAST-MODIFIED:20241008T153724Z
UID:10005322-1784041200-1784044800@www.hocrn.org
SUMMARY:Caregiver Support
DESCRIPTION:
URL:https://www.hocrn.org/event/caregiver-support/2026-07-14
LOCATION:Methodist Church
CATEGORIES:Community Events & Meetings
END:VEVENT
BEGIN:VEVENT
DTSTART;TZID=America/Phoenix:20260721T150000
DTEND;TZID=America/Phoenix:20260721T160000
DTSTAMP:20260423T060643
CREATED:20241008T145701Z
LAST-MODIFIED:20241008T153724Z
UID:10005323-1784646000-1784649600@www.hocrn.org
SUMMARY:Caregiver Support
DESCRIPTION:
URL:https://www.hocrn.org/event/caregiver-support/2026-07-21
LOCATION:Methodist Church
CATEGORIES:Community Events & Meetings
END:VEVENT
BEGIN:VEVENT
DTSTART;TZID=America/Phoenix:20260728T150000
DTEND;TZID=America/Phoenix:20260728T160000
DTSTAMP:20260423T060643
CREATED:20241008T145701Z
LAST-MODIFIED:20241008T153724Z
UID:10005324-1785250800-1785254400@www.hocrn.org
SUMMARY:Caregiver Support
DESCRIPTION:
URL:https://www.hocrn.org/event/caregiver-support/2026-07-28
LOCATION:Methodist Church
CATEGORIES:Community Events & Meetings
END:VEVENT
BEGIN:VEVENT
DTSTART;TZID=America/Phoenix:20260804T150000
DTEND;TZID=America/Phoenix:20260804T160000
DTSTAMP:20260423T060643
CREATED:20241008T145701Z
LAST-MODIFIED:20241008T153724Z
UID:10005325-1785855600-1785859200@www.hocrn.org
SUMMARY:Caregiver Support
DESCRIPTION:
URL:https://www.hocrn.org/event/caregiver-support/2026-08-04
LOCATION:Methodist Church
CATEGORIES:Community Events & Meetings
END:VEVENT
BEGIN:VEVENT
DTSTART;TZID=America/Phoenix:20260811T150000
DTEND;TZID=America/Phoenix:20260811T160000
DTSTAMP:20260423T060643
CREATED:20241008T145701Z
LAST-MODIFIED:20241008T153724Z
UID:10005326-1786460400-1786464000@www.hocrn.org
SUMMARY:Caregiver Support
DESCRIPTION:
URL:https://www.hocrn.org/event/caregiver-support/2026-08-11
LOCATION:Methodist Church
CATEGORIES:Community Events & Meetings
END:VEVENT
BEGIN:VEVENT
DTSTART;TZID=America/Phoenix:20260818T150000
DTEND;TZID=America/Phoenix:20260818T160000
DTSTAMP:20260423T060643
CREATED:20241008T145701Z
LAST-MODIFIED:20241008T153724Z
UID:10005327-1787065200-1787068800@www.hocrn.org
SUMMARY:Caregiver Support
DESCRIPTION:
URL:https://www.hocrn.org/event/caregiver-support/2026-08-18
LOCATION:Methodist Church
CATEGORIES:Community Events & Meetings
END:VEVENT
BEGIN:VEVENT
DTSTART;TZID=America/Phoenix:20260825T150000
DTEND;TZID=America/Phoenix:20260825T160000
DTSTAMP:20260423T060643
CREATED:20241008T145701Z
LAST-MODIFIED:20241008T153724Z
UID:10005328-1787670000-1787673600@www.hocrn.org
SUMMARY:Caregiver Support
DESCRIPTION:
URL:https://www.hocrn.org/event/caregiver-support/2026-08-25
LOCATION:Methodist Church
CATEGORIES:Community Events & Meetings
END:VEVENT
BEGIN:VEVENT
DTSTART;TZID=America/Phoenix:20260901T150000
DTEND;TZID=America/Phoenix:20260901T160000
DTSTAMP:20260423T060643
CREATED:20241008T145701Z
LAST-MODIFIED:20241008T153724Z
UID:10005329-1788274800-1788278400@www.hocrn.org
SUMMARY:Caregiver Support
DESCRIPTION:
URL:https://www.hocrn.org/event/caregiver-support/2026-09-01
LOCATION:Methodist Church
CATEGORIES:Community Events & Meetings
END:VEVENT
BEGIN:VEVENT
DTSTART;TZID=America/Phoenix:20260908T150000
DTEND;TZID=America/Phoenix:20260908T160000
DTSTAMP:20260423T060643
CREATED:20241008T145701Z
LAST-MODIFIED:20241008T153724Z
UID:10005330-1788879600-1788883200@www.hocrn.org
SUMMARY:Caregiver Support
DESCRIPTION:
URL:https://www.hocrn.org/event/caregiver-support/2026-09-08
LOCATION:Methodist Church
CATEGORIES:Community Events & Meetings
END:VEVENT
BEGIN:VEVENT
DTSTART;TZID=America/Phoenix:20260915T150000
DTEND;TZID=America/Phoenix:20260915T160000
DTSTAMP:20260423T060643
CREATED:20241008T145701Z
LAST-MODIFIED:20241008T153724Z
UID:10005331-1789484400-1789488000@www.hocrn.org
SUMMARY:Caregiver Support
DESCRIPTION:
URL:https://www.hocrn.org/event/caregiver-support/2026-09-15
LOCATION:Methodist Church
CATEGORIES:Community Events & Meetings
END:VEVENT
BEGIN:VEVENT
DTSTART;TZID=America/Phoenix:20260922T150000
DTEND;TZID=America/Phoenix:20260922T160000
DTSTAMP:20260423T060643
CREATED:20241008T145701Z
LAST-MODIFIED:20241008T153724Z
UID:10005332-1790089200-1790092800@www.hocrn.org
SUMMARY:Caregiver Support
DESCRIPTION:
URL:https://www.hocrn.org/event/caregiver-support/2026-09-22
LOCATION:Methodist Church
CATEGORIES:Community Events & Meetings
END:VEVENT
BEGIN:VEVENT
DTSTART;TZID=America/Phoenix:20260929T150000
DTEND;TZID=America/Phoenix:20260929T160000
DTSTAMP:20260423T060643
CREATED:20241008T145701Z
LAST-MODIFIED:20241008T153724Z
UID:10005333-1790694000-1790697600@www.hocrn.org
SUMMARY:Caregiver Support
DESCRIPTION:
URL:https://www.hocrn.org/event/caregiver-support/2026-09-29
LOCATION:Methodist Church
CATEGORIES:Community Events & Meetings
END:VEVENT
BEGIN:VEVENT
DTSTART;TZID=America/Phoenix:20261006T150000
DTEND;TZID=America/Phoenix:20261006T160000
DTSTAMP:20260423T060643
CREATED:20241008T145701Z
LAST-MODIFIED:20241008T153724Z
UID:10005334-1791298800-1791302400@www.hocrn.org
SUMMARY:Caregiver Support
DESCRIPTION:
URL:https://www.hocrn.org/event/caregiver-support/2026-10-06
LOCATION:Methodist Church
CATEGORIES:Community Events & Meetings
END:VEVENT
BEGIN:VEVENT
DTSTART;TZID=America/Phoenix:20261013T150000
DTEND;TZID=America/Phoenix:20261013T160000
DTSTAMP:20260423T060643
CREATED:20241008T145701Z
LAST-MODIFIED:20241008T153724Z
UID:10005335-1791903600-1791907200@www.hocrn.org
SUMMARY:Caregiver Support
DESCRIPTION:
URL:https://www.hocrn.org/event/caregiver-support/2026-10-13
LOCATION:Methodist Church
CATEGORIES:Community Events & Meetings
END:VEVENT
BEGIN:VEVENT
DTSTART;TZID=America/Phoenix:20261020T150000
DTEND;TZID=America/Phoenix:20261020T160000
DTSTAMP:20260423T060643
CREATED:20241008T145701Z
LAST-MODIFIED:20241008T153724Z
UID:10005336-1792508400-1792512000@www.hocrn.org
SUMMARY:Caregiver Support
DESCRIPTION:
URL:https://www.hocrn.org/event/caregiver-support/2026-10-20
LOCATION:Methodist Church
CATEGORIES:Community Events & Meetings
END:VEVENT
BEGIN:VEVENT
DTSTART;TZID=America/Phoenix:20261027T150000
DTEND;TZID=America/Phoenix:20261027T160000
DTSTAMP:20260423T060643
CREATED:20241008T145701Z
LAST-MODIFIED:20241008T153724Z
UID:10005337-1793113200-1793116800@www.hocrn.org
SUMMARY:Caregiver Support
DESCRIPTION:
URL:https://www.hocrn.org/event/caregiver-support/2026-10-27
LOCATION:Methodist Church
CATEGORIES:Community Events & Meetings
END:VEVENT
BEGIN:VEVENT
DTSTART;TZID=America/Phoenix:20261103T150000
DTEND;TZID=America/Phoenix:20261103T160000
DTSTAMP:20260423T060643
CREATED:20241008T145701Z
LAST-MODIFIED:20241008T153724Z
UID:10005338-1793718000-1793721600@www.hocrn.org
SUMMARY:Caregiver Support
DESCRIPTION:
URL:https://www.hocrn.org/event/caregiver-support/2026-11-03
LOCATION:Methodist Church
CATEGORIES:Community Events & Meetings
END:VEVENT
BEGIN:VEVENT
DTSTART;TZID=America/Phoenix:20261110T150000
DTEND;TZID=America/Phoenix:20261110T160000
DTSTAMP:20260423T060643
CREATED:20241008T145701Z
LAST-MODIFIED:20241008T153724Z
UID:10005339-1794322800-1794326400@www.hocrn.org
SUMMARY:Caregiver Support
DESCRIPTION:
URL:https://www.hocrn.org/event/caregiver-support/2026-11-10
LOCATION:Methodist Church
CATEGORIES:Community Events & Meetings
END:VEVENT
BEGIN:VEVENT
DTSTART;TZID=America/Phoenix:20261117T150000
DTEND;TZID=America/Phoenix:20261117T160000
DTSTAMP:20260423T060643
CREATED:20241008T145701Z
LAST-MODIFIED:20241008T153724Z
UID:10005340-1794927600-1794931200@www.hocrn.org
SUMMARY:Caregiver Support
DESCRIPTION:
URL:https://www.hocrn.org/event/caregiver-support/2026-11-17
LOCATION:Methodist Church
CATEGORIES:Community Events & Meetings
END:VEVENT
BEGIN:VEVENT
DTSTART;TZID=America/Phoenix:20261124T150000
DTEND;TZID=America/Phoenix:20261124T160000
DTSTAMP:20260423T060643
CREATED:20241008T145701Z
LAST-MODIFIED:20241008T153724Z
UID:10005341-1795532400-1795536000@www.hocrn.org
SUMMARY:Caregiver Support
DESCRIPTION:
URL:https://www.hocrn.org/event/caregiver-support/2026-11-24
LOCATION:Methodist Church
CATEGORIES:Community Events & Meetings
END:VEVENT
BEGIN:VEVENT
DTSTART;TZID=America/Phoenix:20261201T150000
DTEND;TZID=America/Phoenix:20261201T160000
DTSTAMP:20260423T060643
CREATED:20241008T145701Z
LAST-MODIFIED:20241008T153724Z
UID:10005342-1796137200-1796140800@www.hocrn.org
SUMMARY:Caregiver Support
DESCRIPTION:
URL:https://www.hocrn.org/event/caregiver-support/2026-12-01
LOCATION:Methodist Church
CATEGORIES:Community Events & Meetings
END:VEVENT
BEGIN:VEVENT
DTSTART;TZID=America/Phoenix:20261208T150000
DTEND;TZID=America/Phoenix:20261208T160000
DTSTAMP:20260423T060643
CREATED:20241008T145701Z
LAST-MODIFIED:20241008T153724Z
UID:10005343-1796742000-1796745600@www.hocrn.org
SUMMARY:Caregiver Support
DESCRIPTION:
URL:https://www.hocrn.org/event/caregiver-support/2026-12-08
LOCATION:Methodist Church
CATEGORIES:Community Events & Meetings
END:VEVENT
BEGIN:VEVENT
DTSTART;TZID=America/Phoenix:20261215T150000
DTEND;TZID=America/Phoenix:20261215T160000
DTSTAMP:20260423T060643
CREATED:20241008T145701Z
LAST-MODIFIED:20241008T153724Z
UID:10005344-1797346800-1797350400@www.hocrn.org
SUMMARY:Caregiver Support
DESCRIPTION:
URL:https://www.hocrn.org/event/caregiver-support/2026-12-15
LOCATION:Methodist Church
CATEGORIES:Community Events & Meetings
END:VEVENT
BEGIN:VEVENT
DTSTART;TZID=America/Phoenix:20261222T150000
DTEND;TZID=America/Phoenix:20261222T160000
DTSTAMP:20260423T060643
CREATED:20241008T145701Z
LAST-MODIFIED:20241008T153724Z
UID:10005345-1797951600-1797955200@www.hocrn.org
SUMMARY:Caregiver Support
DESCRIPTION:
URL:https://www.hocrn.org/event/caregiver-support/2026-12-22
LOCATION:Methodist Church
CATEGORIES:Community Events & Meetings
END:VEVENT
BEGIN:VEVENT
DTSTART;TZID=America/Phoenix:20261229T150000
DTEND;TZID=America/Phoenix:20261229T160000
DTSTAMP:20260423T060643
CREATED:20241008T145701Z
LAST-MODIFIED:20241008T153724Z
UID:10005346-1798556400-1798560000@www.hocrn.org
SUMMARY:Caregiver Support
DESCRIPTION:
URL:https://www.hocrn.org/event/caregiver-support/2026-12-29
LOCATION:Methodist Church
CATEGORIES:Community Events & Meetings
END:VEVENT
BEGIN:VEVENT
DTSTART;TZID=America/Phoenix:20270105T150000
DTEND;TZID=America/Phoenix:20270105T160000
DTSTAMP:20260423T060643
CREATED:20241008T145701Z
LAST-MODIFIED:20241008T153724Z
UID:10005347-1799161200-1799164800@www.hocrn.org
SUMMARY:Caregiver Support
DESCRIPTION:
URL:https://www.hocrn.org/event/caregiver-support/2027-01-05
LOCATION:Methodist Church
CATEGORIES:Community Events & Meetings
END:VEVENT
BEGIN:VEVENT
DTSTART;TZID=America/Phoenix:20270112T150000
DTEND;TZID=America/Phoenix:20270112T160000
DTSTAMP:20260423T060643
CREATED:20241008T145701Z
LAST-MODIFIED:20241008T153724Z
UID:10005348-1799766000-1799769600@www.hocrn.org
SUMMARY:Caregiver Support
DESCRIPTION:
URL:https://www.hocrn.org/event/caregiver-support/2027-01-12
LOCATION:Methodist Church
CATEGORIES:Community Events & Meetings
END:VEVENT
BEGIN:VEVENT
DTSTART;TZID=America/Phoenix:20270119T150000
DTEND;TZID=America/Phoenix:20270119T160000
DTSTAMP:20260423T060643
CREATED:20241008T145701Z
LAST-MODIFIED:20241008T153724Z
UID:10005349-1800370800-1800374400@www.hocrn.org
SUMMARY:Caregiver Support
DESCRIPTION:
URL:https://www.hocrn.org/event/caregiver-support/2027-01-19
LOCATION:Methodist Church
CATEGORIES:Community Events & Meetings
END:VEVENT
BEGIN:VEVENT
DTSTART;TZID=America/Phoenix:20270126T150000
DTEND;TZID=America/Phoenix:20270126T160000
DTSTAMP:20260423T060643
CREATED:20241008T145701Z
LAST-MODIFIED:20241008T153724Z
UID:10005350-1800975600-1800979200@www.hocrn.org
SUMMARY:Caregiver Support
DESCRIPTION:
URL:https://www.hocrn.org/event/caregiver-support/2027-01-26
LOCATION:Methodist Church
CATEGORIES:Community Events & Meetings
END:VEVENT
END:VCALENDAR