BEGIN:VCALENDAR
VERSION:2.0
PRODID:-//Heber Overgaard Community Resource Network - ECPv6.15.17.1//NONSGML v1.0//EN
CALSCALE:GREGORIAN
METHOD:PUBLISH
X-WR-CALNAME:Heber Overgaard Community Resource Network
X-ORIGINAL-URL:https://www.hocrn.org
X-WR-CALDESC:Events for Heber Overgaard Community Resource Network
REFRESH-INTERVAL;VALUE=DURATION:PT1H
X-Robots-Tag:noindex
X-PUBLISHED-TTL:PT1H
BEGIN:VTIMEZONE
TZID:America/Phoenix
BEGIN:STANDARD
TZOFFSETFROM:-0700
TZOFFSETTO:-0700
TZNAME:MST
DTSTART:20240101T000000
END:STANDARD
END:VTIMEZONE
BEGIN:VEVENT
DTSTART;TZID=America/Phoenix:20260118T100000
DTEND;TZID=America/Phoenix:20260118T110000
DTSTAMP:20260425T060637
CREATED:20241008T152933Z
LAST-MODIFIED:20241008T154803Z
UID:10008416-1768730400-1768734000@www.hocrn.org
SUMMARY:AA Meeting
DESCRIPTION:
URL:https://www.hocrn.org/event/aa-meeting-2/2026-01-18
LOCATION:Library
CATEGORIES:Community Events & Meetings
END:VEVENT
BEGIN:VEVENT
DTSTART;TZID=America/Phoenix:20260117T120000
DTEND;TZID=America/Phoenix:20260117T140000
DTSTAMP:20260425T060637
CREATED:20241008T152736Z
LAST-MODIFIED:20241008T154651Z
UID:10008156-1768651200-1768658400@www.hocrn.org
SUMMARY:AA Meeting
DESCRIPTION:
URL:https://www.hocrn.org/event/aa-meeting/2026-01-17
LOCATION:Library
CATEGORIES:Community Events & Meetings
END:VEVENT
BEGIN:VEVENT
DTSTART;TZID=America/Phoenix:20260113T180000
DTEND;TZID=America/Phoenix:20260113T190000
DTSTAMP:20260425T060637
CREATED:20241008T145735Z
LAST-MODIFIED:20241008T153841Z
UID:10005556-1768327200-1768330800@www.hocrn.org
SUMMARY:Al-ANON
DESCRIPTION:
URL:https://www.hocrn.org/event/al-anon/2026-01-13
LOCATION:Library
CATEGORIES:Community Events & Meetings
END:VEVENT
BEGIN:VEVENT
DTSTART;TZID=America/Phoenix:20260111T100000
DTEND;TZID=America/Phoenix:20260111T110000
DTSTAMP:20260425T060637
CREATED:20241008T152933Z
LAST-MODIFIED:20241008T154803Z
UID:10008415-1768125600-1768129200@www.hocrn.org
SUMMARY:AA Meeting
DESCRIPTION:
URL:https://www.hocrn.org/event/aa-meeting-2/2026-01-11
LOCATION:Library
CATEGORIES:Community Events & Meetings
END:VEVENT
BEGIN:VEVENT
DTSTART;TZID=America/Phoenix:20260110T120000
DTEND;TZID=America/Phoenix:20260110T140000
DTSTAMP:20260425T060637
CREATED:20241008T152736Z
LAST-MODIFIED:20241008T154651Z
UID:10008155-1768046400-1768053600@www.hocrn.org
SUMMARY:AA Meeting
DESCRIPTION:
URL:https://www.hocrn.org/event/aa-meeting/2026-01-10
LOCATION:Library
CATEGORIES:Community Events & Meetings
END:VEVENT
BEGIN:VEVENT
DTSTART;TZID=America/Phoenix:20260106T180000
DTEND;TZID=America/Phoenix:20260106T190000
DTSTAMP:20260425T060637
CREATED:20241008T145735Z
LAST-MODIFIED:20241008T153841Z
UID:10005555-1767722400-1767726000@www.hocrn.org
SUMMARY:Al-ANON
DESCRIPTION:
URL:https://www.hocrn.org/event/al-anon/2026-01-06
LOCATION:Library
CATEGORIES:Community Events & Meetings
END:VEVENT
BEGIN:VEVENT
DTSTART;TZID=America/Phoenix:20260104T100000
DTEND;TZID=America/Phoenix:20260104T110000
DTSTAMP:20260425T060637
CREATED:20241008T152933Z
LAST-MODIFIED:20241008T154803Z
UID:10008414-1767520800-1767524400@www.hocrn.org
SUMMARY:AA Meeting
DESCRIPTION:
URL:https://www.hocrn.org/event/aa-meeting-2/2026-01-04
LOCATION:Library
CATEGORIES:Community Events & Meetings
END:VEVENT
BEGIN:VEVENT
DTSTART;TZID=America/Phoenix:20260103T120000
DTEND;TZID=America/Phoenix:20260103T140000
DTSTAMP:20260425T060637
CREATED:20241008T152736Z
LAST-MODIFIED:20241008T154651Z
UID:10008154-1767441600-1767448800@www.hocrn.org
SUMMARY:AA Meeting
DESCRIPTION:
URL:https://www.hocrn.org/event/aa-meeting/2026-01-03
LOCATION:Library
CATEGORIES:Community Events & Meetings
END:VEVENT
BEGIN:VEVENT
DTSTART;TZID=America/Phoenix:20251230T180000
DTEND;TZID=America/Phoenix:20251230T190000
DTSTAMP:20260425T060637
CREATED:20241008T145735Z
LAST-MODIFIED:20241008T153841Z
UID:10005554-1767117600-1767121200@www.hocrn.org
SUMMARY:Al-ANON
DESCRIPTION:
URL:https://www.hocrn.org/event/al-anon/2025-12-30
LOCATION:Library
CATEGORIES:Community Events & Meetings
END:VEVENT
BEGIN:VEVENT
DTSTART;TZID=America/Phoenix:20251228T100000
DTEND;TZID=America/Phoenix:20251228T110000
DTSTAMP:20260425T060637
CREATED:20241008T152933Z
LAST-MODIFIED:20241008T154803Z
UID:10008413-1766916000-1766919600@www.hocrn.org
SUMMARY:AA Meeting
DESCRIPTION:
URL:https://www.hocrn.org/event/aa-meeting-2/2025-12-28
LOCATION:Library
CATEGORIES:Community Events & Meetings
END:VEVENT
BEGIN:VEVENT
DTSTART;TZID=America/Phoenix:20251227T120000
DTEND;TZID=America/Phoenix:20251227T140000
DTSTAMP:20260425T060637
CREATED:20241008T152736Z
LAST-MODIFIED:20241008T154651Z
UID:10008153-1766836800-1766844000@www.hocrn.org
SUMMARY:AA Meeting
DESCRIPTION:
URL:https://www.hocrn.org/event/aa-meeting/2025-12-27
LOCATION:Library
CATEGORIES:Community Events & Meetings
END:VEVENT
BEGIN:VEVENT
DTSTART;TZID=America/Phoenix:20251223T180000
DTEND;TZID=America/Phoenix:20251223T190000
DTSTAMP:20260425T060637
CREATED:20241008T145735Z
LAST-MODIFIED:20241008T153841Z
UID:10005553-1766512800-1766516400@www.hocrn.org
SUMMARY:Al-ANON
DESCRIPTION:
URL:https://www.hocrn.org/event/al-anon/2025-12-23
LOCATION:Library
CATEGORIES:Community Events & Meetings
END:VEVENT
BEGIN:VEVENT
DTSTART;TZID=America/Phoenix:20251221T100000
DTEND;TZID=America/Phoenix:20251221T110000
DTSTAMP:20260425T060637
CREATED:20241008T152933Z
LAST-MODIFIED:20241008T154803Z
UID:10008412-1766311200-1766314800@www.hocrn.org
SUMMARY:AA Meeting
DESCRIPTION:
URL:https://www.hocrn.org/event/aa-meeting-2/2025-12-21
LOCATION:Library
CATEGORIES:Community Events & Meetings
END:VEVENT
BEGIN:VEVENT
DTSTART;TZID=America/Phoenix:20251220T120000
DTEND;TZID=America/Phoenix:20251220T140000
DTSTAMP:20260425T060637
CREATED:20241008T152736Z
LAST-MODIFIED:20241008T154651Z
UID:10008152-1766232000-1766239200@www.hocrn.org
SUMMARY:AA Meeting
DESCRIPTION:
URL:https://www.hocrn.org/event/aa-meeting/2025-12-20
LOCATION:Library
CATEGORIES:Community Events & Meetings
END:VEVENT
BEGIN:VEVENT
DTSTART;TZID=America/Phoenix:20251216T180000
DTEND;TZID=America/Phoenix:20251216T190000
DTSTAMP:20260425T060637
CREATED:20241008T145735Z
LAST-MODIFIED:20241008T153841Z
UID:10005552-1765908000-1765911600@www.hocrn.org
SUMMARY:Al-ANON
DESCRIPTION:
URL:https://www.hocrn.org/event/al-anon/2025-12-16
LOCATION:Library
CATEGORIES:Community Events & Meetings
END:VEVENT
BEGIN:VEVENT
DTSTART;TZID=America/Phoenix:20251214T100000
DTEND;TZID=America/Phoenix:20251214T110000
DTSTAMP:20260425T060637
CREATED:20241008T152933Z
LAST-MODIFIED:20241008T154803Z
UID:10008411-1765706400-1765710000@www.hocrn.org
SUMMARY:AA Meeting
DESCRIPTION:
URL:https://www.hocrn.org/event/aa-meeting-2/2025-12-14
LOCATION:Library
CATEGORIES:Community Events & Meetings
END:VEVENT
BEGIN:VEVENT
DTSTART;TZID=America/Phoenix:20251213T120000
DTEND;TZID=America/Phoenix:20251213T140000
DTSTAMP:20260425T060637
CREATED:20241008T152736Z
LAST-MODIFIED:20241008T154651Z
UID:10008151-1765627200-1765634400@www.hocrn.org
SUMMARY:AA Meeting
DESCRIPTION:
URL:https://www.hocrn.org/event/aa-meeting/2025-12-13
LOCATION:Library
CATEGORIES:Community Events & Meetings
END:VEVENT
BEGIN:VEVENT
DTSTART;TZID=America/Phoenix:20251209T180000
DTEND;TZID=America/Phoenix:20251209T190000
DTSTAMP:20260425T060637
CREATED:20241008T145735Z
LAST-MODIFIED:20241008T153841Z
UID:10005551-1765303200-1765306800@www.hocrn.org
SUMMARY:Al-ANON
DESCRIPTION:
URL:https://www.hocrn.org/event/al-anon/2025-12-09
LOCATION:Library
CATEGORIES:Community Events & Meetings
END:VEVENT
BEGIN:VEVENT
DTSTART;TZID=America/Phoenix:20251207T100000
DTEND;TZID=America/Phoenix:20251207T110000
DTSTAMP:20260425T060637
CREATED:20241008T152933Z
LAST-MODIFIED:20241008T154803Z
UID:10008410-1765101600-1765105200@www.hocrn.org
SUMMARY:AA Meeting
DESCRIPTION:
URL:https://www.hocrn.org/event/aa-meeting-2/2025-12-07
LOCATION:Library
CATEGORIES:Community Events & Meetings
END:VEVENT
BEGIN:VEVENT
DTSTART;TZID=America/Phoenix:20251206T120000
DTEND;TZID=America/Phoenix:20251206T140000
DTSTAMP:20260425T060637
CREATED:20241008T152736Z
LAST-MODIFIED:20241008T154651Z
UID:10008150-1765022400-1765029600@www.hocrn.org
SUMMARY:AA Meeting
DESCRIPTION:
URL:https://www.hocrn.org/event/aa-meeting/2025-12-06
LOCATION:Library
CATEGORIES:Community Events & Meetings
END:VEVENT
BEGIN:VEVENT
DTSTART;TZID=America/Phoenix:20251202T180000
DTEND;TZID=America/Phoenix:20251202T190000
DTSTAMP:20260425T060637
CREATED:20241008T145735Z
LAST-MODIFIED:20241008T153841Z
UID:10005550-1764698400-1764702000@www.hocrn.org
SUMMARY:Al-ANON
DESCRIPTION:
URL:https://www.hocrn.org/event/al-anon/2025-12-02
LOCATION:Library
CATEGORIES:Community Events & Meetings
END:VEVENT
BEGIN:VEVENT
DTSTART;TZID=America/Phoenix:20251130T100000
DTEND;TZID=America/Phoenix:20251130T110000
DTSTAMP:20260425T060637
CREATED:20241008T152933Z
LAST-MODIFIED:20241008T154803Z
UID:10008409-1764496800-1764500400@www.hocrn.org
SUMMARY:AA Meeting
DESCRIPTION:
URL:https://www.hocrn.org/event/aa-meeting-2/2025-11-30
LOCATION:Library
CATEGORIES:Community Events & Meetings
END:VEVENT
BEGIN:VEVENT
DTSTART;TZID=America/Phoenix:20251129T120000
DTEND;TZID=America/Phoenix:20251129T140000
DTSTAMP:20260425T060637
CREATED:20241008T152736Z
LAST-MODIFIED:20241008T154651Z
UID:10008149-1764417600-1764424800@www.hocrn.org
SUMMARY:AA Meeting
DESCRIPTION:
URL:https://www.hocrn.org/event/aa-meeting/2025-11-29
LOCATION:Library
CATEGORIES:Community Events & Meetings
END:VEVENT
BEGIN:VEVENT
DTSTART;TZID=America/Phoenix:20251125T180000
DTEND;TZID=America/Phoenix:20251125T190000
DTSTAMP:20260425T060637
CREATED:20241008T145735Z
LAST-MODIFIED:20241008T153841Z
UID:10005549-1764093600-1764097200@www.hocrn.org
SUMMARY:Al-ANON
DESCRIPTION:
URL:https://www.hocrn.org/event/al-anon/2025-11-25
LOCATION:Library
CATEGORIES:Community Events & Meetings
END:VEVENT
BEGIN:VEVENT
DTSTART;TZID=America/Phoenix:20251123T100000
DTEND;TZID=America/Phoenix:20251123T110000
DTSTAMP:20260425T060637
CREATED:20241008T152933Z
LAST-MODIFIED:20241008T154803Z
UID:10008408-1763892000-1763895600@www.hocrn.org
SUMMARY:AA Meeting
DESCRIPTION:
URL:https://www.hocrn.org/event/aa-meeting-2/2025-11-23
LOCATION:Library
CATEGORIES:Community Events & Meetings
END:VEVENT
BEGIN:VEVENT
DTSTART;TZID=America/Phoenix:20251122T120000
DTEND;TZID=America/Phoenix:20251122T140000
DTSTAMP:20260425T060637
CREATED:20241008T152736Z
LAST-MODIFIED:20241008T154651Z
UID:10008148-1763812800-1763820000@www.hocrn.org
SUMMARY:AA Meeting
DESCRIPTION:
URL:https://www.hocrn.org/event/aa-meeting/2025-11-22
LOCATION:Library
CATEGORIES:Community Events & Meetings
END:VEVENT
BEGIN:VEVENT
DTSTART;TZID=America/Phoenix:20251118T180000
DTEND;TZID=America/Phoenix:20251118T190000
DTSTAMP:20260425T060637
CREATED:20241008T145735Z
LAST-MODIFIED:20241008T153841Z
UID:10005548-1763488800-1763492400@www.hocrn.org
SUMMARY:Al-ANON
DESCRIPTION:
URL:https://www.hocrn.org/event/al-anon/2025-11-18
LOCATION:Library
CATEGORIES:Community Events & Meetings
END:VEVENT
BEGIN:VEVENT
DTSTART;TZID=America/Phoenix:20251116T100000
DTEND;TZID=America/Phoenix:20251116T110000
DTSTAMP:20260425T060637
CREATED:20241008T152933Z
LAST-MODIFIED:20241008T154803Z
UID:10008407-1763287200-1763290800@www.hocrn.org
SUMMARY:AA Meeting
DESCRIPTION:
URL:https://www.hocrn.org/event/aa-meeting-2/2025-11-16
LOCATION:Library
CATEGORIES:Community Events & Meetings
END:VEVENT
BEGIN:VEVENT
DTSTART;TZID=America/Phoenix:20251115T120000
DTEND;TZID=America/Phoenix:20251115T140000
DTSTAMP:20260425T060637
CREATED:20241008T152736Z
LAST-MODIFIED:20241008T154651Z
UID:10008147-1763208000-1763215200@www.hocrn.org
SUMMARY:AA Meeting
DESCRIPTION:
URL:https://www.hocrn.org/event/aa-meeting/2025-11-15
LOCATION:Library
CATEGORIES:Community Events & Meetings
END:VEVENT
BEGIN:VEVENT
DTSTART;TZID=America/Phoenix:20251111T180000
DTEND;TZID=America/Phoenix:20251111T190000
DTSTAMP:20260425T060637
CREATED:20241008T145735Z
LAST-MODIFIED:20241008T153841Z
UID:10005547-1762884000-1762887600@www.hocrn.org
SUMMARY:Al-ANON
DESCRIPTION:
URL:https://www.hocrn.org/event/al-anon/2025-11-11
LOCATION:Library
CATEGORIES:Community Events & Meetings
END:VEVENT
END:VCALENDAR