BEGIN:VCALENDAR
VERSION:2.0
PRODID:-//Heber Overgaard Community Resource Network - ECPv6.15.17.1//NONSGML v1.0//EN
CALSCALE:GREGORIAN
METHOD:PUBLISH
X-ORIGINAL-URL:https://www.hocrn.org
X-WR-CALDESC:Events for Heber Overgaard Community Resource Network
REFRESH-INTERVAL;VALUE=DURATION:PT1H
X-Robots-Tag:noindex
X-PUBLISHED-TTL:PT1H
BEGIN:VTIMEZONE
TZID:America/Phoenix
BEGIN:STANDARD
TZOFFSETFROM:-0700
TZOFFSETTO:-0700
TZNAME:MST
DTSTART:20250101T000000
END:STANDARD
END:VTIMEZONE
BEGIN:VEVENT
DTSTART;TZID=America/Phoenix:20261211T090000
DTEND;TZID=America/Phoenix:20261211T160000
DTSTAMP:20260419T051301
CREATED:20241008T152857Z
LAST-MODIFIED:20241008T153144Z
UID:10003451-1796979600-1797004800@www.hocrn.org
SUMMARY:Chamber Open
DESCRIPTION:
URL:https://www.hocrn.org/event/chamber-open-5/2026-12-11
CATEGORIES:Community Events & Meetings
END:VEVENT
BEGIN:VEVENT
DTSTART;TZID=America/Phoenix:20261211T110000
DTEND;TZID=America/Phoenix:20261211T140000
DTSTAMP:20260419T051301
CREATED:20241008T152416Z
LAST-MODIFIED:20241008T154423Z
UID:10006903-1796986800-1796997600@www.hocrn.org
SUMMARY:Library Open
DESCRIPTION:
URL:https://www.hocrn.org/event/library-open-3/2026-12-11
CATEGORIES:Community Events & Meetings
END:VEVENT
BEGIN:VEVENT
DTSTART;VALUE=DATE:20261212
DTEND;VALUE=DATE:20261213
DTSTAMP:20260419T051301
CREATED:20241008T152808Z
LAST-MODIFIED:20241008T154540Z
UID:10007275-1797033600-1797119999@www.hocrn.org
SUMMARY:RCSC Closed
DESCRIPTION:
URL:https://www.hocrn.org/event/rcsc-closed-2/2026-12-12
CATEGORIES:Community Events & Meetings
END:VEVENT
BEGIN:VEVENT
DTSTART;VALUE=DATE:20261212
DTEND;VALUE=DATE:20261213
DTSTAMP:20260419T051301
CREATED:20241008T152829Z
LAST-MODIFIED:20241008T154558Z
UID:10007795-1797033600-1797119999@www.hocrn.org
SUMMARY:Library Closed
DESCRIPTION:
URL:https://www.hocrn.org/event/library-closed-2/2026-12-12
CATEGORIES:Community Events & Meetings
END:VEVENT
BEGIN:VEVENT
DTSTART;TZID=America/Phoenix:20261212T090000
DTEND;TZID=America/Phoenix:20261212T160000
DTSTAMP:20260419T051301
CREATED:20241008T152857Z
LAST-MODIFIED:20241008T153144Z
UID:10003452-1797066000-1797091200@www.hocrn.org
SUMMARY:Chamber Open
DESCRIPTION:
URL:https://www.hocrn.org/event/chamber-open-5/2026-12-12
CATEGORIES:Community Events & Meetings
END:VEVENT
BEGIN:VEVENT
DTSTART;TZID=America/Phoenix:20261212T120000
DTEND;TZID=America/Phoenix:20261212T140000
DTSTAMP:20260419T051301
CREATED:20241008T152736Z
LAST-MODIFIED:20241008T154651Z
UID:10008203-1797076800-1797084000@www.hocrn.org
SUMMARY:AA Meeting
DESCRIPTION:
URL:https://www.hocrn.org/event/aa-meeting/2026-12-12
LOCATION:Library
CATEGORIES:Community Events & Meetings
END:VEVENT
BEGIN:VEVENT
DTSTART;VALUE=DATE:20261213
DTEND;VALUE=DATE:20261214
DTSTAMP:20260419T051301
CREATED:20241008T152808Z
LAST-MODIFIED:20241008T154540Z
UID:10007276-1797120000-1797206399@www.hocrn.org
SUMMARY:RCSC Closed
DESCRIPTION:
URL:https://www.hocrn.org/event/rcsc-closed-2/2026-12-13
CATEGORIES:Community Events & Meetings
END:VEVENT
BEGIN:VEVENT
DTSTART;VALUE=DATE:20261213
DTEND;VALUE=DATE:20261214
DTSTAMP:20260419T051301
CREATED:20241008T152829Z
LAST-MODIFIED:20241008T154558Z
UID:10007796-1797120000-1797206399@www.hocrn.org
SUMMARY:Library Closed
DESCRIPTION:
URL:https://www.hocrn.org/event/library-closed-2/2026-12-13
CATEGORIES:Community Events & Meetings
END:VEVENT
BEGIN:VEVENT
DTSTART;TZID=America/Phoenix:20261213T090000
DTEND;TZID=America/Phoenix:20261213T160000
DTSTAMP:20260419T051301
CREATED:20241008T152857Z
LAST-MODIFIED:20241008T153144Z
UID:10003453-1797152400-1797177600@www.hocrn.org
SUMMARY:Chamber Open
DESCRIPTION:
URL:https://www.hocrn.org/event/chamber-open-5/2026-12-13
CATEGORIES:Community Events & Meetings
END:VEVENT
BEGIN:VEVENT
DTSTART;TZID=America/Phoenix:20261213T100000
DTEND;TZID=America/Phoenix:20261213T110000
DTSTAMP:20260419T051301
CREATED:20241008T152933Z
LAST-MODIFIED:20241008T154803Z
UID:10008463-1797156000-1797159600@www.hocrn.org
SUMMARY:AA Meeting
DESCRIPTION:
URL:https://www.hocrn.org/event/aa-meeting-2/2026-12-13
LOCATION:Library
CATEGORIES:Community Events & Meetings
END:VEVENT
BEGIN:VEVENT
DTSTART;TZID=America/Phoenix:20261214T090000
DTEND;TZID=America/Phoenix:20261214T160000
DTSTAMP:20260419T051301
CREATED:20241008T152857Z
LAST-MODIFIED:20241008T153144Z
UID:10003454-1797238800-1797264000@www.hocrn.org
SUMMARY:Chamber Open
DESCRIPTION:
URL:https://www.hocrn.org/event/chamber-open-5/2026-12-14
CATEGORIES:Community Events & Meetings
END:VEVENT
BEGIN:VEVENT
DTSTART;TZID=America/Phoenix:20261214T100000
DTEND;TZID=America/Phoenix:20261214T110000
DTSTAMP:20260419T051301
CREATED:20241008T153321Z
LAST-MODIFIED:20241008T153321Z
UID:10004303-1797242400-1797246000@www.hocrn.org
SUMMARY:Pine Needlers
DESCRIPTION:
URL:https://www.hocrn.org/event/pine-needlers-2/2026-12-14
CATEGORIES:Community Events & Meetings
END:VEVENT
BEGIN:VEVENT
DTSTART;VALUE=DATE:20261215
DTEND;VALUE=DATE:20261216
DTSTAMP:20260419T051301
CREATED:20241008T145455Z
LAST-MODIFIED:20241008T153046Z
UID:10002595-1797292800-1797379199@www.hocrn.org
SUMMARY:Chamber Closed
DESCRIPTION:
URL:https://www.hocrn.org/event/chamber-closed/2026-12-15
CATEGORIES:Community Events & Meetings
END:VEVENT
BEGIN:VEVENT
DTSTART;TZID=America/Phoenix:20261215T090000
DTEND;TZID=America/Phoenix:20261215T130000
DTSTAMP:20260419T051301
CREATED:20241008T153522Z
LAST-MODIFIED:20241008T154045Z
UID:10004677-1797325200-1797339600@www.hocrn.org
SUMMARY:RCSC Open
DESCRIPTION:
URL:https://www.hocrn.org/event/rcsc-open-4/2026-12-15
CATEGORIES:Community Events & Meetings
END:VEVENT
BEGIN:VEVENT
DTSTART;TZID=America/Phoenix:20261215T090000
DTEND;TZID=America/Phoenix:20261215T160000
DTSTAMP:20260419T051301
CREATED:20241008T054305Z
LAST-MODIFIED:20241008T062314Z
UID:10001866-1797325200-1797350400@www.hocrn.org
SUMMARY:HOCRN Transport
DESCRIPTION:
URL:https://www.hocrn.org/event/hocrn-transport/2026-12-15
CATEGORIES:HOCRN Events & Meetings
END:VEVENT
BEGIN:VEVENT
DTSTART;TZID=America/Phoenix:20261215T110000
DTEND;TZID=America/Phoenix:20261215T170000
DTSTAMP:20260419T051301
CREATED:20241008T145610Z
LAST-MODIFIED:20241008T153621Z
UID:10005084-1797332400-1797354000@www.hocrn.org
SUMMARY:Library Open
DESCRIPTION:
URL:https://www.hocrn.org/event/library-open/2026-12-15
CATEGORIES:Community Events & Meetings
END:VEVENT
BEGIN:VEVENT
DTSTART;TZID=America/Phoenix:20261215T150000
DTEND;TZID=America/Phoenix:20261215T160000
DTSTAMP:20260419T051301
CREATED:20241008T145701Z
LAST-MODIFIED:20241008T153724Z
UID:10005344-1797346800-1797350400@www.hocrn.org
SUMMARY:Caregiver Support
DESCRIPTION:
URL:https://www.hocrn.org/event/caregiver-support/2026-12-15
LOCATION:Methodist Church
CATEGORIES:Community Events & Meetings
END:VEVENT
BEGIN:VEVENT
DTSTART;TZID=America/Phoenix:20261215T180000
DTEND;TZID=America/Phoenix:20261215T190000
DTSTAMP:20260419T051301
CREATED:20241008T145735Z
LAST-MODIFIED:20241008T153841Z
UID:10005604-1797357600-1797361200@www.hocrn.org
SUMMARY:Al-ANON
DESCRIPTION:
URL:https://www.hocrn.org/event/al-anon/2026-12-15
LOCATION:Library
CATEGORIES:Community Events & Meetings
END:VEVENT
BEGIN:VEVENT
DTSTART;VALUE=DATE:20261216
DTEND;VALUE=DATE:20261217
DTSTAMP:20260419T051301
CREATED:20241008T145455Z
LAST-MODIFIED:20241008T153046Z
UID:10002596-1797379200-1797465599@www.hocrn.org
SUMMARY:Chamber Closed
DESCRIPTION:
URL:https://www.hocrn.org/event/chamber-closed/2026-12-16
CATEGORIES:Community Events & Meetings
END:VEVENT
BEGIN:VEVENT
DTSTART;TZID=America/Phoenix:20261216T090000
DTEND;TZID=America/Phoenix:20261216T130000
DTSTAMP:20260419T051301
CREATED:20241008T153522Z
LAST-MODIFIED:20241008T154045Z
UID:10005864-1797411600-1797426000@www.hocrn.org
SUMMARY:RCSC Open
DESCRIPTION:
URL:https://www.hocrn.org/event/rcsc-open-4/2026-12-16
CATEGORIES:Community Events & Meetings
END:VEVENT
BEGIN:VEVENT
DTSTART;TZID=America/Phoenix:20261216T110000
DTEND;TZID=America/Phoenix:20261216T160000
DTSTAMP:20260419T051301
CREATED:20241008T150017Z
LAST-MODIFIED:20241008T154137Z
UID:10006124-1797418800-1797436800@www.hocrn.org
SUMMARY:Library Open
DESCRIPTION:
URL:https://www.hocrn.org/event/library-open-2/2026-12-16
CATEGORIES:Community Events & Meetings
END:VEVENT
BEGIN:VEVENT
DTSTART;TZID=America/Phoenix:20261217T090000
DTEND;TZID=America/Phoenix:20261217T160000
DTSTAMP:20260419T051301
CREATED:20241008T054305Z
LAST-MODIFIED:20241008T062314Z
UID:10001867-1797498000-1797523200@www.hocrn.org
SUMMARY:HOCRN Transport
DESCRIPTION:
URL:https://www.hocrn.org/event/hocrn-transport/2026-12-17
CATEGORIES:HOCRN Events & Meetings
END:VEVENT
BEGIN:VEVENT
DTSTART;TZID=America/Phoenix:20261217T090000
DTEND;TZID=America/Phoenix:20261217T160000
DTSTAMP:20260419T051301
CREATED:20241008T152857Z
LAST-MODIFIED:20241008T153144Z
UID:10003455-1797498000-1797523200@www.hocrn.org
SUMMARY:Chamber Open
DESCRIPTION:
URL:https://www.hocrn.org/event/chamber-open-5/2026-12-17
CATEGORIES:Community Events & Meetings
END:VEVENT
BEGIN:VEVENT
DTSTART;TZID=America/Phoenix:20261217T173000
DTEND;TZID=America/Phoenix:20261217T183000
DTSTAMP:20260419T051301
CREATED:20241008T150507Z
LAST-MODIFIED:20241008T154238Z
UID:10006384-1797528600-1797532200@www.hocrn.org
SUMMARY:Girl Scouts (RSCS)
DESCRIPTION:
URL:https://www.hocrn.org/event/girl-scouts-rscs/2026-12-17
CATEGORIES:Community Events & Meetings
END:VEVENT
BEGIN:VEVENT
DTSTART;TZID=America/Phoenix:20261218T090000
DTEND;TZID=America/Phoenix:20261218T100000
DTSTAMP:20260419T051301
CREATED:20241008T152154Z
LAST-MODIFIED:20241008T154335Z
UID:10006644-1797584400-1797588000@www.hocrn.org
SUMMARY:Bible Study
DESCRIPTION:
URL:https://www.hocrn.org/event/bible-study/2026-12-18
LOCATION:Lutheran Church
CATEGORIES:Community Events & Meetings
END:VEVENT
BEGIN:VEVENT
DTSTART;TZID=America/Phoenix:20261218T090000
DTEND;TZID=America/Phoenix:20261218T130000
DTSTAMP:20260419T051301
CREATED:20241008T153522Z
LAST-MODIFIED:20241008T154045Z
UID:10004678-1797584400-1797598800@www.hocrn.org
SUMMARY:RCSC Open
DESCRIPTION:
URL:https://www.hocrn.org/event/rcsc-open-4/2026-12-18
CATEGORIES:Community Events & Meetings
END:VEVENT
BEGIN:VEVENT
DTSTART;TZID=America/Phoenix:20261218T090000
DTEND;TZID=America/Phoenix:20261218T160000
DTSTAMP:20260419T051301
CREATED:20241008T152857Z
LAST-MODIFIED:20241008T153144Z
UID:10003456-1797584400-1797609600@www.hocrn.org
SUMMARY:Chamber Open
DESCRIPTION:
URL:https://www.hocrn.org/event/chamber-open-5/2026-12-18
CATEGORIES:Community Events & Meetings
END:VEVENT
BEGIN:VEVENT
DTSTART;TZID=America/Phoenix:20261218T110000
DTEND;TZID=America/Phoenix:20261218T140000
DTSTAMP:20260419T051301
CREATED:20241008T152416Z
LAST-MODIFIED:20241008T154423Z
UID:10006904-1797591600-1797602400@www.hocrn.org
SUMMARY:Library Open
DESCRIPTION:
URL:https://www.hocrn.org/event/library-open-3/2026-12-18
CATEGORIES:Community Events & Meetings
END:VEVENT
BEGIN:VEVENT
DTSTART;VALUE=DATE:20261219
DTEND;VALUE=DATE:20261220
DTSTAMP:20260419T051301
CREATED:20241008T152808Z
LAST-MODIFIED:20241008T154540Z
UID:10007277-1797638400-1797724799@www.hocrn.org
SUMMARY:RCSC Closed
DESCRIPTION:
URL:https://www.hocrn.org/event/rcsc-closed-2/2026-12-19
CATEGORIES:Community Events & Meetings
END:VEVENT
BEGIN:VEVENT
DTSTART;VALUE=DATE:20261219
DTEND;VALUE=DATE:20261220
DTSTAMP:20260419T051301
CREATED:20241008T152829Z
LAST-MODIFIED:20241008T154558Z
UID:10007797-1797638400-1797724799@www.hocrn.org
SUMMARY:Library Closed
DESCRIPTION:
URL:https://www.hocrn.org/event/library-closed-2/2026-12-19
CATEGORIES:Community Events & Meetings
END:VEVENT
END:VCALENDAR