BEGIN:VCALENDAR
VERSION:2.0
PRODID:-//Heber Overgaard Community Resource Network - ECPv6.15.17.1//NONSGML v1.0//EN
CALSCALE:GREGORIAN
METHOD:PUBLISH
X-WR-CALNAME:Heber Overgaard Community Resource Network
X-ORIGINAL-URL:https://www.hocrn.org
X-WR-CALDESC:Events for Heber Overgaard Community Resource Network
REFRESH-INTERVAL;VALUE=DURATION:PT1H
X-Robots-Tag:noindex
X-PUBLISHED-TTL:PT1H
BEGIN:VTIMEZONE
TZID:America/Phoenix
BEGIN:STANDARD
TZOFFSETFROM:-0700
TZOFFSETTO:-0700
TZNAME:MST
DTSTART:20250101T000000
END:STANDARD
END:VTIMEZONE
BEGIN:VEVENT
DTSTART;TZID=America/Phoenix:20260426T100000
DTEND;TZID=America/Phoenix:20260426T110000
DTSTAMP:20260421T005216
CREATED:20241008T152933Z
LAST-MODIFIED:20241008T154803Z
UID:10008430-1777197600-1777201200@www.hocrn.org
SUMMARY:AA Meeting
DESCRIPTION:
URL:https://www.hocrn.org/event/aa-meeting-2/2026-04-26
LOCATION:Library
CATEGORIES:Community Events & Meetings
END:VEVENT
BEGIN:VEVENT
DTSTART;TZID=America/Phoenix:20260503T100000
DTEND;TZID=America/Phoenix:20260503T110000
DTSTAMP:20260421T005216
CREATED:20241008T152933Z
LAST-MODIFIED:20241008T154803Z
UID:10008431-1777802400-1777806000@www.hocrn.org
SUMMARY:AA Meeting
DESCRIPTION:
URL:https://www.hocrn.org/event/aa-meeting-2/2026-05-03
LOCATION:Library
CATEGORIES:Community Events & Meetings
END:VEVENT
BEGIN:VEVENT
DTSTART;TZID=America/Phoenix:20260510T100000
DTEND;TZID=America/Phoenix:20260510T110000
DTSTAMP:20260421T005216
CREATED:20241008T152933Z
LAST-MODIFIED:20241008T154803Z
UID:10008432-1778407200-1778410800@www.hocrn.org
SUMMARY:AA Meeting
DESCRIPTION:
URL:https://www.hocrn.org/event/aa-meeting-2/2026-05-10
LOCATION:Library
CATEGORIES:Community Events & Meetings
END:VEVENT
BEGIN:VEVENT
DTSTART;TZID=America/Phoenix:20260517T100000
DTEND;TZID=America/Phoenix:20260517T110000
DTSTAMP:20260421T005216
CREATED:20241008T152933Z
LAST-MODIFIED:20241008T154803Z
UID:10008433-1779012000-1779015600@www.hocrn.org
SUMMARY:AA Meeting
DESCRIPTION:
URL:https://www.hocrn.org/event/aa-meeting-2/2026-05-17
LOCATION:Library
CATEGORIES:Community Events & Meetings
END:VEVENT
BEGIN:VEVENT
DTSTART;TZID=America/Phoenix:20260524T100000
DTEND;TZID=America/Phoenix:20260524T110000
DTSTAMP:20260421T005216
CREATED:20241008T152933Z
LAST-MODIFIED:20241008T154803Z
UID:10008434-1779616800-1779620400@www.hocrn.org
SUMMARY:AA Meeting
DESCRIPTION:
URL:https://www.hocrn.org/event/aa-meeting-2/2026-05-24
LOCATION:Library
CATEGORIES:Community Events & Meetings
END:VEVENT
BEGIN:VEVENT
DTSTART;TZID=America/Phoenix:20260531T100000
DTEND;TZID=America/Phoenix:20260531T110000
DTSTAMP:20260421T005216
CREATED:20241008T152933Z
LAST-MODIFIED:20241008T154803Z
UID:10008435-1780221600-1780225200@www.hocrn.org
SUMMARY:AA Meeting
DESCRIPTION:
URL:https://www.hocrn.org/event/aa-meeting-2/2026-05-31
LOCATION:Library
CATEGORIES:Community Events & Meetings
END:VEVENT
BEGIN:VEVENT
DTSTART;TZID=America/Phoenix:20260607T100000
DTEND;TZID=America/Phoenix:20260607T110000
DTSTAMP:20260421T005216
CREATED:20241008T152933Z
LAST-MODIFIED:20241008T154803Z
UID:10008436-1780826400-1780830000@www.hocrn.org
SUMMARY:AA Meeting
DESCRIPTION:
URL:https://www.hocrn.org/event/aa-meeting-2/2026-06-07
LOCATION:Library
CATEGORIES:Community Events & Meetings
END:VEVENT
BEGIN:VEVENT
DTSTART;TZID=America/Phoenix:20260614T100000
DTEND;TZID=America/Phoenix:20260614T110000
DTSTAMP:20260421T005216
CREATED:20241008T152933Z
LAST-MODIFIED:20241008T154803Z
UID:10008437-1781431200-1781434800@www.hocrn.org
SUMMARY:AA Meeting
DESCRIPTION:
URL:https://www.hocrn.org/event/aa-meeting-2/2026-06-14
LOCATION:Library
CATEGORIES:Community Events & Meetings
END:VEVENT
BEGIN:VEVENT
DTSTART;TZID=America/Phoenix:20260621T100000
DTEND;TZID=America/Phoenix:20260621T110000
DTSTAMP:20260421T005216
CREATED:20241008T152933Z
LAST-MODIFIED:20241008T154803Z
UID:10008438-1782036000-1782039600@www.hocrn.org
SUMMARY:AA Meeting
DESCRIPTION:
URL:https://www.hocrn.org/event/aa-meeting-2/2026-06-21
LOCATION:Library
CATEGORIES:Community Events & Meetings
END:VEVENT
BEGIN:VEVENT
DTSTART;TZID=America/Phoenix:20260628T100000
DTEND;TZID=America/Phoenix:20260628T110000
DTSTAMP:20260421T005216
CREATED:20241008T152933Z
LAST-MODIFIED:20241008T154803Z
UID:10008439-1782640800-1782644400@www.hocrn.org
SUMMARY:AA Meeting
DESCRIPTION:
URL:https://www.hocrn.org/event/aa-meeting-2/2026-06-28
LOCATION:Library
CATEGORIES:Community Events & Meetings
END:VEVENT
BEGIN:VEVENT
DTSTART;TZID=America/Phoenix:20260705T100000
DTEND;TZID=America/Phoenix:20260705T110000
DTSTAMP:20260421T005216
CREATED:20241008T152933Z
LAST-MODIFIED:20241008T154803Z
UID:10008440-1783245600-1783249200@www.hocrn.org
SUMMARY:AA Meeting
DESCRIPTION:
URL:https://www.hocrn.org/event/aa-meeting-2/2026-07-05
LOCATION:Library
CATEGORIES:Community Events & Meetings
END:VEVENT
BEGIN:VEVENT
DTSTART;TZID=America/Phoenix:20260712T100000
DTEND;TZID=America/Phoenix:20260712T110000
DTSTAMP:20260421T005216
CREATED:20241008T152933Z
LAST-MODIFIED:20241008T154803Z
UID:10008441-1783850400-1783854000@www.hocrn.org
SUMMARY:AA Meeting
DESCRIPTION:
URL:https://www.hocrn.org/event/aa-meeting-2/2026-07-12
LOCATION:Library
CATEGORIES:Community Events & Meetings
END:VEVENT
BEGIN:VEVENT
DTSTART;TZID=America/Phoenix:20260719T100000
DTEND;TZID=America/Phoenix:20260719T110000
DTSTAMP:20260421T005216
CREATED:20241008T152933Z
LAST-MODIFIED:20241008T154803Z
UID:10008442-1784455200-1784458800@www.hocrn.org
SUMMARY:AA Meeting
DESCRIPTION:
URL:https://www.hocrn.org/event/aa-meeting-2/2026-07-19
LOCATION:Library
CATEGORIES:Community Events & Meetings
END:VEVENT
BEGIN:VEVENT
DTSTART;TZID=America/Phoenix:20260726T100000
DTEND;TZID=America/Phoenix:20260726T110000
DTSTAMP:20260421T005216
CREATED:20241008T152933Z
LAST-MODIFIED:20241008T154803Z
UID:10008443-1785060000-1785063600@www.hocrn.org
SUMMARY:AA Meeting
DESCRIPTION:
URL:https://www.hocrn.org/event/aa-meeting-2/2026-07-26
LOCATION:Library
CATEGORIES:Community Events & Meetings
END:VEVENT
BEGIN:VEVENT
DTSTART;TZID=America/Phoenix:20260802T100000
DTEND;TZID=America/Phoenix:20260802T110000
DTSTAMP:20260421T005216
CREATED:20241008T152933Z
LAST-MODIFIED:20241008T154803Z
UID:10008444-1785664800-1785668400@www.hocrn.org
SUMMARY:AA Meeting
DESCRIPTION:
URL:https://www.hocrn.org/event/aa-meeting-2/2026-08-02
LOCATION:Library
CATEGORIES:Community Events & Meetings
END:VEVENT
BEGIN:VEVENT
DTSTART;TZID=America/Phoenix:20260809T100000
DTEND;TZID=America/Phoenix:20260809T110000
DTSTAMP:20260421T005216
CREATED:20241008T152933Z
LAST-MODIFIED:20241008T154803Z
UID:10008445-1786269600-1786273200@www.hocrn.org
SUMMARY:AA Meeting
DESCRIPTION:
URL:https://www.hocrn.org/event/aa-meeting-2/2026-08-09
LOCATION:Library
CATEGORIES:Community Events & Meetings
END:VEVENT
BEGIN:VEVENT
DTSTART;TZID=America/Phoenix:20260816T100000
DTEND;TZID=America/Phoenix:20260816T110000
DTSTAMP:20260421T005216
CREATED:20241008T152933Z
LAST-MODIFIED:20241008T154803Z
UID:10008446-1786874400-1786878000@www.hocrn.org
SUMMARY:AA Meeting
DESCRIPTION:
URL:https://www.hocrn.org/event/aa-meeting-2/2026-08-16
LOCATION:Library
CATEGORIES:Community Events & Meetings
END:VEVENT
BEGIN:VEVENT
DTSTART;TZID=America/Phoenix:20260823T100000
DTEND;TZID=America/Phoenix:20260823T110000
DTSTAMP:20260421T005216
CREATED:20241008T152933Z
LAST-MODIFIED:20241008T154803Z
UID:10008447-1787479200-1787482800@www.hocrn.org
SUMMARY:AA Meeting
DESCRIPTION:
URL:https://www.hocrn.org/event/aa-meeting-2/2026-08-23
LOCATION:Library
CATEGORIES:Community Events & Meetings
END:VEVENT
BEGIN:VEVENT
DTSTART;TZID=America/Phoenix:20260830T100000
DTEND;TZID=America/Phoenix:20260830T110000
DTSTAMP:20260421T005216
CREATED:20241008T152933Z
LAST-MODIFIED:20241008T154803Z
UID:10008448-1788084000-1788087600@www.hocrn.org
SUMMARY:AA Meeting
DESCRIPTION:
URL:https://www.hocrn.org/event/aa-meeting-2/2026-08-30
LOCATION:Library
CATEGORIES:Community Events & Meetings
END:VEVENT
BEGIN:VEVENT
DTSTART;TZID=America/Phoenix:20260906T100000
DTEND;TZID=America/Phoenix:20260906T110000
DTSTAMP:20260421T005216
CREATED:20241008T152933Z
LAST-MODIFIED:20241008T154803Z
UID:10008449-1788688800-1788692400@www.hocrn.org
SUMMARY:AA Meeting
DESCRIPTION:
URL:https://www.hocrn.org/event/aa-meeting-2/2026-09-06
LOCATION:Library
CATEGORIES:Community Events & Meetings
END:VEVENT
BEGIN:VEVENT
DTSTART;TZID=America/Phoenix:20260913T100000
DTEND;TZID=America/Phoenix:20260913T110000
DTSTAMP:20260421T005216
CREATED:20241008T152933Z
LAST-MODIFIED:20241008T154803Z
UID:10008450-1789293600-1789297200@www.hocrn.org
SUMMARY:AA Meeting
DESCRIPTION:
URL:https://www.hocrn.org/event/aa-meeting-2/2026-09-13
LOCATION:Library
CATEGORIES:Community Events & Meetings
END:VEVENT
BEGIN:VEVENT
DTSTART;TZID=America/Phoenix:20260920T100000
DTEND;TZID=America/Phoenix:20260920T110000
DTSTAMP:20260421T005216
CREATED:20241008T152933Z
LAST-MODIFIED:20241008T154803Z
UID:10008451-1789898400-1789902000@www.hocrn.org
SUMMARY:AA Meeting
DESCRIPTION:
URL:https://www.hocrn.org/event/aa-meeting-2/2026-09-20
LOCATION:Library
CATEGORIES:Community Events & Meetings
END:VEVENT
BEGIN:VEVENT
DTSTART;TZID=America/Phoenix:20260927T100000
DTEND;TZID=America/Phoenix:20260927T110000
DTSTAMP:20260421T005216
CREATED:20241008T152933Z
LAST-MODIFIED:20241008T154803Z
UID:10008452-1790503200-1790506800@www.hocrn.org
SUMMARY:AA Meeting
DESCRIPTION:
URL:https://www.hocrn.org/event/aa-meeting-2/2026-09-27
LOCATION:Library
CATEGORIES:Community Events & Meetings
END:VEVENT
BEGIN:VEVENT
DTSTART;TZID=America/Phoenix:20261004T100000
DTEND;TZID=America/Phoenix:20261004T110000
DTSTAMP:20260421T005216
CREATED:20241008T152933Z
LAST-MODIFIED:20241008T154803Z
UID:10008453-1791108000-1791111600@www.hocrn.org
SUMMARY:AA Meeting
DESCRIPTION:
URL:https://www.hocrn.org/event/aa-meeting-2/2026-10-04
LOCATION:Library
CATEGORIES:Community Events & Meetings
END:VEVENT
BEGIN:VEVENT
DTSTART;TZID=America/Phoenix:20261011T100000
DTEND;TZID=America/Phoenix:20261011T110000
DTSTAMP:20260421T005216
CREATED:20241008T152933Z
LAST-MODIFIED:20241008T154803Z
UID:10008454-1791712800-1791716400@www.hocrn.org
SUMMARY:AA Meeting
DESCRIPTION:
URL:https://www.hocrn.org/event/aa-meeting-2/2026-10-11
LOCATION:Library
CATEGORIES:Community Events & Meetings
END:VEVENT
BEGIN:VEVENT
DTSTART;TZID=America/Phoenix:20261018T100000
DTEND;TZID=America/Phoenix:20261018T110000
DTSTAMP:20260421T005216
CREATED:20241008T152933Z
LAST-MODIFIED:20241008T154803Z
UID:10008455-1792317600-1792321200@www.hocrn.org
SUMMARY:AA Meeting
DESCRIPTION:
URL:https://www.hocrn.org/event/aa-meeting-2/2026-10-18
LOCATION:Library
CATEGORIES:Community Events & Meetings
END:VEVENT
BEGIN:VEVENT
DTSTART;TZID=America/Phoenix:20261025T100000
DTEND;TZID=America/Phoenix:20261025T110000
DTSTAMP:20260421T005216
CREATED:20241008T152933Z
LAST-MODIFIED:20241008T154803Z
UID:10008456-1792922400-1792926000@www.hocrn.org
SUMMARY:AA Meeting
DESCRIPTION:
URL:https://www.hocrn.org/event/aa-meeting-2/2026-10-25
LOCATION:Library
CATEGORIES:Community Events & Meetings
END:VEVENT
BEGIN:VEVENT
DTSTART;TZID=America/Phoenix:20261101T100000
DTEND;TZID=America/Phoenix:20261101T110000
DTSTAMP:20260421T005216
CREATED:20241008T152933Z
LAST-MODIFIED:20241008T154803Z
UID:10008457-1793527200-1793530800@www.hocrn.org
SUMMARY:AA Meeting
DESCRIPTION:
URL:https://www.hocrn.org/event/aa-meeting-2/2026-11-01
LOCATION:Library
CATEGORIES:Community Events & Meetings
END:VEVENT
BEGIN:VEVENT
DTSTART;TZID=America/Phoenix:20261108T100000
DTEND;TZID=America/Phoenix:20261108T110000
DTSTAMP:20260421T005216
CREATED:20241008T152933Z
LAST-MODIFIED:20241008T154803Z
UID:10008458-1794132000-1794135600@www.hocrn.org
SUMMARY:AA Meeting
DESCRIPTION:
URL:https://www.hocrn.org/event/aa-meeting-2/2026-11-08
LOCATION:Library
CATEGORIES:Community Events & Meetings
END:VEVENT
BEGIN:VEVENT
DTSTART;TZID=America/Phoenix:20261115T100000
DTEND;TZID=America/Phoenix:20261115T110000
DTSTAMP:20260421T005216
CREATED:20241008T152933Z
LAST-MODIFIED:20241008T154803Z
UID:10008459-1794736800-1794740400@www.hocrn.org
SUMMARY:AA Meeting
DESCRIPTION:
URL:https://www.hocrn.org/event/aa-meeting-2/2026-11-15
LOCATION:Library
CATEGORIES:Community Events & Meetings
END:VEVENT
END:VCALENDAR