BEGIN:VCALENDAR
VERSION:2.0
PRODID:-//Heber Overgaard Community Resource Network - ECPv6.15.17.1//NONSGML v1.0//EN
CALSCALE:GREGORIAN
METHOD:PUBLISH
X-WR-CALNAME:Heber Overgaard Community Resource Network
X-ORIGINAL-URL:https://www.hocrn.org
X-WR-CALDESC:Events for Heber Overgaard Community Resource Network
REFRESH-INTERVAL;VALUE=DURATION:PT1H
X-Robots-Tag:noindex
X-PUBLISHED-TTL:PT1H
BEGIN:VTIMEZONE
TZID:America/Phoenix
BEGIN:STANDARD
TZOFFSETFROM:-0700
TZOFFSETTO:-0700
TZNAME:MST
DTSTART:20250101T000000
END:STANDARD
END:VTIMEZONE
BEGIN:VEVENT
DTSTART;VALUE=DATE:20260421
DTEND;VALUE=DATE:20260422
DTSTAMP:20260421T010701
CREATED:20241008T145455Z
LAST-MODIFIED:20241008T153046Z
UID:10002527-1776729600-1776815999@www.hocrn.org
SUMMARY:Chamber Closed
DESCRIPTION:
URL:https://www.hocrn.org/event/chamber-closed/2026-04-21
CATEGORIES:Community Events & Meetings
END:VEVENT
BEGIN:VEVENT
DTSTART;TZID=America/Phoenix:20260421T090000
DTEND;TZID=America/Phoenix:20260421T130000
DTSTAMP:20260421T010701
CREATED:20241008T153522Z
LAST-MODIFIED:20241008T154045Z
UID:10004609-1776762000-1776776400@www.hocrn.org
SUMMARY:RCSC Open
DESCRIPTION:
URL:https://www.hocrn.org/event/rcsc-open-4/2026-04-21
CATEGORIES:Community Events & Meetings
END:VEVENT
BEGIN:VEVENT
DTSTART;TZID=America/Phoenix:20260421T090000
DTEND;TZID=America/Phoenix:20260421T160000
DTSTAMP:20260421T010701
CREATED:20241008T054305Z
LAST-MODIFIED:20241008T062314Z
UID:10001798-1776762000-1776787200@www.hocrn.org
SUMMARY:HOCRN Transport
DESCRIPTION:
URL:https://www.hocrn.org/event/hocrn-transport/2026-04-21
CATEGORIES:HOCRN Events & Meetings
END:VEVENT
BEGIN:VEVENT
DTSTART;TZID=America/Phoenix:20260421T110000
DTEND;TZID=America/Phoenix:20260421T170000
DTSTAMP:20260421T010701
CREATED:20241008T145610Z
LAST-MODIFIED:20241008T153621Z
UID:10005050-1776769200-1776790800@www.hocrn.org
SUMMARY:Library Open
DESCRIPTION:
URL:https://www.hocrn.org/event/library-open/2026-04-21
CATEGORIES:Community Events & Meetings
END:VEVENT
BEGIN:VEVENT
DTSTART;TZID=America/Phoenix:20260421T150000
DTEND;TZID=America/Phoenix:20260421T160000
DTSTAMP:20260421T010701
CREATED:20241008T145701Z
LAST-MODIFIED:20241008T153724Z
UID:10005310-1776783600-1776787200@www.hocrn.org
SUMMARY:Caregiver Support
DESCRIPTION:
URL:https://www.hocrn.org/event/caregiver-support/2026-04-21
LOCATION:Methodist Church
CATEGORIES:Community Events & Meetings
END:VEVENT
BEGIN:VEVENT
DTSTART;TZID=America/Phoenix:20260421T180000
DTEND;TZID=America/Phoenix:20260421T190000
DTSTAMP:20260421T010701
CREATED:20241008T145735Z
LAST-MODIFIED:20241008T153841Z
UID:10005570-1776794400-1776798000@www.hocrn.org
SUMMARY:Al-ANON
DESCRIPTION:
URL:https://www.hocrn.org/event/al-anon/2026-04-21
LOCATION:Library
CATEGORIES:Community Events & Meetings
END:VEVENT
BEGIN:VEVENT
DTSTART;VALUE=DATE:20260422
DTEND;VALUE=DATE:20260423
DTSTAMP:20260421T010701
CREATED:20241008T145455Z
LAST-MODIFIED:20241008T153046Z
UID:10002528-1776816000-1776902399@www.hocrn.org
SUMMARY:Chamber Closed
DESCRIPTION:
URL:https://www.hocrn.org/event/chamber-closed/2026-04-22
CATEGORIES:Community Events & Meetings
END:VEVENT
BEGIN:VEVENT
DTSTART;TZID=America/Phoenix:20260422T090000
DTEND;TZID=America/Phoenix:20260422T130000
DTSTAMP:20260421T010701
CREATED:20241008T153522Z
LAST-MODIFIED:20241008T154045Z
UID:10005830-1776848400-1776862800@www.hocrn.org
SUMMARY:RCSC Open
DESCRIPTION:
URL:https://www.hocrn.org/event/rcsc-open-4/2026-04-22
CATEGORIES:Community Events & Meetings
END:VEVENT
BEGIN:VEVENT
DTSTART;TZID=America/Phoenix:20260422T110000
DTEND;TZID=America/Phoenix:20260422T160000
DTSTAMP:20260421T010701
CREATED:20241008T150017Z
LAST-MODIFIED:20241008T154137Z
UID:10006090-1776855600-1776873600@www.hocrn.org
SUMMARY:Library Open
DESCRIPTION:
URL:https://www.hocrn.org/event/library-open-2/2026-04-22
CATEGORIES:Community Events & Meetings
END:VEVENT
BEGIN:VEVENT
DTSTART;TZID=America/Phoenix:20260423T090000
DTEND;TZID=America/Phoenix:20260423T160000
DTSTAMP:20260421T010701
CREATED:20241008T054305Z
LAST-MODIFIED:20241008T062314Z
UID:10001799-1776934800-1776960000@www.hocrn.org
SUMMARY:HOCRN Transport
DESCRIPTION:
URL:https://www.hocrn.org/event/hocrn-transport/2026-04-23
CATEGORIES:HOCRN Events & Meetings
END:VEVENT
BEGIN:VEVENT
DTSTART;TZID=America/Phoenix:20260423T090000
DTEND;TZID=America/Phoenix:20260423T160000
DTSTAMP:20260421T010701
CREATED:20241008T152857Z
LAST-MODIFIED:20241008T153144Z
UID:10003285-1776934800-1776960000@www.hocrn.org
SUMMARY:Chamber Open
DESCRIPTION:
URL:https://www.hocrn.org/event/chamber-open-5/2026-04-23
CATEGORIES:Community Events & Meetings
END:VEVENT
BEGIN:VEVENT
DTSTART;TZID=America/Phoenix:20260423T173000
DTEND;TZID=America/Phoenix:20260423T183000
DTSTAMP:20260421T010701
CREATED:20241008T150507Z
LAST-MODIFIED:20241008T154238Z
UID:10006350-1776965400-1776969000@www.hocrn.org
SUMMARY:Girl Scouts (RSCS)
DESCRIPTION:
URL:https://www.hocrn.org/event/girl-scouts-rscs/2026-04-23
CATEGORIES:Community Events & Meetings
END:VEVENT
BEGIN:VEVENT
DTSTART;TZID=America/Phoenix:20260424T090000
DTEND;TZID=America/Phoenix:20260424T100000
DTSTAMP:20260421T010701
CREATED:20241008T152154Z
LAST-MODIFIED:20241008T154335Z
UID:10006610-1777021200-1777024800@www.hocrn.org
SUMMARY:Bible Study
DESCRIPTION:
URL:https://www.hocrn.org/event/bible-study/2026-04-24
LOCATION:Lutheran Church
CATEGORIES:Community Events & Meetings
END:VEVENT
BEGIN:VEVENT
DTSTART;TZID=America/Phoenix:20260424T090000
DTEND;TZID=America/Phoenix:20260424T130000
DTSTAMP:20260421T010701
CREATED:20241008T153522Z
LAST-MODIFIED:20241008T154045Z
UID:10004610-1777021200-1777035600@www.hocrn.org
SUMMARY:RCSC Open
DESCRIPTION:
URL:https://www.hocrn.org/event/rcsc-open-4/2026-04-24
CATEGORIES:Community Events & Meetings
END:VEVENT
BEGIN:VEVENT
DTSTART;TZID=America/Phoenix:20260424T090000
DTEND;TZID=America/Phoenix:20260424T160000
DTSTAMP:20260421T010701
CREATED:20241008T152857Z
LAST-MODIFIED:20241008T153144Z
UID:10003286-1777021200-1777046400@www.hocrn.org
SUMMARY:Chamber Open
DESCRIPTION:
URL:https://www.hocrn.org/event/chamber-open-5/2026-04-24
CATEGORIES:Community Events & Meetings
END:VEVENT
BEGIN:VEVENT
DTSTART;TZID=America/Phoenix:20260424T110000
DTEND;TZID=America/Phoenix:20260424T140000
DTSTAMP:20260421T010701
CREATED:20241008T152416Z
LAST-MODIFIED:20241008T154423Z
UID:10006870-1777028400-1777039200@www.hocrn.org
SUMMARY:Library Open
DESCRIPTION:
URL:https://www.hocrn.org/event/library-open-3/2026-04-24
CATEGORIES:Community Events & Meetings
END:VEVENT
BEGIN:VEVENT
DTSTART;VALUE=DATE:20260425
DTEND;VALUE=DATE:20260426
DTSTAMP:20260421T010701
CREATED:20241008T152808Z
LAST-MODIFIED:20241008T154540Z
UID:10007209-1777075200-1777161599@www.hocrn.org
SUMMARY:RCSC Closed
DESCRIPTION:
URL:https://www.hocrn.org/event/rcsc-closed-2/2026-04-25
CATEGORIES:Community Events & Meetings
END:VEVENT
BEGIN:VEVENT
DTSTART;VALUE=DATE:20260425
DTEND;VALUE=DATE:20260426
DTSTAMP:20260421T010701
CREATED:20241008T152829Z
LAST-MODIFIED:20241008T154558Z
UID:10007729-1777075200-1777161599@www.hocrn.org
SUMMARY:Library Closed
DESCRIPTION:
URL:https://www.hocrn.org/event/library-closed-2/2026-04-25
CATEGORIES:Community Events & Meetings
END:VEVENT
BEGIN:VEVENT
DTSTART;TZID=America/Phoenix:20260425T090000
DTEND;TZID=America/Phoenix:20260425T160000
DTSTAMP:20260421T010701
CREATED:20241008T152857Z
LAST-MODIFIED:20241008T153144Z
UID:10003287-1777107600-1777132800@www.hocrn.org
SUMMARY:Chamber Open
DESCRIPTION:
URL:https://www.hocrn.org/event/chamber-open-5/2026-04-25
CATEGORIES:Community Events & Meetings
END:VEVENT
BEGIN:VEVENT
DTSTART;TZID=America/Phoenix:20260425T120000
DTEND;TZID=America/Phoenix:20260425T140000
DTSTAMP:20260421T010701
CREATED:20241008T152736Z
LAST-MODIFIED:20241008T154651Z
UID:10008170-1777118400-1777125600@www.hocrn.org
SUMMARY:AA Meeting
DESCRIPTION:
URL:https://www.hocrn.org/event/aa-meeting/2026-04-25
LOCATION:Library
CATEGORIES:Community Events & Meetings
END:VEVENT
BEGIN:VEVENT
DTSTART;VALUE=DATE:20260426
DTEND;VALUE=DATE:20260427
DTSTAMP:20260421T010701
CREATED:20241008T152808Z
LAST-MODIFIED:20241008T154540Z
UID:10007210-1777161600-1777247999@www.hocrn.org
SUMMARY:RCSC Closed
DESCRIPTION:
URL:https://www.hocrn.org/event/rcsc-closed-2/2026-04-26
CATEGORIES:Community Events & Meetings
END:VEVENT
BEGIN:VEVENT
DTSTART;VALUE=DATE:20260426
DTEND;VALUE=DATE:20260427
DTSTAMP:20260421T010701
CREATED:20241008T152829Z
LAST-MODIFIED:20241008T154558Z
UID:10007730-1777161600-1777247999@www.hocrn.org
SUMMARY:Library Closed
DESCRIPTION:
URL:https://www.hocrn.org/event/library-closed-2/2026-04-26
CATEGORIES:Community Events & Meetings
END:VEVENT
BEGIN:VEVENT
DTSTART;TZID=America/Phoenix:20260426T090000
DTEND;TZID=America/Phoenix:20260426T160000
DTSTAMP:20260421T010701
CREATED:20241008T152857Z
LAST-MODIFIED:20241008T153144Z
UID:10003288-1777194000-1777219200@www.hocrn.org
SUMMARY:Chamber Open
DESCRIPTION:
URL:https://www.hocrn.org/event/chamber-open-5/2026-04-26
CATEGORIES:Community Events & Meetings
END:VEVENT
BEGIN:VEVENT
DTSTART;TZID=America/Phoenix:20260426T100000
DTEND;TZID=America/Phoenix:20260426T110000
DTSTAMP:20260421T010701
CREATED:20241008T152933Z
LAST-MODIFIED:20241008T154803Z
UID:10008430-1777197600-1777201200@www.hocrn.org
SUMMARY:AA Meeting
DESCRIPTION:
URL:https://www.hocrn.org/event/aa-meeting-2/2026-04-26
LOCATION:Library
CATEGORIES:Community Events & Meetings
END:VEVENT
BEGIN:VEVENT
DTSTART;TZID=America/Phoenix:20260427T090000
DTEND;TZID=America/Phoenix:20260427T160000
DTSTAMP:20260421T010701
CREATED:20241008T152857Z
LAST-MODIFIED:20241008T153144Z
UID:10003289-1777280400-1777305600@www.hocrn.org
SUMMARY:Chamber Open
DESCRIPTION:
URL:https://www.hocrn.org/event/chamber-open-5/2026-04-27
CATEGORIES:Community Events & Meetings
END:VEVENT
BEGIN:VEVENT
DTSTART;TZID=America/Phoenix:20260427T100000
DTEND;TZID=America/Phoenix:20260427T110000
DTSTAMP:20260421T010701
CREATED:20241008T153321Z
LAST-MODIFIED:20241008T153321Z
UID:10004270-1777284000-1777287600@www.hocrn.org
SUMMARY:Pine Needlers
DESCRIPTION:
URL:https://www.hocrn.org/event/pine-needlers-2/2026-04-27
CATEGORIES:Community Events & Meetings
END:VEVENT
BEGIN:VEVENT
DTSTART;VALUE=DATE:20260428
DTEND;VALUE=DATE:20260429
DTSTAMP:20260421T010701
CREATED:20241008T145455Z
LAST-MODIFIED:20241008T153046Z
UID:10002529-1777334400-1777420799@www.hocrn.org
SUMMARY:Chamber Closed
DESCRIPTION:
URL:https://www.hocrn.org/event/chamber-closed/2026-04-28
CATEGORIES:Community Events & Meetings
END:VEVENT
BEGIN:VEVENT
DTSTART;TZID=America/Phoenix:20260428T090000
DTEND;TZID=America/Phoenix:20260428T130000
DTSTAMP:20260421T010701
CREATED:20241008T153522Z
LAST-MODIFIED:20241008T154045Z
UID:10004611-1777366800-1777381200@www.hocrn.org
SUMMARY:RCSC Open
DESCRIPTION:
URL:https://www.hocrn.org/event/rcsc-open-4/2026-04-28
CATEGORIES:Community Events & Meetings
END:VEVENT
BEGIN:VEVENT
DTSTART;TZID=America/Phoenix:20260428T090000
DTEND;TZID=America/Phoenix:20260428T160000
DTSTAMP:20260421T010701
CREATED:20241008T054305Z
LAST-MODIFIED:20241008T062314Z
UID:10001800-1777366800-1777392000@www.hocrn.org
SUMMARY:HOCRN Transport
DESCRIPTION:
URL:https://www.hocrn.org/event/hocrn-transport/2026-04-28
CATEGORIES:HOCRN Events & Meetings
END:VEVENT
BEGIN:VEVENT
DTSTART;TZID=America/Phoenix:20260428T110000
DTEND;TZID=America/Phoenix:20260428T170000
DTSTAMP:20260421T010701
CREATED:20241008T145610Z
LAST-MODIFIED:20241008T153621Z
UID:10005051-1777374000-1777395600@www.hocrn.org
SUMMARY:Library Open
DESCRIPTION:
URL:https://www.hocrn.org/event/library-open/2026-04-28
CATEGORIES:Community Events & Meetings
END:VEVENT
END:VCALENDAR