BEGIN:VCALENDAR
VERSION:2.0
PRODID:-//Heber Overgaard Community Resource Network - ECPv6.15.17.1//NONSGML v1.0//EN
CALSCALE:GREGORIAN
METHOD:PUBLISH
X-ORIGINAL-URL:https://www.hocrn.org
X-WR-CALDESC:Events for Heber Overgaard Community Resource Network
REFRESH-INTERVAL;VALUE=DURATION:PT1H
X-Robots-Tag:noindex
X-PUBLISHED-TTL:PT1H
BEGIN:VTIMEZONE
TZID:America/Phoenix
BEGIN:STANDARD
TZOFFSETFROM:-0700
TZOFFSETTO:-0700
TZNAME:MST
DTSTART:20250101T000000
END:STANDARD
END:VTIMEZONE
BEGIN:VEVENT
DTSTART;VALUE=DATE:20260301
DTEND;VALUE=DATE:20260302
DTSTAMP:20260425T032016
CREATED:20241008T152808Z
LAST-MODIFIED:20241008T154540Z
UID:10007194-1772323200-1772409599@www.hocrn.org
SUMMARY:RCSC Closed
DESCRIPTION:
URL:https://www.hocrn.org/event/rcsc-closed-2/2026-03-01
CATEGORIES:Community Events & Meetings
END:VEVENT
BEGIN:VEVENT
DTSTART;VALUE=DATE:20260301
DTEND;VALUE=DATE:20260302
DTSTAMP:20260425T032016
CREATED:20241008T152829Z
LAST-MODIFIED:20241008T154558Z
UID:10007714-1772323200-1772409599@www.hocrn.org
SUMMARY:Library Closed
DESCRIPTION:
URL:https://www.hocrn.org/event/library-closed-2/2026-03-01
CATEGORIES:Community Events & Meetings
END:VEVENT
BEGIN:VEVENT
DTSTART;TZID=America/Phoenix:20260301T090000
DTEND;TZID=America/Phoenix:20260301T160000
DTSTAMP:20260425T032016
CREATED:20241008T152857Z
LAST-MODIFIED:20241008T153144Z
UID:10003248-1772355600-1772380800@www.hocrn.org
SUMMARY:Chamber Open
DESCRIPTION:
URL:https://www.hocrn.org/event/chamber-open-5/2026-03-01
CATEGORIES:Community Events & Meetings
END:VEVENT
BEGIN:VEVENT
DTSTART;TZID=America/Phoenix:20260301T100000
DTEND;TZID=America/Phoenix:20260301T110000
DTSTAMP:20260425T032016
CREATED:20241008T152933Z
LAST-MODIFIED:20241008T154803Z
UID:10008422-1772359200-1772362800@www.hocrn.org
SUMMARY:AA Meeting
DESCRIPTION:
URL:https://www.hocrn.org/event/aa-meeting-2/2026-03-01
LOCATION:Library
CATEGORIES:Community Events & Meetings
END:VEVENT
BEGIN:VEVENT
DTSTART;TZID=America/Phoenix:20260302T090000
DTEND;TZID=America/Phoenix:20260302T160000
DTSTAMP:20260425T032016
CREATED:20241008T152857Z
LAST-MODIFIED:20241008T153144Z
UID:10003249-1772442000-1772467200@www.hocrn.org
SUMMARY:Chamber Open
DESCRIPTION:
URL:https://www.hocrn.org/event/chamber-open-5/2026-03-02
CATEGORIES:Community Events & Meetings
END:VEVENT
BEGIN:VEVENT
DTSTART;TZID=America/Phoenix:20260302T100000
DTEND;TZID=America/Phoenix:20260302T110000
DTSTAMP:20260425T032016
CREATED:20241008T153321Z
LAST-MODIFIED:20241008T153321Z
UID:10004262-1772445600-1772449200@www.hocrn.org
SUMMARY:Pine Needlers
DESCRIPTION:
URL:https://www.hocrn.org/event/pine-needlers-2/2026-03-02
CATEGORIES:Community Events & Meetings
END:VEVENT
BEGIN:VEVENT
DTSTART;VALUE=DATE:20260303
DTEND;VALUE=DATE:20260304
DTSTAMP:20260425T032016
CREATED:20241008T145455Z
LAST-MODIFIED:20241008T153046Z
UID:10002513-1772496000-1772582399@www.hocrn.org
SUMMARY:Chamber Closed
DESCRIPTION:
URL:https://www.hocrn.org/event/chamber-closed/2026-03-03
CATEGORIES:Community Events & Meetings
END:VEVENT
BEGIN:VEVENT
DTSTART;TZID=America/Phoenix:20260303T090000
DTEND;TZID=America/Phoenix:20260303T130000
DTSTAMP:20260425T032016
CREATED:20241008T153522Z
LAST-MODIFIED:20241008T154045Z
UID:10004595-1772528400-1772542800@www.hocrn.org
SUMMARY:RCSC Open
DESCRIPTION:
URL:https://www.hocrn.org/event/rcsc-open-4/2026-03-03
CATEGORIES:Community Events & Meetings
END:VEVENT
BEGIN:VEVENT
DTSTART;TZID=America/Phoenix:20260303T090000
DTEND;TZID=America/Phoenix:20260303T160000
DTSTAMP:20260425T032016
CREATED:20241008T054305Z
LAST-MODIFIED:20241008T062314Z
UID:10001784-1772528400-1772553600@www.hocrn.org
SUMMARY:HOCRN Transport
DESCRIPTION:
URL:https://www.hocrn.org/event/hocrn-transport/2026-03-03
CATEGORIES:HOCRN Events & Meetings
END:VEVENT
BEGIN:VEVENT
DTSTART;TZID=America/Phoenix:20260303T110000
DTEND;TZID=America/Phoenix:20260303T170000
DTSTAMP:20260425T032016
CREATED:20241008T145610Z
LAST-MODIFIED:20241008T153621Z
UID:10005043-1772535600-1772557200@www.hocrn.org
SUMMARY:Library Open
DESCRIPTION:
URL:https://www.hocrn.org/event/library-open/2026-03-03
CATEGORIES:Community Events & Meetings
END:VEVENT
BEGIN:VEVENT
DTSTART;TZID=America/Phoenix:20260303T140000
DTEND;TZID=America/Phoenix:20260303T150000
DTSTAMP:20260425T032016
CREATED:20241008T061232Z
LAST-MODIFIED:20241008T061627Z
UID:10002296-1772546400-1772550000@www.hocrn.org
SUMMARY:HOCRN Board Meeting
DESCRIPTION:
URL:https://www.hocrn.org/event/hocrn-board-meeting-2/2026-03-03
END:VEVENT
BEGIN:VEVENT
DTSTART;TZID=America/Phoenix:20260303T150000
DTEND;TZID=America/Phoenix:20260303T160000
DTSTAMP:20260425T032016
CREATED:20241008T145701Z
LAST-MODIFIED:20241008T153724Z
UID:10005303-1772550000-1772553600@www.hocrn.org
SUMMARY:Caregiver Support
DESCRIPTION:
URL:https://www.hocrn.org/event/caregiver-support/2026-03-03
LOCATION:Methodist Church
CATEGORIES:Community Events & Meetings
END:VEVENT
BEGIN:VEVENT
DTSTART;TZID=America/Phoenix:20260303T180000
DTEND;TZID=America/Phoenix:20260303T190000
DTSTAMP:20260425T032016
CREATED:20241008T145735Z
LAST-MODIFIED:20241008T153841Z
UID:10005563-1772560800-1772564400@www.hocrn.org
SUMMARY:Al-ANON
DESCRIPTION:
URL:https://www.hocrn.org/event/al-anon/2026-03-03
LOCATION:Library
CATEGORIES:Community Events & Meetings
END:VEVENT
BEGIN:VEVENT
DTSTART;VALUE=DATE:20260304
DTEND;VALUE=DATE:20260305
DTSTAMP:20260425T032016
CREATED:20241008T145455Z
LAST-MODIFIED:20241008T153046Z
UID:10002514-1772582400-1772668799@www.hocrn.org
SUMMARY:Chamber Closed
DESCRIPTION:
URL:https://www.hocrn.org/event/chamber-closed/2026-03-04
CATEGORIES:Community Events & Meetings
END:VEVENT
BEGIN:VEVENT
DTSTART;TZID=America/Phoenix:20260304T090000
DTEND;TZID=America/Phoenix:20260304T130000
DTSTAMP:20260425T032016
CREATED:20241008T153522Z
LAST-MODIFIED:20241008T154045Z
UID:10005823-1772614800-1772629200@www.hocrn.org
SUMMARY:RCSC Open
DESCRIPTION:
URL:https://www.hocrn.org/event/rcsc-open-4/2026-03-04
CATEGORIES:Community Events & Meetings
END:VEVENT
BEGIN:VEVENT
DTSTART;TZID=America/Phoenix:20260304T110000
DTEND;TZID=America/Phoenix:20260304T160000
DTSTAMP:20260425T032016
CREATED:20241008T150017Z
LAST-MODIFIED:20241008T154137Z
UID:10006083-1772622000-1772640000@www.hocrn.org
SUMMARY:Library Open
DESCRIPTION:
URL:https://www.hocrn.org/event/library-open-2/2026-03-04
CATEGORIES:Community Events & Meetings
END:VEVENT
BEGIN:VEVENT
DTSTART;TZID=America/Phoenix:20260305T090000
DTEND;TZID=America/Phoenix:20260305T160000
DTSTAMP:20260425T032016
CREATED:20241008T054305Z
LAST-MODIFIED:20241008T062314Z
UID:10001785-1772701200-1772726400@www.hocrn.org
SUMMARY:HOCRN Transport
DESCRIPTION:
URL:https://www.hocrn.org/event/hocrn-transport/2026-03-05
CATEGORIES:HOCRN Events & Meetings
END:VEVENT
BEGIN:VEVENT
DTSTART;TZID=America/Phoenix:20260305T090000
DTEND;TZID=America/Phoenix:20260305T160000
DTSTAMP:20260425T032016
CREATED:20241008T152857Z
LAST-MODIFIED:20241008T153144Z
UID:10003250-1772701200-1772726400@www.hocrn.org
SUMMARY:Chamber Open
DESCRIPTION:
URL:https://www.hocrn.org/event/chamber-open-5/2026-03-05
CATEGORIES:Community Events & Meetings
END:VEVENT
BEGIN:VEVENT
DTSTART;TZID=America/Phoenix:20260305T173000
DTEND;TZID=America/Phoenix:20260305T183000
DTSTAMP:20260425T032016
CREATED:20241008T150507Z
LAST-MODIFIED:20241008T154238Z
UID:10006343-1772731800-1772735400@www.hocrn.org
SUMMARY:Girl Scouts (RSCS)
DESCRIPTION:
URL:https://www.hocrn.org/event/girl-scouts-rscs/2026-03-05
CATEGORIES:Community Events & Meetings
END:VEVENT
BEGIN:VEVENT
DTSTART;TZID=America/Phoenix:20260306T090000
DTEND;TZID=America/Phoenix:20260306T100000
DTSTAMP:20260425T032016
CREATED:20241008T152154Z
LAST-MODIFIED:20241008T154335Z
UID:10006603-1772787600-1772791200@www.hocrn.org
SUMMARY:Bible Study
DESCRIPTION:
URL:https://www.hocrn.org/event/bible-study/2026-03-06
LOCATION:Lutheran Church
CATEGORIES:Community Events & Meetings
END:VEVENT
BEGIN:VEVENT
DTSTART;TZID=America/Phoenix:20260306T090000
DTEND;TZID=America/Phoenix:20260306T130000
DTSTAMP:20260425T032016
CREATED:20241008T153522Z
LAST-MODIFIED:20241008T154045Z
UID:10004596-1772787600-1772802000@www.hocrn.org
SUMMARY:RCSC Open
DESCRIPTION:
URL:https://www.hocrn.org/event/rcsc-open-4/2026-03-06
CATEGORIES:Community Events & Meetings
END:VEVENT
BEGIN:VEVENT
DTSTART;TZID=America/Phoenix:20260306T090000
DTEND;TZID=America/Phoenix:20260306T160000
DTSTAMP:20260425T032016
CREATED:20241008T152857Z
LAST-MODIFIED:20241008T153144Z
UID:10003251-1772787600-1772812800@www.hocrn.org
SUMMARY:Chamber Open
DESCRIPTION:
URL:https://www.hocrn.org/event/chamber-open-5/2026-03-06
CATEGORIES:Community Events & Meetings
END:VEVENT
BEGIN:VEVENT
DTSTART;TZID=America/Phoenix:20260306T110000
DTEND;TZID=America/Phoenix:20260306T140000
DTSTAMP:20260425T032016
CREATED:20241008T152416Z
LAST-MODIFIED:20241008T154423Z
UID:10006863-1772794800-1772805600@www.hocrn.org
SUMMARY:Library Open
DESCRIPTION:
URL:https://www.hocrn.org/event/library-open-3/2026-03-06
CATEGORIES:Community Events & Meetings
END:VEVENT
BEGIN:VEVENT
DTSTART;VALUE=DATE:20260307
DTEND;VALUE=DATE:20260308
DTSTAMP:20260425T032016
CREATED:20241008T152808Z
LAST-MODIFIED:20241008T154540Z
UID:10007195-1772841600-1772927999@www.hocrn.org
SUMMARY:RCSC Closed
DESCRIPTION:
URL:https://www.hocrn.org/event/rcsc-closed-2/2026-03-07
CATEGORIES:Community Events & Meetings
END:VEVENT
BEGIN:VEVENT
DTSTART;VALUE=DATE:20260307
DTEND;VALUE=DATE:20260308
DTSTAMP:20260425T032016
CREATED:20241008T152829Z
LAST-MODIFIED:20241008T154558Z
UID:10007715-1772841600-1772927999@www.hocrn.org
SUMMARY:Library Closed
DESCRIPTION:
URL:https://www.hocrn.org/event/library-closed-2/2026-03-07
CATEGORIES:Community Events & Meetings
END:VEVENT
BEGIN:VEVENT
DTSTART;TZID=America/Phoenix:20260307T090000
DTEND;TZID=America/Phoenix:20260307T160000
DTSTAMP:20260425T032016
CREATED:20241008T152857Z
LAST-MODIFIED:20241008T153144Z
UID:10003252-1772874000-1772899200@www.hocrn.org
SUMMARY:Chamber Open
DESCRIPTION:
URL:https://www.hocrn.org/event/chamber-open-5/2026-03-07
CATEGORIES:Community Events & Meetings
END:VEVENT
BEGIN:VEVENT
DTSTART;TZID=America/Phoenix:20260307T120000
DTEND;TZID=America/Phoenix:20260307T140000
DTSTAMP:20260425T032016
CREATED:20241008T152736Z
LAST-MODIFIED:20241008T154651Z
UID:10008163-1772884800-1772892000@www.hocrn.org
SUMMARY:AA Meeting
DESCRIPTION:
URL:https://www.hocrn.org/event/aa-meeting/2026-03-07
LOCATION:Library
CATEGORIES:Community Events & Meetings
END:VEVENT
BEGIN:VEVENT
DTSTART;VALUE=DATE:20260308
DTEND;VALUE=DATE:20260309
DTSTAMP:20260425T032016
CREATED:20241008T152808Z
LAST-MODIFIED:20241008T154540Z
UID:10007196-1772928000-1773014399@www.hocrn.org
SUMMARY:RCSC Closed
DESCRIPTION:
URL:https://www.hocrn.org/event/rcsc-closed-2/2026-03-08
CATEGORIES:Community Events & Meetings
END:VEVENT
BEGIN:VEVENT
DTSTART;VALUE=DATE:20260308
DTEND;VALUE=DATE:20260309
DTSTAMP:20260425T032016
CREATED:20241008T152829Z
LAST-MODIFIED:20241008T154558Z
UID:10007716-1772928000-1773014399@www.hocrn.org
SUMMARY:Library Closed
DESCRIPTION:
URL:https://www.hocrn.org/event/library-closed-2/2026-03-08
CATEGORIES:Community Events & Meetings
END:VEVENT
BEGIN:VEVENT
DTSTART;TZID=America/Phoenix:20260308T090000
DTEND;TZID=America/Phoenix:20260308T160000
DTSTAMP:20260425T032016
CREATED:20241008T152857Z
LAST-MODIFIED:20241008T153144Z
UID:10003253-1772960400-1772985600@www.hocrn.org
SUMMARY:Chamber Open
DESCRIPTION:
URL:https://www.hocrn.org/event/chamber-open-5/2026-03-08
CATEGORIES:Community Events & Meetings
END:VEVENT
END:VCALENDAR