BEGIN:VCALENDAR
VERSION:2.0
PRODID:-//Heber Overgaard Community Resource Network - ECPv6.15.17.1//NONSGML v1.0//EN
CALSCALE:GREGORIAN
METHOD:PUBLISH
X-ORIGINAL-URL:https://www.hocrn.org
X-WR-CALDESC:Events for Heber Overgaard Community Resource Network
REFRESH-INTERVAL;VALUE=DURATION:PT1H
X-Robots-Tag:noindex
X-PUBLISHED-TTL:PT1H
BEGIN:VTIMEZONE
TZID:America/Phoenix
BEGIN:STANDARD
TZOFFSETFROM:-0700
TZOFFSETTO:-0700
TZNAME:MST
DTSTART:20250101T000000
END:STANDARD
END:VTIMEZONE
BEGIN:VEVENT
DTSTART;VALUE=DATE:20260404
DTEND;VALUE=DATE:20260405
DTSTAMP:20260425T044644
CREATED:20241008T152808Z
LAST-MODIFIED:20241008T154540Z
UID:10007203-1775260800-1775347199@www.hocrn.org
SUMMARY:RCSC Closed
DESCRIPTION:
URL:https://www.hocrn.org/event/rcsc-closed-2/2026-04-04
CATEGORIES:Community Events & Meetings
END:VEVENT
BEGIN:VEVENT
DTSTART;VALUE=DATE:20260404
DTEND;VALUE=DATE:20260405
DTSTAMP:20260425T044644
CREATED:20241008T152829Z
LAST-MODIFIED:20241008T154558Z
UID:10007723-1775260800-1775347199@www.hocrn.org
SUMMARY:Library Closed
DESCRIPTION:
URL:https://www.hocrn.org/event/library-closed-2/2026-04-04
CATEGORIES:Community Events & Meetings
END:VEVENT
BEGIN:VEVENT
DTSTART;TZID=America/Phoenix:20260404T090000
DTEND;TZID=America/Phoenix:20260404T160000
DTSTAMP:20260425T044644
CREATED:20241008T152857Z
LAST-MODIFIED:20241008T153144Z
UID:10003272-1775293200-1775318400@www.hocrn.org
SUMMARY:Chamber Open
DESCRIPTION:
URL:https://www.hocrn.org/event/chamber-open-5/2026-04-04
CATEGORIES:Community Events & Meetings
END:VEVENT
BEGIN:VEVENT
DTSTART;TZID=America/Phoenix:20260404T120000
DTEND;TZID=America/Phoenix:20260404T140000
DTSTAMP:20260425T044644
CREATED:20241008T152736Z
LAST-MODIFIED:20241008T154651Z
UID:10008167-1775304000-1775311200@www.hocrn.org
SUMMARY:AA Meeting
DESCRIPTION:
URL:https://www.hocrn.org/event/aa-meeting/2026-04-04
LOCATION:Library
CATEGORIES:Community Events & Meetings
END:VEVENT
BEGIN:VEVENT
DTSTART;VALUE=DATE:20260405
DTEND;VALUE=DATE:20260406
DTSTAMP:20260425T044644
CREATED:20241008T152808Z
LAST-MODIFIED:20241008T154540Z
UID:10007204-1775347200-1775433599@www.hocrn.org
SUMMARY:RCSC Closed
DESCRIPTION:
URL:https://www.hocrn.org/event/rcsc-closed-2/2026-04-05
CATEGORIES:Community Events & Meetings
END:VEVENT
BEGIN:VEVENT
DTSTART;VALUE=DATE:20260405
DTEND;VALUE=DATE:20260406
DTSTAMP:20260425T044644
CREATED:20241008T152829Z
LAST-MODIFIED:20241008T154558Z
UID:10007724-1775347200-1775433599@www.hocrn.org
SUMMARY:Library Closed
DESCRIPTION:
URL:https://www.hocrn.org/event/library-closed-2/2026-04-05
CATEGORIES:Community Events & Meetings
END:VEVENT
BEGIN:VEVENT
DTSTART;TZID=America/Phoenix:20260405T090000
DTEND;TZID=America/Phoenix:20260405T160000
DTSTAMP:20260425T044644
CREATED:20241008T152857Z
LAST-MODIFIED:20241008T153144Z
UID:10003273-1775379600-1775404800@www.hocrn.org
SUMMARY:Chamber Open
DESCRIPTION:
URL:https://www.hocrn.org/event/chamber-open-5/2026-04-05
CATEGORIES:Community Events & Meetings
END:VEVENT
BEGIN:VEVENT
DTSTART;TZID=America/Phoenix:20260405T100000
DTEND;TZID=America/Phoenix:20260405T110000
DTSTAMP:20260425T044644
CREATED:20241008T152933Z
LAST-MODIFIED:20241008T154803Z
UID:10008427-1775383200-1775386800@www.hocrn.org
SUMMARY:AA Meeting
DESCRIPTION:
URL:https://www.hocrn.org/event/aa-meeting-2/2026-04-05
LOCATION:Library
CATEGORIES:Community Events & Meetings
END:VEVENT
BEGIN:VEVENT
DTSTART;TZID=America/Phoenix:20260406T090000
DTEND;TZID=America/Phoenix:20260406T160000
DTSTAMP:20260425T044644
CREATED:20241008T152857Z
LAST-MODIFIED:20241008T153144Z
UID:10003274-1775466000-1775491200@www.hocrn.org
SUMMARY:Chamber Open
DESCRIPTION:
URL:https://www.hocrn.org/event/chamber-open-5/2026-04-06
CATEGORIES:Community Events & Meetings
END:VEVENT
BEGIN:VEVENT
DTSTART;TZID=America/Phoenix:20260406T100000
DTEND;TZID=America/Phoenix:20260406T110000
DTSTAMP:20260425T044644
CREATED:20241008T153321Z
LAST-MODIFIED:20241008T153321Z
UID:10004267-1775469600-1775473200@www.hocrn.org
SUMMARY:Pine Needlers
DESCRIPTION:
URL:https://www.hocrn.org/event/pine-needlers-2/2026-04-06
CATEGORIES:Community Events & Meetings
END:VEVENT
BEGIN:VEVENT
DTSTART;VALUE=DATE:20260407
DTEND;VALUE=DATE:20260408
DTSTAMP:20260425T044644
CREATED:20241008T145455Z
LAST-MODIFIED:20241008T153046Z
UID:10002523-1775520000-1775606399@www.hocrn.org
SUMMARY:Chamber Closed
DESCRIPTION:
URL:https://www.hocrn.org/event/chamber-closed/2026-04-07
CATEGORIES:Community Events & Meetings
END:VEVENT
BEGIN:VEVENT
DTSTART;TZID=America/Phoenix:20260407T090000
DTEND;TZID=America/Phoenix:20260407T130000
DTSTAMP:20260425T044644
CREATED:20241008T153522Z
LAST-MODIFIED:20241008T154045Z
UID:10004605-1775552400-1775566800@www.hocrn.org
SUMMARY:RCSC Open
DESCRIPTION:
URL:https://www.hocrn.org/event/rcsc-open-4/2026-04-07
CATEGORIES:Community Events & Meetings
END:VEVENT
BEGIN:VEVENT
DTSTART;TZID=America/Phoenix:20260407T090000
DTEND;TZID=America/Phoenix:20260407T160000
DTSTAMP:20260425T044644
CREATED:20241008T054305Z
LAST-MODIFIED:20241008T062314Z
UID:10001794-1775552400-1775577600@www.hocrn.org
SUMMARY:HOCRN Transport
DESCRIPTION:
URL:https://www.hocrn.org/event/hocrn-transport/2026-04-07
CATEGORIES:HOCRN Events & Meetings
END:VEVENT
BEGIN:VEVENT
DTSTART;TZID=America/Phoenix:20260407T110000
DTEND;TZID=America/Phoenix:20260407T170000
DTSTAMP:20260425T044644
CREATED:20241008T145610Z
LAST-MODIFIED:20241008T153621Z
UID:10005048-1775559600-1775581200@www.hocrn.org
SUMMARY:Library Open
DESCRIPTION:
URL:https://www.hocrn.org/event/library-open/2026-04-07
CATEGORIES:Community Events & Meetings
END:VEVENT
BEGIN:VEVENT
DTSTART;TZID=America/Phoenix:20260407T140000
DTEND;TZID=America/Phoenix:20260407T150000
DTSTAMP:20260425T044644
CREATED:20241008T061232Z
LAST-MODIFIED:20241008T061627Z
UID:10002297-1775570400-1775574000@www.hocrn.org
SUMMARY:HOCRN Board Meeting
DESCRIPTION:
URL:https://www.hocrn.org/event/hocrn-board-meeting-2/2026-04-07
END:VEVENT
BEGIN:VEVENT
DTSTART;TZID=America/Phoenix:20260407T150000
DTEND;TZID=America/Phoenix:20260407T160000
DTSTAMP:20260425T044644
CREATED:20241008T145701Z
LAST-MODIFIED:20241008T153724Z
UID:10005308-1775574000-1775577600@www.hocrn.org
SUMMARY:Caregiver Support
DESCRIPTION:
URL:https://www.hocrn.org/event/caregiver-support/2026-04-07
LOCATION:Methodist Church
CATEGORIES:Community Events & Meetings
END:VEVENT
BEGIN:VEVENT
DTSTART;TZID=America/Phoenix:20260407T180000
DTEND;TZID=America/Phoenix:20260407T190000
DTSTAMP:20260425T044644
CREATED:20241008T145735Z
LAST-MODIFIED:20241008T153841Z
UID:10005568-1775584800-1775588400@www.hocrn.org
SUMMARY:Al-ANON
DESCRIPTION:
URL:https://www.hocrn.org/event/al-anon/2026-04-07
LOCATION:Library
CATEGORIES:Community Events & Meetings
END:VEVENT
BEGIN:VEVENT
DTSTART;VALUE=DATE:20260408
DTEND;VALUE=DATE:20260409
DTSTAMP:20260425T044644
CREATED:20241008T145455Z
LAST-MODIFIED:20241008T153046Z
UID:10002524-1775606400-1775692799@www.hocrn.org
SUMMARY:Chamber Closed
DESCRIPTION:
URL:https://www.hocrn.org/event/chamber-closed/2026-04-08
CATEGORIES:Community Events & Meetings
END:VEVENT
BEGIN:VEVENT
DTSTART;TZID=America/Phoenix:20260408T090000
DTEND;TZID=America/Phoenix:20260408T130000
DTSTAMP:20260425T044644
CREATED:20241008T153522Z
LAST-MODIFIED:20241008T154045Z
UID:10005828-1775638800-1775653200@www.hocrn.org
SUMMARY:RCSC Open
DESCRIPTION:
URL:https://www.hocrn.org/event/rcsc-open-4/2026-04-08
CATEGORIES:Community Events & Meetings
END:VEVENT
BEGIN:VEVENT
DTSTART;TZID=America/Phoenix:20260408T110000
DTEND;TZID=America/Phoenix:20260408T160000
DTSTAMP:20260425T044644
CREATED:20241008T150017Z
LAST-MODIFIED:20241008T154137Z
UID:10006088-1775646000-1775664000@www.hocrn.org
SUMMARY:Library Open
DESCRIPTION:
URL:https://www.hocrn.org/event/library-open-2/2026-04-08
CATEGORIES:Community Events & Meetings
END:VEVENT
BEGIN:VEVENT
DTSTART;TZID=America/Phoenix:20260408T173000
DTEND;TZID=America/Phoenix:20260408T183000
DTSTAMP:20260425T044644
CREATED:20241008T054843Z
LAST-MODIFIED:20241008T062530Z
UID:10002238-1775669400-1775673000@www.hocrn.org
SUMMARY:Chamber Meeting
DESCRIPTION:
URL:https://www.hocrn.org/event/chamber-meeting/2026-04-08
LOCATION:Heber-Overgaard Fire District\, 2061 Lumber Valley Rd\, Overgaard\, 85933\, United States
CATEGORIES:HOCRN Events & Meetings
END:VEVENT
BEGIN:VEVENT
DTSTART;TZID=America/Phoenix:20260409T090000
DTEND;TZID=America/Phoenix:20260409T160000
DTSTAMP:20260425T044644
CREATED:20241008T054305Z
LAST-MODIFIED:20241008T062314Z
UID:10001795-1775725200-1775750400@www.hocrn.org
SUMMARY:HOCRN Transport
DESCRIPTION:
URL:https://www.hocrn.org/event/hocrn-transport/2026-04-09
CATEGORIES:HOCRN Events & Meetings
END:VEVENT
BEGIN:VEVENT
DTSTART;TZID=America/Phoenix:20260409T090000
DTEND;TZID=America/Phoenix:20260409T160000
DTSTAMP:20260425T044644
CREATED:20241008T152857Z
LAST-MODIFIED:20241008T153144Z
UID:10003275-1775725200-1775750400@www.hocrn.org
SUMMARY:Chamber Open
DESCRIPTION:
URL:https://www.hocrn.org/event/chamber-open-5/2026-04-09
CATEGORIES:Community Events & Meetings
END:VEVENT
BEGIN:VEVENT
DTSTART;TZID=America/Phoenix:20260409T173000
DTEND;TZID=America/Phoenix:20260409T183000
DTSTAMP:20260425T044644
CREATED:20241008T150507Z
LAST-MODIFIED:20241008T154238Z
UID:10006348-1775755800-1775759400@www.hocrn.org
SUMMARY:Girl Scouts (RSCS)
DESCRIPTION:
URL:https://www.hocrn.org/event/girl-scouts-rscs/2026-04-09
CATEGORIES:Community Events & Meetings
END:VEVENT
BEGIN:VEVENT
DTSTART;TZID=America/Phoenix:20260410T090000
DTEND;TZID=America/Phoenix:20260410T100000
DTSTAMP:20260425T044644
CREATED:20241008T152154Z
LAST-MODIFIED:20241008T154335Z
UID:10006608-1775811600-1775815200@www.hocrn.org
SUMMARY:Bible Study
DESCRIPTION:
URL:https://www.hocrn.org/event/bible-study/2026-04-10
LOCATION:Lutheran Church
CATEGORIES:Community Events & Meetings
END:VEVENT
BEGIN:VEVENT
DTSTART;TZID=America/Phoenix:20260410T090000
DTEND;TZID=America/Phoenix:20260410T130000
DTSTAMP:20260425T044644
CREATED:20241008T153522Z
LAST-MODIFIED:20241008T154045Z
UID:10004606-1775811600-1775826000@www.hocrn.org
SUMMARY:RCSC Open
DESCRIPTION:
URL:https://www.hocrn.org/event/rcsc-open-4/2026-04-10
CATEGORIES:Community Events & Meetings
END:VEVENT
BEGIN:VEVENT
DTSTART;TZID=America/Phoenix:20260410T090000
DTEND;TZID=America/Phoenix:20260410T160000
DTSTAMP:20260425T044644
CREATED:20241008T152857Z
LAST-MODIFIED:20241008T153144Z
UID:10003276-1775811600-1775836800@www.hocrn.org
SUMMARY:Chamber Open
DESCRIPTION:
URL:https://www.hocrn.org/event/chamber-open-5/2026-04-10
CATEGORIES:Community Events & Meetings
END:VEVENT
BEGIN:VEVENT
DTSTART;TZID=America/Phoenix:20260410T110000
DTEND;TZID=America/Phoenix:20260410T140000
DTSTAMP:20260425T044644
CREATED:20241008T152416Z
LAST-MODIFIED:20241008T154423Z
UID:10006868-1775818800-1775829600@www.hocrn.org
SUMMARY:Library Open
DESCRIPTION:
URL:https://www.hocrn.org/event/library-open-3/2026-04-10
CATEGORIES:Community Events & Meetings
END:VEVENT
BEGIN:VEVENT
DTSTART;VALUE=DATE:20260411
DTEND;VALUE=DATE:20260412
DTSTAMP:20260425T044644
CREATED:20241008T152808Z
LAST-MODIFIED:20241008T154540Z
UID:10007205-1775865600-1775951999@www.hocrn.org
SUMMARY:RCSC Closed
DESCRIPTION:
URL:https://www.hocrn.org/event/rcsc-closed-2/2026-04-11
CATEGORIES:Community Events & Meetings
END:VEVENT
BEGIN:VEVENT
DTSTART;VALUE=DATE:20260411
DTEND;VALUE=DATE:20260412
DTSTAMP:20260425T044644
CREATED:20241008T152829Z
LAST-MODIFIED:20241008T154558Z
UID:10007725-1775865600-1775951999@www.hocrn.org
SUMMARY:Library Closed
DESCRIPTION:
URL:https://www.hocrn.org/event/library-closed-2/2026-04-11
CATEGORIES:Community Events & Meetings
END:VEVENT
END:VCALENDAR