BEGIN:VCALENDAR
VERSION:2.0
PRODID:-//Heber Overgaard Community Resource Network - ECPv6.15.17.1//NONSGML v1.0//EN
CALSCALE:GREGORIAN
METHOD:PUBLISH
X-WR-CALNAME:Heber Overgaard Community Resource Network
X-ORIGINAL-URL:https://www.hocrn.org
X-WR-CALDESC:Events for Heber Overgaard Community Resource Network
REFRESH-INTERVAL;VALUE=DURATION:PT1H
X-Robots-Tag:noindex
X-PUBLISHED-TTL:PT1H
BEGIN:VTIMEZONE
TZID:America/Phoenix
BEGIN:STANDARD
TZOFFSETFROM:-0700
TZOFFSETTO:-0700
TZNAME:MST
DTSTART:20250101T000000
END:STANDARD
END:VTIMEZONE
BEGIN:VEVENT
DTSTART;TZID=America/Phoenix:20260811T123000
DTEND;TZID=America/Phoenix:20260811T133000
DTSTAMP:20260425T061526
CREATED:20241008T055551Z
LAST-MODIFIED:20241008T062417Z
UID:10001598-1786451400-1786455000@www.hocrn.org
SUMMARY:Drug Coalition Meeting via Zoom
DESCRIPTION:Vicky Solomon with Nexus Coalition/The Connection Coalition would like to remind you of the monthly Coalition meetings on the second Tuesday of each month from 12:30 to 1:30 p.m. via zoom. \nTopic: TCC DFC1 Coalition Meeting \nJoin Zoom Meeting\nhttps://us02web.zoom.us/j/87559700560?pwd=bzcvN0lJbGJOSTN3aW9yTWwwaEUvUT09 \nMeeting ID: 875 5970 0560\nPasscode: 487957 \nSame zoom log in each month. Feel free to invite anyone to attend! The more the merrier! \nJoin with Google Meet: https://meet.google.com/dui-embw-tef\nOr dial: (US) +1 586-459-0352 PIN: 846821201#\nMore phone numbers: https://tel.meet/dui-embw-tef?pin=6592074319938&hs=7 \nLearn more about Meet at: https://support.google.com/a/users/answer/9282720
URL:https://www.hocrn.org/event/drug-coalition-meeting-via-zoom/2026-08-11
CATEGORIES:HOCRN Events & Meetings
END:VEVENT
BEGIN:VEVENT
DTSTART;TZID=America/Phoenix:20260811T140000
DTEND;TZID=America/Phoenix:20260811T153000
DTSTAMP:20260425T061526
CREATED:20241008T054651Z
LAST-MODIFIED:20241008T062505Z
UID:10002183-1786456800-1786462200@www.hocrn.org
SUMMARY:Board Member's Zoom Meeting
DESCRIPTION:Join our October 8 Zoom meeting \nMeeting ID: 873 1231 4815\nPasscode: 445154 \nOne tap mobile\n+17193594580\,\,87312314815#\,\,\,\,*445154# US\n+12532050468\,\,87312314815#\,\,\,\,*445154# US \nDial by your location\n• +1 719 359 4580 US\n• +1 253 205 0468 US\n• +1 253 215 8782 US (Tacoma)\n• +1 346 248 7799 US (Houston)\n• +1 669 444 9171 US\n• +1 669 900 6833 US (San Jose)\n• +1 301 715 8592 US (Washington DC)\n• +1 305 224 1968 US\n• +1 309 205 3325 US\n• +1 312 626 6799 US (Chicago)\n• +1 360 209 5623 US\n• +1 386 347 5053 US\n• +1 507 473 4847 US\n• +1 564 217 2000 US\n• +1 646 931 3860 US\n• +1 689 278 1000 US\n• +1 929 205 6099 US (New York) \nMeeting ID: 873 1231 4815\nPasscode: 445154 \nFind your local number
URL:https://www.hocrn.org/event/board-members-zoom-meeting/2026-08-11
CATEGORIES:HOCRN Events & Meetings
END:VEVENT
BEGIN:VEVENT
DTSTART;TZID=America/Phoenix:20260812T173000
DTEND;TZID=America/Phoenix:20260812T183000
DTSTAMP:20260425T061526
CREATED:20241008T054843Z
LAST-MODIFIED:20241008T062530Z
UID:10002242-1786555800-1786559400@www.hocrn.org
SUMMARY:Chamber Meeting
DESCRIPTION:
URL:https://www.hocrn.org/event/chamber-meeting/2026-08-12
LOCATION:Heber-Overgaard Fire District\, 2061 Lumber Valley Rd\, Overgaard\, 85933\, United States
CATEGORIES:HOCRN Events & Meetings
END:VEVENT
BEGIN:VEVENT
DTSTART;TZID=America/Phoenix:20260813T090000
DTEND;TZID=America/Phoenix:20260813T160000
DTSTAMP:20260425T061526
CREATED:20241008T054305Z
LAST-MODIFIED:20241008T062314Z
UID:10001831-1786611600-1786636800@www.hocrn.org
SUMMARY:HOCRN Transport
DESCRIPTION:
URL:https://www.hocrn.org/event/hocrn-transport/2026-08-13
CATEGORIES:HOCRN Events & Meetings
END:VEVENT
BEGIN:VEVENT
DTSTART;TZID=America/Phoenix:20260818T090000
DTEND;TZID=America/Phoenix:20260818T160000
DTSTAMP:20260425T061526
CREATED:20241008T054305Z
LAST-MODIFIED:20241008T062314Z
UID:10001832-1787043600-1787068800@www.hocrn.org
SUMMARY:HOCRN Transport
DESCRIPTION:
URL:https://www.hocrn.org/event/hocrn-transport/2026-08-18
CATEGORIES:HOCRN Events & Meetings
END:VEVENT
BEGIN:VEVENT
DTSTART;TZID=America/Phoenix:20260820T090000
DTEND;TZID=America/Phoenix:20260820T160000
DTSTAMP:20260425T061526
CREATED:20241008T054305Z
LAST-MODIFIED:20241008T062314Z
UID:10001833-1787216400-1787241600@www.hocrn.org
SUMMARY:HOCRN Transport
DESCRIPTION:
URL:https://www.hocrn.org/event/hocrn-transport/2026-08-20
CATEGORIES:HOCRN Events & Meetings
END:VEVENT
BEGIN:VEVENT
DTSTART;TZID=America/Phoenix:20260825T090000
DTEND;TZID=America/Phoenix:20260825T160000
DTSTAMP:20260425T061526
CREATED:20241008T054305Z
LAST-MODIFIED:20241008T062314Z
UID:10001834-1787648400-1787673600@www.hocrn.org
SUMMARY:HOCRN Transport
DESCRIPTION:
URL:https://www.hocrn.org/event/hocrn-transport/2026-08-25
CATEGORIES:HOCRN Events & Meetings
END:VEVENT
BEGIN:VEVENT
DTSTART;TZID=America/Phoenix:20260827T090000
DTEND;TZID=America/Phoenix:20260827T160000
DTSTAMP:20260425T061526
CREATED:20241008T054305Z
LAST-MODIFIED:20241008T062314Z
UID:10001835-1787821200-1787846400@www.hocrn.org
SUMMARY:HOCRN Transport
DESCRIPTION:
URL:https://www.hocrn.org/event/hocrn-transport/2026-08-27
CATEGORIES:HOCRN Events & Meetings
END:VEVENT
BEGIN:VEVENT
DTSTART;TZID=America/Phoenix:20260901T090000
DTEND;TZID=America/Phoenix:20260901T160000
DTSTAMP:20260425T061526
CREATED:20241008T054305Z
LAST-MODIFIED:20241008T062314Z
UID:10001836-1788253200-1788278400@www.hocrn.org
SUMMARY:HOCRN Transport
DESCRIPTION:
URL:https://www.hocrn.org/event/hocrn-transport/2026-09-01
CATEGORIES:HOCRN Events & Meetings
END:VEVENT
BEGIN:VEVENT
DTSTART;TZID=America/Phoenix:20260903T090000
DTEND;TZID=America/Phoenix:20260903T160000
DTSTAMP:20260425T061526
CREATED:20241008T054305Z
LAST-MODIFIED:20241008T062314Z
UID:10001837-1788426000-1788451200@www.hocrn.org
SUMMARY:HOCRN Transport
DESCRIPTION:
URL:https://www.hocrn.org/event/hocrn-transport/2026-09-03
CATEGORIES:HOCRN Events & Meetings
END:VEVENT
BEGIN:VEVENT
DTSTART;TZID=America/Phoenix:20260908T090000
DTEND;TZID=America/Phoenix:20260908T160000
DTSTAMP:20260425T061526
CREATED:20241008T054305Z
LAST-MODIFIED:20241008T062314Z
UID:10001838-1788858000-1788883200@www.hocrn.org
SUMMARY:HOCRN Transport
DESCRIPTION:
URL:https://www.hocrn.org/event/hocrn-transport/2026-09-08
CATEGORIES:HOCRN Events & Meetings
END:VEVENT
BEGIN:VEVENT
DTSTART;TZID=America/Phoenix:20260908T123000
DTEND;TZID=America/Phoenix:20260908T133000
DTSTAMP:20260425T061526
CREATED:20241008T055551Z
LAST-MODIFIED:20241008T062417Z
UID:10001599-1788870600-1788874200@www.hocrn.org
SUMMARY:Drug Coalition Meeting via Zoom
DESCRIPTION:Vicky Solomon with Nexus Coalition/The Connection Coalition would like to remind you of the monthly Coalition meetings on the second Tuesday of each month from 12:30 to 1:30 p.m. via zoom. \nTopic: TCC DFC1 Coalition Meeting \nJoin Zoom Meeting\nhttps://us02web.zoom.us/j/87559700560?pwd=bzcvN0lJbGJOSTN3aW9yTWwwaEUvUT09 \nMeeting ID: 875 5970 0560\nPasscode: 487957 \nSame zoom log in each month. Feel free to invite anyone to attend! The more the merrier! \nJoin with Google Meet: https://meet.google.com/dui-embw-tef\nOr dial: (US) +1 586-459-0352 PIN: 846821201#\nMore phone numbers: https://tel.meet/dui-embw-tef?pin=6592074319938&hs=7 \nLearn more about Meet at: https://support.google.com/a/users/answer/9282720
URL:https://www.hocrn.org/event/drug-coalition-meeting-via-zoom/2026-09-08
CATEGORIES:HOCRN Events & Meetings
END:VEVENT
BEGIN:VEVENT
DTSTART;TZID=America/Phoenix:20260908T140000
DTEND;TZID=America/Phoenix:20260908T153000
DTSTAMP:20260425T061526
CREATED:20241008T054651Z
LAST-MODIFIED:20241008T062505Z
UID:10002184-1788876000-1788881400@www.hocrn.org
SUMMARY:Board Member's Zoom Meeting
DESCRIPTION:Join our October 8 Zoom meeting \nMeeting ID: 873 1231 4815\nPasscode: 445154 \nOne tap mobile\n+17193594580\,\,87312314815#\,\,\,\,*445154# US\n+12532050468\,\,87312314815#\,\,\,\,*445154# US \nDial by your location\n• +1 719 359 4580 US\n• +1 253 205 0468 US\n• +1 253 215 8782 US (Tacoma)\n• +1 346 248 7799 US (Houston)\n• +1 669 444 9171 US\n• +1 669 900 6833 US (San Jose)\n• +1 301 715 8592 US (Washington DC)\n• +1 305 224 1968 US\n• +1 309 205 3325 US\n• +1 312 626 6799 US (Chicago)\n• +1 360 209 5623 US\n• +1 386 347 5053 US\n• +1 507 473 4847 US\n• +1 564 217 2000 US\n• +1 646 931 3860 US\n• +1 689 278 1000 US\n• +1 929 205 6099 US (New York) \nMeeting ID: 873 1231 4815\nPasscode: 445154 \nFind your local number
URL:https://www.hocrn.org/event/board-members-zoom-meeting/2026-09-08
CATEGORIES:HOCRN Events & Meetings
END:VEVENT
BEGIN:VEVENT
DTSTART;TZID=America/Phoenix:20260909T173000
DTEND;TZID=America/Phoenix:20260909T183000
DTSTAMP:20260425T061526
CREATED:20241008T054843Z
LAST-MODIFIED:20241008T062530Z
UID:10002243-1788975000-1788978600@www.hocrn.org
SUMMARY:Chamber Meeting
DESCRIPTION:
URL:https://www.hocrn.org/event/chamber-meeting/2026-09-09
LOCATION:Heber-Overgaard Fire District\, 2061 Lumber Valley Rd\, Overgaard\, 85933\, United States
CATEGORIES:HOCRN Events & Meetings
END:VEVENT
BEGIN:VEVENT
DTSTART;TZID=America/Phoenix:20260910T090000
DTEND;TZID=America/Phoenix:20260910T160000
DTSTAMP:20260425T061526
CREATED:20241008T054305Z
LAST-MODIFIED:20241008T062314Z
UID:10001839-1789030800-1789056000@www.hocrn.org
SUMMARY:HOCRN Transport
DESCRIPTION:
URL:https://www.hocrn.org/event/hocrn-transport/2026-09-10
CATEGORIES:HOCRN Events & Meetings
END:VEVENT
BEGIN:VEVENT
DTSTART;TZID=America/Phoenix:20260915T090000
DTEND;TZID=America/Phoenix:20260915T160000
DTSTAMP:20260425T061526
CREATED:20241008T054305Z
LAST-MODIFIED:20241008T062314Z
UID:10001840-1789462800-1789488000@www.hocrn.org
SUMMARY:HOCRN Transport
DESCRIPTION:
URL:https://www.hocrn.org/event/hocrn-transport/2026-09-15
CATEGORIES:HOCRN Events & Meetings
END:VEVENT
BEGIN:VEVENT
DTSTART;TZID=America/Phoenix:20260917T090000
DTEND;TZID=America/Phoenix:20260917T160000
DTSTAMP:20260425T061526
CREATED:20241008T054305Z
LAST-MODIFIED:20241008T062314Z
UID:10001841-1789635600-1789660800@www.hocrn.org
SUMMARY:HOCRN Transport
DESCRIPTION:
URL:https://www.hocrn.org/event/hocrn-transport/2026-09-17
CATEGORIES:HOCRN Events & Meetings
END:VEVENT
BEGIN:VEVENT
DTSTART;TZID=America/Phoenix:20260922T090000
DTEND;TZID=America/Phoenix:20260922T160000
DTSTAMP:20260425T061526
CREATED:20241008T054305Z
LAST-MODIFIED:20241008T062314Z
UID:10001842-1790067600-1790092800@www.hocrn.org
SUMMARY:HOCRN Transport
DESCRIPTION:
URL:https://www.hocrn.org/event/hocrn-transport/2026-09-22
CATEGORIES:HOCRN Events & Meetings
END:VEVENT
BEGIN:VEVENT
DTSTART;TZID=America/Phoenix:20260924T090000
DTEND;TZID=America/Phoenix:20260924T160000
DTSTAMP:20260425T061526
CREATED:20241008T054305Z
LAST-MODIFIED:20241008T062314Z
UID:10001843-1790240400-1790265600@www.hocrn.org
SUMMARY:HOCRN Transport
DESCRIPTION:
URL:https://www.hocrn.org/event/hocrn-transport/2026-09-24
CATEGORIES:HOCRN Events & Meetings
END:VEVENT
BEGIN:VEVENT
DTSTART;TZID=America/Phoenix:20260929T090000
DTEND;TZID=America/Phoenix:20260929T160000
DTSTAMP:20260425T061526
CREATED:20241008T054305Z
LAST-MODIFIED:20241008T062314Z
UID:10001844-1790672400-1790697600@www.hocrn.org
SUMMARY:HOCRN Transport
DESCRIPTION:
URL:https://www.hocrn.org/event/hocrn-transport/2026-09-29
CATEGORIES:HOCRN Events & Meetings
END:VEVENT
BEGIN:VEVENT
DTSTART;TZID=America/Phoenix:20261001T090000
DTEND;TZID=America/Phoenix:20261001T160000
DTSTAMP:20260425T061526
CREATED:20241008T054305Z
LAST-MODIFIED:20241008T062314Z
UID:10001845-1790845200-1790870400@www.hocrn.org
SUMMARY:HOCRN Transport
DESCRIPTION:
URL:https://www.hocrn.org/event/hocrn-transport/2026-10-01
CATEGORIES:HOCRN Events & Meetings
END:VEVENT
BEGIN:VEVENT
DTSTART;TZID=America/Phoenix:20261006T090000
DTEND;TZID=America/Phoenix:20261006T160000
DTSTAMP:20260425T061526
CREATED:20241008T054305Z
LAST-MODIFIED:20241008T062314Z
UID:10001846-1791277200-1791302400@www.hocrn.org
SUMMARY:HOCRN Transport
DESCRIPTION:
URL:https://www.hocrn.org/event/hocrn-transport/2026-10-06
CATEGORIES:HOCRN Events & Meetings
END:VEVENT
BEGIN:VEVENT
DTSTART;TZID=America/Phoenix:20261008T090000
DTEND;TZID=America/Phoenix:20261008T160000
DTSTAMP:20260425T061526
CREATED:20241008T054305Z
LAST-MODIFIED:20241008T062314Z
UID:10001847-1791450000-1791475200@www.hocrn.org
SUMMARY:HOCRN Transport
DESCRIPTION:
URL:https://www.hocrn.org/event/hocrn-transport/2026-10-08
CATEGORIES:HOCRN Events & Meetings
END:VEVENT
BEGIN:VEVENT
DTSTART;TZID=America/Phoenix:20261013T090000
DTEND;TZID=America/Phoenix:20261013T160000
DTSTAMP:20260425T061526
CREATED:20241008T054305Z
LAST-MODIFIED:20241008T062314Z
UID:10001848-1791882000-1791907200@www.hocrn.org
SUMMARY:HOCRN Transport
DESCRIPTION:
URL:https://www.hocrn.org/event/hocrn-transport/2026-10-13
CATEGORIES:HOCRN Events & Meetings
END:VEVENT
BEGIN:VEVENT
DTSTART;TZID=America/Phoenix:20261013T123000
DTEND;TZID=America/Phoenix:20261013T133000
DTSTAMP:20260425T061526
CREATED:20241008T055551Z
LAST-MODIFIED:20241008T062417Z
UID:10001600-1791894600-1791898200@www.hocrn.org
SUMMARY:Drug Coalition Meeting via Zoom
DESCRIPTION:Vicky Solomon with Nexus Coalition/The Connection Coalition would like to remind you of the monthly Coalition meetings on the second Tuesday of each month from 12:30 to 1:30 p.m. via zoom. \nTopic: TCC DFC1 Coalition Meeting \nJoin Zoom Meeting\nhttps://us02web.zoom.us/j/87559700560?pwd=bzcvN0lJbGJOSTN3aW9yTWwwaEUvUT09 \nMeeting ID: 875 5970 0560\nPasscode: 487957 \nSame zoom log in each month. Feel free to invite anyone to attend! The more the merrier! \nJoin with Google Meet: https://meet.google.com/dui-embw-tef\nOr dial: (US) +1 586-459-0352 PIN: 846821201#\nMore phone numbers: https://tel.meet/dui-embw-tef?pin=6592074319938&hs=7 \nLearn more about Meet at: https://support.google.com/a/users/answer/9282720
URL:https://www.hocrn.org/event/drug-coalition-meeting-via-zoom/2026-10-13
CATEGORIES:HOCRN Events & Meetings
END:VEVENT
BEGIN:VEVENT
DTSTART;TZID=America/Phoenix:20261013T140000
DTEND;TZID=America/Phoenix:20261013T153000
DTSTAMP:20260425T061526
CREATED:20241008T054651Z
LAST-MODIFIED:20241008T062505Z
UID:10002185-1791900000-1791905400@www.hocrn.org
SUMMARY:Board Member's Zoom Meeting
DESCRIPTION:Join our October 8 Zoom meeting \nMeeting ID: 873 1231 4815\nPasscode: 445154 \nOne tap mobile\n+17193594580\,\,87312314815#\,\,\,\,*445154# US\n+12532050468\,\,87312314815#\,\,\,\,*445154# US \nDial by your location\n• +1 719 359 4580 US\n• +1 253 205 0468 US\n• +1 253 215 8782 US (Tacoma)\n• +1 346 248 7799 US (Houston)\n• +1 669 444 9171 US\n• +1 669 900 6833 US (San Jose)\n• +1 301 715 8592 US (Washington DC)\n• +1 305 224 1968 US\n• +1 309 205 3325 US\n• +1 312 626 6799 US (Chicago)\n• +1 360 209 5623 US\n• +1 386 347 5053 US\n• +1 507 473 4847 US\n• +1 564 217 2000 US\n• +1 646 931 3860 US\n• +1 689 278 1000 US\n• +1 929 205 6099 US (New York) \nMeeting ID: 873 1231 4815\nPasscode: 445154 \nFind your local number
URL:https://www.hocrn.org/event/board-members-zoom-meeting/2026-10-13
CATEGORIES:HOCRN Events & Meetings
END:VEVENT
BEGIN:VEVENT
DTSTART;TZID=America/Phoenix:20261014T173000
DTEND;TZID=America/Phoenix:20261014T183000
DTSTAMP:20260425T061526
CREATED:20241008T054843Z
LAST-MODIFIED:20241008T062530Z
UID:10002244-1791999000-1792002600@www.hocrn.org
SUMMARY:Chamber Meeting
DESCRIPTION:
URL:https://www.hocrn.org/event/chamber-meeting/2026-10-14
LOCATION:Heber-Overgaard Fire District\, 2061 Lumber Valley Rd\, Overgaard\, 85933\, United States
CATEGORIES:HOCRN Events & Meetings
END:VEVENT
BEGIN:VEVENT
DTSTART;TZID=America/Phoenix:20261015T090000
DTEND;TZID=America/Phoenix:20261015T160000
DTSTAMP:20260425T061526
CREATED:20241008T054305Z
LAST-MODIFIED:20241008T062314Z
UID:10001849-1792054800-1792080000@www.hocrn.org
SUMMARY:HOCRN Transport
DESCRIPTION:
URL:https://www.hocrn.org/event/hocrn-transport/2026-10-15
CATEGORIES:HOCRN Events & Meetings
END:VEVENT
BEGIN:VEVENT
DTSTART;TZID=America/Phoenix:20261020T090000
DTEND;TZID=America/Phoenix:20261020T160000
DTSTAMP:20260425T061526
CREATED:20241008T054305Z
LAST-MODIFIED:20241008T062314Z
UID:10001850-1792486800-1792512000@www.hocrn.org
SUMMARY:HOCRN Transport
DESCRIPTION:
URL:https://www.hocrn.org/event/hocrn-transport/2026-10-20
CATEGORIES:HOCRN Events & Meetings
END:VEVENT
BEGIN:VEVENT
DTSTART;TZID=America/Phoenix:20261022T090000
DTEND;TZID=America/Phoenix:20261022T160000
DTSTAMP:20260425T061526
CREATED:20241008T054305Z
LAST-MODIFIED:20241008T062314Z
UID:10001851-1792659600-1792684800@www.hocrn.org
SUMMARY:HOCRN Transport
DESCRIPTION:
URL:https://www.hocrn.org/event/hocrn-transport/2026-10-22
CATEGORIES:HOCRN Events & Meetings
END:VEVENT
END:VCALENDAR