BEGIN:VCALENDAR
VERSION:2.0
PRODID:-//Heber Overgaard Community Resource Network - ECPv6.15.17.1//NONSGML v1.0//EN
CALSCALE:GREGORIAN
METHOD:PUBLISH
X-WR-CALNAME:Heber Overgaard Community Resource Network
X-ORIGINAL-URL:https://www.hocrn.org
X-WR-CALDESC:Events for Heber Overgaard Community Resource Network
REFRESH-INTERVAL;VALUE=DURATION:PT1H
X-Robots-Tag:noindex
X-PUBLISHED-TTL:PT1H
BEGIN:VTIMEZONE
TZID:America/Phoenix
BEGIN:STANDARD
TZOFFSETFROM:-0700
TZOFFSETTO:-0700
TZNAME:MST
DTSTART:20250101T000000
END:STANDARD
END:VTIMEZONE
BEGIN:VEVENT
DTSTART;TZID=America/Phoenix:20260521T090000
DTEND;TZID=America/Phoenix:20260521T160000
DTSTAMP:20260425T085641
CREATED:20241008T054305Z
LAST-MODIFIED:20241008T062314Z
UID:10001807-1779354000-1779379200@www.hocrn.org
SUMMARY:HOCRN Transport
DESCRIPTION:
URL:https://www.hocrn.org/event/hocrn-transport/2026-05-21
CATEGORIES:HOCRN Events & Meetings
END:VEVENT
BEGIN:VEVENT
DTSTART;TZID=America/Phoenix:20260526T090000
DTEND;TZID=America/Phoenix:20260526T160000
DTSTAMP:20260425T085641
CREATED:20241008T054305Z
LAST-MODIFIED:20241008T062314Z
UID:10001808-1779786000-1779811200@www.hocrn.org
SUMMARY:HOCRN Transport
DESCRIPTION:
URL:https://www.hocrn.org/event/hocrn-transport/2026-05-26
CATEGORIES:HOCRN Events & Meetings
END:VEVENT
BEGIN:VEVENT
DTSTART;TZID=America/Phoenix:20260528T090000
DTEND;TZID=America/Phoenix:20260528T160000
DTSTAMP:20260425T085641
CREATED:20241008T054305Z
LAST-MODIFIED:20241008T062314Z
UID:10001809-1779958800-1779984000@www.hocrn.org
SUMMARY:HOCRN Transport
DESCRIPTION:
URL:https://www.hocrn.org/event/hocrn-transport/2026-05-28
CATEGORIES:HOCRN Events & Meetings
END:VEVENT
BEGIN:VEVENT
DTSTART;TZID=America/Phoenix:20260602T090000
DTEND;TZID=America/Phoenix:20260602T160000
DTSTAMP:20260425T085641
CREATED:20241008T054305Z
LAST-MODIFIED:20241008T062314Z
UID:10001810-1780390800-1780416000@www.hocrn.org
SUMMARY:HOCRN Transport
DESCRIPTION:
URL:https://www.hocrn.org/event/hocrn-transport/2026-06-02
CATEGORIES:HOCRN Events & Meetings
END:VEVENT
BEGIN:VEVENT
DTSTART;TZID=America/Phoenix:20260604T090000
DTEND;TZID=America/Phoenix:20260604T160000
DTSTAMP:20260425T085641
CREATED:20241008T054305Z
LAST-MODIFIED:20241008T062314Z
UID:10001811-1780563600-1780588800@www.hocrn.org
SUMMARY:HOCRN Transport
DESCRIPTION:
URL:https://www.hocrn.org/event/hocrn-transport/2026-06-04
CATEGORIES:HOCRN Events & Meetings
END:VEVENT
BEGIN:VEVENT
DTSTART;TZID=America/Phoenix:20260609T090000
DTEND;TZID=America/Phoenix:20260609T160000
DTSTAMP:20260425T085641
CREATED:20241008T054305Z
LAST-MODIFIED:20241008T062314Z
UID:10001812-1780995600-1781020800@www.hocrn.org
SUMMARY:HOCRN Transport
DESCRIPTION:
URL:https://www.hocrn.org/event/hocrn-transport/2026-06-09
CATEGORIES:HOCRN Events & Meetings
END:VEVENT
BEGIN:VEVENT
DTSTART;TZID=America/Phoenix:20260609T123000
DTEND;TZID=America/Phoenix:20260609T133000
DTSTAMP:20260425T085641
CREATED:20241008T055551Z
LAST-MODIFIED:20241008T062417Z
UID:10001596-1781008200-1781011800@www.hocrn.org
SUMMARY:Drug Coalition Meeting via Zoom
DESCRIPTION:Vicky Solomon with Nexus Coalition/The Connection Coalition would like to remind you of the monthly Coalition meetings on the second Tuesday of each month from 12:30 to 1:30 p.m. via zoom. \nTopic: TCC DFC1 Coalition Meeting \nJoin Zoom Meeting\nhttps://us02web.zoom.us/j/87559700560?pwd=bzcvN0lJbGJOSTN3aW9yTWwwaEUvUT09 \nMeeting ID: 875 5970 0560\nPasscode: 487957 \nSame zoom log in each month. Feel free to invite anyone to attend! The more the merrier! \nJoin with Google Meet: https://meet.google.com/dui-embw-tef\nOr dial: (US) +1 586-459-0352 PIN: 846821201#\nMore phone numbers: https://tel.meet/dui-embw-tef?pin=6592074319938&hs=7 \nLearn more about Meet at: https://support.google.com/a/users/answer/9282720
URL:https://www.hocrn.org/event/drug-coalition-meeting-via-zoom/2026-06-09
CATEGORIES:HOCRN Events & Meetings
END:VEVENT
BEGIN:VEVENT
DTSTART;TZID=America/Phoenix:20260609T140000
DTEND;TZID=America/Phoenix:20260609T153000
DTSTAMP:20260425T085641
CREATED:20241008T054651Z
LAST-MODIFIED:20241008T062505Z
UID:10002181-1781013600-1781019000@www.hocrn.org
SUMMARY:Board Member's Zoom Meeting
DESCRIPTION:Join our October 8 Zoom meeting \nMeeting ID: 873 1231 4815\nPasscode: 445154 \nOne tap mobile\n+17193594580\,\,87312314815#\,\,\,\,*445154# US\n+12532050468\,\,87312314815#\,\,\,\,*445154# US \nDial by your location\n• +1 719 359 4580 US\n• +1 253 205 0468 US\n• +1 253 215 8782 US (Tacoma)\n• +1 346 248 7799 US (Houston)\n• +1 669 444 9171 US\n• +1 669 900 6833 US (San Jose)\n• +1 301 715 8592 US (Washington DC)\n• +1 305 224 1968 US\n• +1 309 205 3325 US\n• +1 312 626 6799 US (Chicago)\n• +1 360 209 5623 US\n• +1 386 347 5053 US\n• +1 507 473 4847 US\n• +1 564 217 2000 US\n• +1 646 931 3860 US\n• +1 689 278 1000 US\n• +1 929 205 6099 US (New York) \nMeeting ID: 873 1231 4815\nPasscode: 445154 \nFind your local number
URL:https://www.hocrn.org/event/board-members-zoom-meeting/2026-06-09
CATEGORIES:HOCRN Events & Meetings
END:VEVENT
BEGIN:VEVENT
DTSTART;TZID=America/Phoenix:20260610T173000
DTEND;TZID=America/Phoenix:20260610T183000
DTSTAMP:20260425T085641
CREATED:20241008T054843Z
LAST-MODIFIED:20241008T062530Z
UID:10002240-1781112600-1781116200@www.hocrn.org
SUMMARY:Chamber Meeting
DESCRIPTION:
URL:https://www.hocrn.org/event/chamber-meeting/2026-06-10
LOCATION:Heber-Overgaard Fire District\, 2061 Lumber Valley Rd\, Overgaard\, 85933\, United States
CATEGORIES:HOCRN Events & Meetings
END:VEVENT
BEGIN:VEVENT
DTSTART;TZID=America/Phoenix:20260611T090000
DTEND;TZID=America/Phoenix:20260611T160000
DTSTAMP:20260425T085641
CREATED:20241008T054305Z
LAST-MODIFIED:20241008T062314Z
UID:10001813-1781168400-1781193600@www.hocrn.org
SUMMARY:HOCRN Transport
DESCRIPTION:
URL:https://www.hocrn.org/event/hocrn-transport/2026-06-11
CATEGORIES:HOCRN Events & Meetings
END:VEVENT
BEGIN:VEVENT
DTSTART;TZID=America/Phoenix:20260616T090000
DTEND;TZID=America/Phoenix:20260616T160000
DTSTAMP:20260425T085641
CREATED:20241008T054305Z
LAST-MODIFIED:20241008T062314Z
UID:10001814-1781600400-1781625600@www.hocrn.org
SUMMARY:HOCRN Transport
DESCRIPTION:
URL:https://www.hocrn.org/event/hocrn-transport/2026-06-16
CATEGORIES:HOCRN Events & Meetings
END:VEVENT
BEGIN:VEVENT
DTSTART;TZID=America/Phoenix:20260618T090000
DTEND;TZID=America/Phoenix:20260618T160000
DTSTAMP:20260425T085641
CREATED:20241008T054305Z
LAST-MODIFIED:20241008T062314Z
UID:10001815-1781773200-1781798400@www.hocrn.org
SUMMARY:HOCRN Transport
DESCRIPTION:
URL:https://www.hocrn.org/event/hocrn-transport/2026-06-18
CATEGORIES:HOCRN Events & Meetings
END:VEVENT
BEGIN:VEVENT
DTSTART;TZID=America/Phoenix:20260623T090000
DTEND;TZID=America/Phoenix:20260623T160000
DTSTAMP:20260425T085641
CREATED:20241008T054305Z
LAST-MODIFIED:20241008T062314Z
UID:10001816-1782205200-1782230400@www.hocrn.org
SUMMARY:HOCRN Transport
DESCRIPTION:
URL:https://www.hocrn.org/event/hocrn-transport/2026-06-23
CATEGORIES:HOCRN Events & Meetings
END:VEVENT
BEGIN:VEVENT
DTSTART;TZID=America/Phoenix:20260625T090000
DTEND;TZID=America/Phoenix:20260625T160000
DTSTAMP:20260425T085641
CREATED:20241008T054305Z
LAST-MODIFIED:20241008T062314Z
UID:10001817-1782378000-1782403200@www.hocrn.org
SUMMARY:HOCRN Transport
DESCRIPTION:
URL:https://www.hocrn.org/event/hocrn-transport/2026-06-25
CATEGORIES:HOCRN Events & Meetings
END:VEVENT
BEGIN:VEVENT
DTSTART;TZID=America/Phoenix:20260630T090000
DTEND;TZID=America/Phoenix:20260630T160000
DTSTAMP:20260425T085641
CREATED:20241008T054305Z
LAST-MODIFIED:20241008T062314Z
UID:10001818-1782810000-1782835200@www.hocrn.org
SUMMARY:HOCRN Transport
DESCRIPTION:
URL:https://www.hocrn.org/event/hocrn-transport/2026-06-30
CATEGORIES:HOCRN Events & Meetings
END:VEVENT
BEGIN:VEVENT
DTSTART;TZID=America/Phoenix:20260702T090000
DTEND;TZID=America/Phoenix:20260702T160000
DTSTAMP:20260425T085641
CREATED:20241008T054305Z
LAST-MODIFIED:20241008T062314Z
UID:10001819-1782982800-1783008000@www.hocrn.org
SUMMARY:HOCRN Transport
DESCRIPTION:
URL:https://www.hocrn.org/event/hocrn-transport/2026-07-02
CATEGORIES:HOCRN Events & Meetings
END:VEVENT
BEGIN:VEVENT
DTSTART;TZID=America/Phoenix:20260707T090000
DTEND;TZID=America/Phoenix:20260707T160000
DTSTAMP:20260425T085641
CREATED:20241008T054305Z
LAST-MODIFIED:20241008T062314Z
UID:10001820-1783414800-1783440000@www.hocrn.org
SUMMARY:HOCRN Transport
DESCRIPTION:
URL:https://www.hocrn.org/event/hocrn-transport/2026-07-07
CATEGORIES:HOCRN Events & Meetings
END:VEVENT
BEGIN:VEVENT
DTSTART;TZID=America/Phoenix:20260708T173000
DTEND;TZID=America/Phoenix:20260708T183000
DTSTAMP:20260425T085641
CREATED:20241008T054843Z
LAST-MODIFIED:20241008T062530Z
UID:10002241-1783531800-1783535400@www.hocrn.org
SUMMARY:Chamber Meeting
DESCRIPTION:
URL:https://www.hocrn.org/event/chamber-meeting/2026-07-08
LOCATION:Heber-Overgaard Fire District\, 2061 Lumber Valley Rd\, Overgaard\, 85933\, United States
CATEGORIES:HOCRN Events & Meetings
END:VEVENT
BEGIN:VEVENT
DTSTART;TZID=America/Phoenix:20260709T090000
DTEND;TZID=America/Phoenix:20260709T160000
DTSTAMP:20260425T085641
CREATED:20241008T054305Z
LAST-MODIFIED:20241008T062314Z
UID:10001821-1783587600-1783612800@www.hocrn.org
SUMMARY:HOCRN Transport
DESCRIPTION:
URL:https://www.hocrn.org/event/hocrn-transport/2026-07-09
CATEGORIES:HOCRN Events & Meetings
END:VEVENT
BEGIN:VEVENT
DTSTART;TZID=America/Phoenix:20260714T090000
DTEND;TZID=America/Phoenix:20260714T160000
DTSTAMP:20260425T085641
CREATED:20241008T054305Z
LAST-MODIFIED:20241008T062314Z
UID:10001822-1784019600-1784044800@www.hocrn.org
SUMMARY:HOCRN Transport
DESCRIPTION:
URL:https://www.hocrn.org/event/hocrn-transport/2026-07-14
CATEGORIES:HOCRN Events & Meetings
END:VEVENT
BEGIN:VEVENT
DTSTART;TZID=America/Phoenix:20260714T123000
DTEND;TZID=America/Phoenix:20260714T133000
DTSTAMP:20260425T085641
CREATED:20241008T055551Z
LAST-MODIFIED:20241008T062417Z
UID:10001597-1784032200-1784035800@www.hocrn.org
SUMMARY:Drug Coalition Meeting via Zoom
DESCRIPTION:Vicky Solomon with Nexus Coalition/The Connection Coalition would like to remind you of the monthly Coalition meetings on the second Tuesday of each month from 12:30 to 1:30 p.m. via zoom. \nTopic: TCC DFC1 Coalition Meeting \nJoin Zoom Meeting\nhttps://us02web.zoom.us/j/87559700560?pwd=bzcvN0lJbGJOSTN3aW9yTWwwaEUvUT09 \nMeeting ID: 875 5970 0560\nPasscode: 487957 \nSame zoom log in each month. Feel free to invite anyone to attend! The more the merrier! \nJoin with Google Meet: https://meet.google.com/dui-embw-tef\nOr dial: (US) +1 586-459-0352 PIN: 846821201#\nMore phone numbers: https://tel.meet/dui-embw-tef?pin=6592074319938&hs=7 \nLearn more about Meet at: https://support.google.com/a/users/answer/9282720
URL:https://www.hocrn.org/event/drug-coalition-meeting-via-zoom/2026-07-14
CATEGORIES:HOCRN Events & Meetings
END:VEVENT
BEGIN:VEVENT
DTSTART;TZID=America/Phoenix:20260714T140000
DTEND;TZID=America/Phoenix:20260714T153000
DTSTAMP:20260425T085641
CREATED:20241008T054651Z
LAST-MODIFIED:20241008T062505Z
UID:10002182-1784037600-1784043000@www.hocrn.org
SUMMARY:Board Member's Zoom Meeting
DESCRIPTION:Join our October 8 Zoom meeting \nMeeting ID: 873 1231 4815\nPasscode: 445154 \nOne tap mobile\n+17193594580\,\,87312314815#\,\,\,\,*445154# US\n+12532050468\,\,87312314815#\,\,\,\,*445154# US \nDial by your location\n• +1 719 359 4580 US\n• +1 253 205 0468 US\n• +1 253 215 8782 US (Tacoma)\n• +1 346 248 7799 US (Houston)\n• +1 669 444 9171 US\n• +1 669 900 6833 US (San Jose)\n• +1 301 715 8592 US (Washington DC)\n• +1 305 224 1968 US\n• +1 309 205 3325 US\n• +1 312 626 6799 US (Chicago)\n• +1 360 209 5623 US\n• +1 386 347 5053 US\n• +1 507 473 4847 US\n• +1 564 217 2000 US\n• +1 646 931 3860 US\n• +1 689 278 1000 US\n• +1 929 205 6099 US (New York) \nMeeting ID: 873 1231 4815\nPasscode: 445154 \nFind your local number
URL:https://www.hocrn.org/event/board-members-zoom-meeting/2026-07-14
CATEGORIES:HOCRN Events & Meetings
END:VEVENT
BEGIN:VEVENT
DTSTART;TZID=America/Phoenix:20260716T090000
DTEND;TZID=America/Phoenix:20260716T160000
DTSTAMP:20260425T085641
CREATED:20241008T054305Z
LAST-MODIFIED:20241008T062314Z
UID:10001823-1784192400-1784217600@www.hocrn.org
SUMMARY:HOCRN Transport
DESCRIPTION:
URL:https://www.hocrn.org/event/hocrn-transport/2026-07-16
CATEGORIES:HOCRN Events & Meetings
END:VEVENT
BEGIN:VEVENT
DTSTART;TZID=America/Phoenix:20260721T090000
DTEND;TZID=America/Phoenix:20260721T160000
DTSTAMP:20260425T085641
CREATED:20241008T054305Z
LAST-MODIFIED:20241008T062314Z
UID:10001824-1784624400-1784649600@www.hocrn.org
SUMMARY:HOCRN Transport
DESCRIPTION:
URL:https://www.hocrn.org/event/hocrn-transport/2026-07-21
CATEGORIES:HOCRN Events & Meetings
END:VEVENT
BEGIN:VEVENT
DTSTART;TZID=America/Phoenix:20260723T090000
DTEND;TZID=America/Phoenix:20260723T160000
DTSTAMP:20260425T085641
CREATED:20241008T054305Z
LAST-MODIFIED:20241008T062314Z
UID:10001825-1784797200-1784822400@www.hocrn.org
SUMMARY:HOCRN Transport
DESCRIPTION:
URL:https://www.hocrn.org/event/hocrn-transport/2026-07-23
CATEGORIES:HOCRN Events & Meetings
END:VEVENT
BEGIN:VEVENT
DTSTART;TZID=America/Phoenix:20260728T090000
DTEND;TZID=America/Phoenix:20260728T160000
DTSTAMP:20260425T085641
CREATED:20241008T054305Z
LAST-MODIFIED:20241008T062314Z
UID:10001826-1785229200-1785254400@www.hocrn.org
SUMMARY:HOCRN Transport
DESCRIPTION:
URL:https://www.hocrn.org/event/hocrn-transport/2026-07-28
CATEGORIES:HOCRN Events & Meetings
END:VEVENT
BEGIN:VEVENT
DTSTART;TZID=America/Phoenix:20260730T090000
DTEND;TZID=America/Phoenix:20260730T160000
DTSTAMP:20260425T085641
CREATED:20241008T054305Z
LAST-MODIFIED:20241008T062314Z
UID:10001827-1785402000-1785427200@www.hocrn.org
SUMMARY:HOCRN Transport
DESCRIPTION:
URL:https://www.hocrn.org/event/hocrn-transport/2026-07-30
CATEGORIES:HOCRN Events & Meetings
END:VEVENT
BEGIN:VEVENT
DTSTART;TZID=America/Phoenix:20260804T090000
DTEND;TZID=America/Phoenix:20260804T160000
DTSTAMP:20260425T085641
CREATED:20241008T054305Z
LAST-MODIFIED:20241008T062314Z
UID:10001828-1785834000-1785859200@www.hocrn.org
SUMMARY:HOCRN Transport
DESCRIPTION:
URL:https://www.hocrn.org/event/hocrn-transport/2026-08-04
CATEGORIES:HOCRN Events & Meetings
END:VEVENT
BEGIN:VEVENT
DTSTART;TZID=America/Phoenix:20260806T090000
DTEND;TZID=America/Phoenix:20260806T160000
DTSTAMP:20260425T085641
CREATED:20241008T054305Z
LAST-MODIFIED:20241008T062314Z
UID:10001829-1786006800-1786032000@www.hocrn.org
SUMMARY:HOCRN Transport
DESCRIPTION:
URL:https://www.hocrn.org/event/hocrn-transport/2026-08-06
CATEGORIES:HOCRN Events & Meetings
END:VEVENT
BEGIN:VEVENT
DTSTART;TZID=America/Phoenix:20260811T090000
DTEND;TZID=America/Phoenix:20260811T160000
DTSTAMP:20260425T085641
CREATED:20241008T054305Z
LAST-MODIFIED:20241008T062314Z
UID:10001830-1786438800-1786464000@www.hocrn.org
SUMMARY:HOCRN Transport
DESCRIPTION:
URL:https://www.hocrn.org/event/hocrn-transport/2026-08-11
CATEGORIES:HOCRN Events & Meetings
END:VEVENT
END:VCALENDAR