BEGIN:VCALENDAR
VERSION:2.0
PRODID:-//Heber Overgaard Community Resource Network - ECPv6.15.17.1//NONSGML v1.0//EN
CALSCALE:GREGORIAN
METHOD:PUBLISH
X-WR-CALNAME:Heber Overgaard Community Resource Network
X-ORIGINAL-URL:https://www.hocrn.org
X-WR-CALDESC:Events for Heber Overgaard Community Resource Network
REFRESH-INTERVAL;VALUE=DURATION:PT1H
X-Robots-Tag:noindex
X-PUBLISHED-TTL:PT1H
BEGIN:VTIMEZONE
TZID:America/Phoenix
BEGIN:STANDARD
TZOFFSETFROM:-0700
TZOFFSETTO:-0700
TZNAME:MST
DTSTART:20260101T000000
END:STANDARD
END:VTIMEZONE
BEGIN:VEVENT
DTSTART;TZID=America/Phoenix:20270520T090000
DTEND;TZID=America/Phoenix:20270520T160000
DTSTAMP:20260425T210059
CREATED:20241008T054305Z
LAST-MODIFIED:20241008T062314Z
UID:10001911-1810803600-1810828800@www.hocrn.org
SUMMARY:HOCRN Transport
DESCRIPTION:
URL:https://www.hocrn.org/event/hocrn-transport/2027-05-20
CATEGORIES:HOCRN Events & Meetings
END:VEVENT
BEGIN:VEVENT
DTSTART;TZID=America/Phoenix:20270525T090000
DTEND;TZID=America/Phoenix:20270525T160000
DTSTAMP:20260425T210059
CREATED:20241008T054305Z
LAST-MODIFIED:20241008T062314Z
UID:10001912-1811235600-1811260800@www.hocrn.org
SUMMARY:HOCRN Transport
DESCRIPTION:
URL:https://www.hocrn.org/event/hocrn-transport/2027-05-25
CATEGORIES:HOCRN Events & Meetings
END:VEVENT
BEGIN:VEVENT
DTSTART;TZID=America/Phoenix:20270527T090000
DTEND;TZID=America/Phoenix:20270527T160000
DTSTAMP:20260425T210059
CREATED:20241008T054305Z
LAST-MODIFIED:20241008T062314Z
UID:10001913-1811408400-1811433600@www.hocrn.org
SUMMARY:HOCRN Transport
DESCRIPTION:
URL:https://www.hocrn.org/event/hocrn-transport/2027-05-27
CATEGORIES:HOCRN Events & Meetings
END:VEVENT
BEGIN:VEVENT
DTSTART;TZID=America/Phoenix:20270601T090000
DTEND;TZID=America/Phoenix:20270601T160000
DTSTAMP:20260425T210059
CREATED:20241008T054305Z
LAST-MODIFIED:20241008T062314Z
UID:10001914-1811840400-1811865600@www.hocrn.org
SUMMARY:HOCRN Transport
DESCRIPTION:
URL:https://www.hocrn.org/event/hocrn-transport/2027-06-01
CATEGORIES:HOCRN Events & Meetings
END:VEVENT
BEGIN:VEVENT
DTSTART;TZID=America/Phoenix:20270603T090000
DTEND;TZID=America/Phoenix:20270603T160000
DTSTAMP:20260425T210059
CREATED:20241008T054305Z
LAST-MODIFIED:20241008T062314Z
UID:10001915-1812013200-1812038400@www.hocrn.org
SUMMARY:HOCRN Transport
DESCRIPTION:
URL:https://www.hocrn.org/event/hocrn-transport/2027-06-03
CATEGORIES:HOCRN Events & Meetings
END:VEVENT
BEGIN:VEVENT
DTSTART;TZID=America/Phoenix:20270608T090000
DTEND;TZID=America/Phoenix:20270608T160000
DTSTAMP:20260425T210059
CREATED:20241008T054305Z
LAST-MODIFIED:20241008T062314Z
UID:10001916-1812445200-1812470400@www.hocrn.org
SUMMARY:HOCRN Transport
DESCRIPTION:
URL:https://www.hocrn.org/event/hocrn-transport/2027-06-08
CATEGORIES:HOCRN Events & Meetings
END:VEVENT
BEGIN:VEVENT
DTSTART;TZID=America/Phoenix:20270608T123000
DTEND;TZID=America/Phoenix:20270608T133000
DTSTAMP:20260425T210059
CREATED:20241008T055551Z
LAST-MODIFIED:20241008T062417Z
UID:10001608-1812457800-1812461400@www.hocrn.org
SUMMARY:Drug Coalition Meeting via Zoom
DESCRIPTION:Vicky Solomon with Nexus Coalition/The Connection Coalition would like to remind you of the monthly Coalition meetings on the second Tuesday of each month from 12:30 to 1:30 p.m. via zoom. \nTopic: TCC DFC1 Coalition Meeting \nJoin Zoom Meeting\nhttps://us02web.zoom.us/j/87559700560?pwd=bzcvN0lJbGJOSTN3aW9yTWwwaEUvUT09 \nMeeting ID: 875 5970 0560\nPasscode: 487957 \nSame zoom log in each month. Feel free to invite anyone to attend! The more the merrier! \nJoin with Google Meet: https://meet.google.com/dui-embw-tef\nOr dial: (US) +1 586-459-0352 PIN: 846821201#\nMore phone numbers: https://tel.meet/dui-embw-tef?pin=6592074319938&hs=7 \nLearn more about Meet at: https://support.google.com/a/users/answer/9282720
URL:https://www.hocrn.org/event/drug-coalition-meeting-via-zoom/2027-06-08
CATEGORIES:HOCRN Events & Meetings
END:VEVENT
BEGIN:VEVENT
DTSTART;TZID=America/Phoenix:20270608T140000
DTEND;TZID=America/Phoenix:20270608T153000
DTSTAMP:20260425T210059
CREATED:20241008T054651Z
LAST-MODIFIED:20241008T062505Z
UID:10002193-1812463200-1812468600@www.hocrn.org
SUMMARY:Board Member's Zoom Meeting
DESCRIPTION:Join our October 8 Zoom meeting \nMeeting ID: 873 1231 4815\nPasscode: 445154 \nOne tap mobile\n+17193594580\,\,87312314815#\,\,\,\,*445154# US\n+12532050468\,\,87312314815#\,\,\,\,*445154# US \nDial by your location\n• +1 719 359 4580 US\n• +1 253 205 0468 US\n• +1 253 215 8782 US (Tacoma)\n• +1 346 248 7799 US (Houston)\n• +1 669 444 9171 US\n• +1 669 900 6833 US (San Jose)\n• +1 301 715 8592 US (Washington DC)\n• +1 305 224 1968 US\n• +1 309 205 3325 US\n• +1 312 626 6799 US (Chicago)\n• +1 360 209 5623 US\n• +1 386 347 5053 US\n• +1 507 473 4847 US\n• +1 564 217 2000 US\n• +1 646 931 3860 US\n• +1 689 278 1000 US\n• +1 929 205 6099 US (New York) \nMeeting ID: 873 1231 4815\nPasscode: 445154 \nFind your local number
URL:https://www.hocrn.org/event/board-members-zoom-meeting/2027-06-08
CATEGORIES:HOCRN Events & Meetings
END:VEVENT
BEGIN:VEVENT
DTSTART;TZID=America/Phoenix:20270609T173000
DTEND;TZID=America/Phoenix:20270609T183000
DTSTAMP:20260425T210059
CREATED:20241008T054843Z
LAST-MODIFIED:20241008T062530Z
UID:10002252-1812562200-1812565800@www.hocrn.org
SUMMARY:Chamber Meeting
DESCRIPTION:
URL:https://www.hocrn.org/event/chamber-meeting/2027-06-09
LOCATION:Heber-Overgaard Fire District\, 2061 Lumber Valley Rd\, Overgaard\, 85933\, United States
CATEGORIES:HOCRN Events & Meetings
END:VEVENT
BEGIN:VEVENT
DTSTART;TZID=America/Phoenix:20270610T090000
DTEND;TZID=America/Phoenix:20270610T160000
DTSTAMP:20260425T210059
CREATED:20241008T054305Z
LAST-MODIFIED:20241008T062314Z
UID:10001917-1812618000-1812643200@www.hocrn.org
SUMMARY:HOCRN Transport
DESCRIPTION:
URL:https://www.hocrn.org/event/hocrn-transport/2027-06-10
CATEGORIES:HOCRN Events & Meetings
END:VEVENT
BEGIN:VEVENT
DTSTART;TZID=America/Phoenix:20270615T090000
DTEND;TZID=America/Phoenix:20270615T160000
DTSTAMP:20260425T210059
CREATED:20241008T054305Z
LAST-MODIFIED:20241008T062314Z
UID:10001918-1813050000-1813075200@www.hocrn.org
SUMMARY:HOCRN Transport
DESCRIPTION:
URL:https://www.hocrn.org/event/hocrn-transport/2027-06-15
CATEGORIES:HOCRN Events & Meetings
END:VEVENT
BEGIN:VEVENT
DTSTART;TZID=America/Phoenix:20270617T090000
DTEND;TZID=America/Phoenix:20270617T160000
DTSTAMP:20260425T210059
CREATED:20241008T054305Z
LAST-MODIFIED:20241008T062314Z
UID:10001919-1813222800-1813248000@www.hocrn.org
SUMMARY:HOCRN Transport
DESCRIPTION:
URL:https://www.hocrn.org/event/hocrn-transport/2027-06-17
CATEGORIES:HOCRN Events & Meetings
END:VEVENT
BEGIN:VEVENT
DTSTART;TZID=America/Phoenix:20270622T090000
DTEND;TZID=America/Phoenix:20270622T160000
DTSTAMP:20260425T210059
CREATED:20241008T054305Z
LAST-MODIFIED:20241008T062314Z
UID:10001920-1813654800-1813680000@www.hocrn.org
SUMMARY:HOCRN Transport
DESCRIPTION:
URL:https://www.hocrn.org/event/hocrn-transport/2027-06-22
CATEGORIES:HOCRN Events & Meetings
END:VEVENT
BEGIN:VEVENT
DTSTART;TZID=America/Phoenix:20270624T090000
DTEND;TZID=America/Phoenix:20270624T160000
DTSTAMP:20260425T210059
CREATED:20241008T054305Z
LAST-MODIFIED:20241008T062314Z
UID:10001921-1813827600-1813852800@www.hocrn.org
SUMMARY:HOCRN Transport
DESCRIPTION:
URL:https://www.hocrn.org/event/hocrn-transport/2027-06-24
CATEGORIES:HOCRN Events & Meetings
END:VEVENT
BEGIN:VEVENT
DTSTART;TZID=America/Phoenix:20270629T090000
DTEND;TZID=America/Phoenix:20270629T160000
DTSTAMP:20260425T210059
CREATED:20241008T054305Z
LAST-MODIFIED:20241008T062314Z
UID:10001922-1814259600-1814284800@www.hocrn.org
SUMMARY:HOCRN Transport
DESCRIPTION:
URL:https://www.hocrn.org/event/hocrn-transport/2027-06-29
CATEGORIES:HOCRN Events & Meetings
END:VEVENT
BEGIN:VEVENT
DTSTART;TZID=America/Phoenix:20270701T090000
DTEND;TZID=America/Phoenix:20270701T160000
DTSTAMP:20260425T210059
CREATED:20241008T054305Z
LAST-MODIFIED:20241008T062314Z
UID:10001923-1814432400-1814457600@www.hocrn.org
SUMMARY:HOCRN Transport
DESCRIPTION:
URL:https://www.hocrn.org/event/hocrn-transport/2027-07-01
CATEGORIES:HOCRN Events & Meetings
END:VEVENT
BEGIN:VEVENT
DTSTART;TZID=America/Phoenix:20270706T090000
DTEND;TZID=America/Phoenix:20270706T160000
DTSTAMP:20260425T210059
CREATED:20241008T054305Z
LAST-MODIFIED:20241008T062314Z
UID:10001924-1814864400-1814889600@www.hocrn.org
SUMMARY:HOCRN Transport
DESCRIPTION:
URL:https://www.hocrn.org/event/hocrn-transport/2027-07-06
CATEGORIES:HOCRN Events & Meetings
END:VEVENT
BEGIN:VEVENT
DTSTART;TZID=America/Phoenix:20270708T090000
DTEND;TZID=America/Phoenix:20270708T160000
DTSTAMP:20260425T210059
CREATED:20241008T054305Z
LAST-MODIFIED:20241008T062314Z
UID:10001925-1815037200-1815062400@www.hocrn.org
SUMMARY:HOCRN Transport
DESCRIPTION:
URL:https://www.hocrn.org/event/hocrn-transport/2027-07-08
CATEGORIES:HOCRN Events & Meetings
END:VEVENT
BEGIN:VEVENT
DTSTART;TZID=America/Phoenix:20270713T090000
DTEND;TZID=America/Phoenix:20270713T160000
DTSTAMP:20260425T210059
CREATED:20241008T054305Z
LAST-MODIFIED:20241008T062314Z
UID:10001926-1815469200-1815494400@www.hocrn.org
SUMMARY:HOCRN Transport
DESCRIPTION:
URL:https://www.hocrn.org/event/hocrn-transport/2027-07-13
CATEGORIES:HOCRN Events & Meetings
END:VEVENT
BEGIN:VEVENT
DTSTART;TZID=America/Phoenix:20270713T123000
DTEND;TZID=America/Phoenix:20270713T133000
DTSTAMP:20260425T210059
CREATED:20241008T055551Z
LAST-MODIFIED:20241008T062417Z
UID:10001609-1815481800-1815485400@www.hocrn.org
SUMMARY:Drug Coalition Meeting via Zoom
DESCRIPTION:Vicky Solomon with Nexus Coalition/The Connection Coalition would like to remind you of the monthly Coalition meetings on the second Tuesday of each month from 12:30 to 1:30 p.m. via zoom. \nTopic: TCC DFC1 Coalition Meeting \nJoin Zoom Meeting\nhttps://us02web.zoom.us/j/87559700560?pwd=bzcvN0lJbGJOSTN3aW9yTWwwaEUvUT09 \nMeeting ID: 875 5970 0560\nPasscode: 487957 \nSame zoom log in each month. Feel free to invite anyone to attend! The more the merrier! \nJoin with Google Meet: https://meet.google.com/dui-embw-tef\nOr dial: (US) +1 586-459-0352 PIN: 846821201#\nMore phone numbers: https://tel.meet/dui-embw-tef?pin=6592074319938&hs=7 \nLearn more about Meet at: https://support.google.com/a/users/answer/9282720
URL:https://www.hocrn.org/event/drug-coalition-meeting-via-zoom/2027-07-13
CATEGORIES:HOCRN Events & Meetings
END:VEVENT
BEGIN:VEVENT
DTSTART;TZID=America/Phoenix:20270713T140000
DTEND;TZID=America/Phoenix:20270713T153000
DTSTAMP:20260425T210059
CREATED:20241008T054651Z
LAST-MODIFIED:20241008T062505Z
UID:10002194-1815487200-1815492600@www.hocrn.org
SUMMARY:Board Member's Zoom Meeting
DESCRIPTION:Join our October 8 Zoom meeting \nMeeting ID: 873 1231 4815\nPasscode: 445154 \nOne tap mobile\n+17193594580\,\,87312314815#\,\,\,\,*445154# US\n+12532050468\,\,87312314815#\,\,\,\,*445154# US \nDial by your location\n• +1 719 359 4580 US\n• +1 253 205 0468 US\n• +1 253 215 8782 US (Tacoma)\n• +1 346 248 7799 US (Houston)\n• +1 669 444 9171 US\n• +1 669 900 6833 US (San Jose)\n• +1 301 715 8592 US (Washington DC)\n• +1 305 224 1968 US\n• +1 309 205 3325 US\n• +1 312 626 6799 US (Chicago)\n• +1 360 209 5623 US\n• +1 386 347 5053 US\n• +1 507 473 4847 US\n• +1 564 217 2000 US\n• +1 646 931 3860 US\n• +1 689 278 1000 US\n• +1 929 205 6099 US (New York) \nMeeting ID: 873 1231 4815\nPasscode: 445154 \nFind your local number
URL:https://www.hocrn.org/event/board-members-zoom-meeting/2027-07-13
CATEGORIES:HOCRN Events & Meetings
END:VEVENT
BEGIN:VEVENT
DTSTART;TZID=America/Phoenix:20270714T173000
DTEND;TZID=America/Phoenix:20270714T183000
DTSTAMP:20260425T210059
CREATED:20241008T054843Z
LAST-MODIFIED:20241008T062530Z
UID:10002253-1815586200-1815589800@www.hocrn.org
SUMMARY:Chamber Meeting
DESCRIPTION:
URL:https://www.hocrn.org/event/chamber-meeting/2027-07-14
LOCATION:Heber-Overgaard Fire District\, 2061 Lumber Valley Rd\, Overgaard\, 85933\, United States
CATEGORIES:HOCRN Events & Meetings
END:VEVENT
BEGIN:VEVENT
DTSTART;TZID=America/Phoenix:20270715T090000
DTEND;TZID=America/Phoenix:20270715T160000
DTSTAMP:20260425T210059
CREATED:20241008T054305Z
LAST-MODIFIED:20241008T062314Z
UID:10001927-1815642000-1815667200@www.hocrn.org
SUMMARY:HOCRN Transport
DESCRIPTION:
URL:https://www.hocrn.org/event/hocrn-transport/2027-07-15
CATEGORIES:HOCRN Events & Meetings
END:VEVENT
BEGIN:VEVENT
DTSTART;TZID=America/Phoenix:20270720T090000
DTEND;TZID=America/Phoenix:20270720T160000
DTSTAMP:20260425T210059
CREATED:20241008T054305Z
LAST-MODIFIED:20241008T062314Z
UID:10001928-1816074000-1816099200@www.hocrn.org
SUMMARY:HOCRN Transport
DESCRIPTION:
URL:https://www.hocrn.org/event/hocrn-transport/2027-07-20
CATEGORIES:HOCRN Events & Meetings
END:VEVENT
BEGIN:VEVENT
DTSTART;TZID=America/Phoenix:20270722T090000
DTEND;TZID=America/Phoenix:20270722T160000
DTSTAMP:20260425T210059
CREATED:20241008T054305Z
LAST-MODIFIED:20241008T062314Z
UID:10001929-1816246800-1816272000@www.hocrn.org
SUMMARY:HOCRN Transport
DESCRIPTION:
URL:https://www.hocrn.org/event/hocrn-transport/2027-07-22
CATEGORIES:HOCRN Events & Meetings
END:VEVENT
BEGIN:VEVENT
DTSTART;TZID=America/Phoenix:20270727T090000
DTEND;TZID=America/Phoenix:20270727T160000
DTSTAMP:20260425T210059
CREATED:20241008T054305Z
LAST-MODIFIED:20241008T062314Z
UID:10001930-1816678800-1816704000@www.hocrn.org
SUMMARY:HOCRN Transport
DESCRIPTION:
URL:https://www.hocrn.org/event/hocrn-transport/2027-07-27
CATEGORIES:HOCRN Events & Meetings
END:VEVENT
BEGIN:VEVENT
DTSTART;TZID=America/Phoenix:20270729T090000
DTEND;TZID=America/Phoenix:20270729T160000
DTSTAMP:20260425T210059
CREATED:20241008T054305Z
LAST-MODIFIED:20241008T062314Z
UID:10001931-1816851600-1816876800@www.hocrn.org
SUMMARY:HOCRN Transport
DESCRIPTION:
URL:https://www.hocrn.org/event/hocrn-transport/2027-07-29
CATEGORIES:HOCRN Events & Meetings
END:VEVENT
BEGIN:VEVENT
DTSTART;TZID=America/Phoenix:20270803T090000
DTEND;TZID=America/Phoenix:20270803T160000
DTSTAMP:20260425T210059
CREATED:20241008T054305Z
LAST-MODIFIED:20241008T062314Z
UID:10001932-1817283600-1817308800@www.hocrn.org
SUMMARY:HOCRN Transport
DESCRIPTION:
URL:https://www.hocrn.org/event/hocrn-transport/2027-08-03
CATEGORIES:HOCRN Events & Meetings
END:VEVENT
BEGIN:VEVENT
DTSTART;TZID=America/Phoenix:20270805T090000
DTEND;TZID=America/Phoenix:20270805T160000
DTSTAMP:20260425T210059
CREATED:20241008T054305Z
LAST-MODIFIED:20241008T062314Z
UID:10001933-1817456400-1817481600@www.hocrn.org
SUMMARY:HOCRN Transport
DESCRIPTION:
URL:https://www.hocrn.org/event/hocrn-transport/2027-08-05
CATEGORIES:HOCRN Events & Meetings
END:VEVENT
BEGIN:VEVENT
DTSTART;TZID=America/Phoenix:20270810T090000
DTEND;TZID=America/Phoenix:20270810T160000
DTSTAMP:20260425T210059
CREATED:20241008T054305Z
LAST-MODIFIED:20241008T062314Z
UID:10001934-1817888400-1817913600@www.hocrn.org
SUMMARY:HOCRN Transport
DESCRIPTION:
URL:https://www.hocrn.org/event/hocrn-transport/2027-08-10
CATEGORIES:HOCRN Events & Meetings
END:VEVENT
END:VCALENDAR