BEGIN:VCALENDAR
VERSION:2.0
PRODID:-//Heber Overgaard Community Resource Network - ECPv6.15.17.1//NONSGML v1.0//EN
CALSCALE:GREGORIAN
METHOD:PUBLISH
X-WR-CALNAME:Heber Overgaard Community Resource Network
X-ORIGINAL-URL:https://www.hocrn.org
X-WR-CALDESC:Events for Heber Overgaard Community Resource Network
REFRESH-INTERVAL;VALUE=DURATION:PT1H
X-Robots-Tag:noindex
X-PUBLISHED-TTL:PT1H
BEGIN:VTIMEZONE
TZID:America/Phoenix
BEGIN:STANDARD
TZOFFSETFROM:-0700
TZOFFSETTO:-0700
TZNAME:MST
DTSTART:20260101T000000
END:STANDARD
END:VTIMEZONE
BEGIN:VEVENT
DTSTART;TZID=America/Phoenix:20270401T090000
DTEND;TZID=America/Phoenix:20270401T160000
DTSTAMP:20260425T183316
CREATED:20241008T054305Z
LAST-MODIFIED:20241008T062314Z
UID:10001897-1806570000-1806595200@www.hocrn.org
SUMMARY:HOCRN Transport
DESCRIPTION:
URL:https://www.hocrn.org/event/hocrn-transport/2027-04-01
CATEGORIES:HOCRN Events & Meetings
END:VEVENT
BEGIN:VEVENT
DTSTART;TZID=America/Phoenix:20270406T090000
DTEND;TZID=America/Phoenix:20270406T160000
DTSTAMP:20260425T183316
CREATED:20241008T054305Z
LAST-MODIFIED:20241008T062314Z
UID:10001898-1807002000-1807027200@www.hocrn.org
SUMMARY:HOCRN Transport
DESCRIPTION:
URL:https://www.hocrn.org/event/hocrn-transport/2027-04-06
CATEGORIES:HOCRN Events & Meetings
END:VEVENT
BEGIN:VEVENT
DTSTART;TZID=America/Phoenix:20270408T090000
DTEND;TZID=America/Phoenix:20270408T160000
DTSTAMP:20260425T183316
CREATED:20241008T054305Z
LAST-MODIFIED:20241008T062314Z
UID:10001899-1807174800-1807200000@www.hocrn.org
SUMMARY:HOCRN Transport
DESCRIPTION:
URL:https://www.hocrn.org/event/hocrn-transport/2027-04-08
CATEGORIES:HOCRN Events & Meetings
END:VEVENT
BEGIN:VEVENT
DTSTART;TZID=America/Phoenix:20270413T090000
DTEND;TZID=America/Phoenix:20270413T160000
DTSTAMP:20260425T183316
CREATED:20241008T054305Z
LAST-MODIFIED:20241008T062314Z
UID:10001900-1807606800-1807632000@www.hocrn.org
SUMMARY:HOCRN Transport
DESCRIPTION:
URL:https://www.hocrn.org/event/hocrn-transport/2027-04-13
CATEGORIES:HOCRN Events & Meetings
END:VEVENT
BEGIN:VEVENT
DTSTART;TZID=America/Phoenix:20270413T123000
DTEND;TZID=America/Phoenix:20270413T133000
DTSTAMP:20260425T183316
CREATED:20241008T055551Z
LAST-MODIFIED:20241008T062417Z
UID:10001606-1807619400-1807623000@www.hocrn.org
SUMMARY:Drug Coalition Meeting via Zoom
DESCRIPTION:Vicky Solomon with Nexus Coalition/The Connection Coalition would like to remind you of the monthly Coalition meetings on the second Tuesday of each month from 12:30 to 1:30 p.m. via zoom. \nTopic: TCC DFC1 Coalition Meeting \nJoin Zoom Meeting\nhttps://us02web.zoom.us/j/87559700560?pwd=bzcvN0lJbGJOSTN3aW9yTWwwaEUvUT09 \nMeeting ID: 875 5970 0560\nPasscode: 487957 \nSame zoom log in each month. Feel free to invite anyone to attend! The more the merrier! \nJoin with Google Meet: https://meet.google.com/dui-embw-tef\nOr dial: (US) +1 586-459-0352 PIN: 846821201#\nMore phone numbers: https://tel.meet/dui-embw-tef?pin=6592074319938&hs=7 \nLearn more about Meet at: https://support.google.com/a/users/answer/9282720
URL:https://www.hocrn.org/event/drug-coalition-meeting-via-zoom/2027-04-13
CATEGORIES:HOCRN Events & Meetings
END:VEVENT
BEGIN:VEVENT
DTSTART;TZID=America/Phoenix:20270413T140000
DTEND;TZID=America/Phoenix:20270413T153000
DTSTAMP:20260425T183316
CREATED:20241008T054651Z
LAST-MODIFIED:20241008T062505Z
UID:10002191-1807624800-1807630200@www.hocrn.org
SUMMARY:Board Member's Zoom Meeting
DESCRIPTION:Join our October 8 Zoom meeting \nMeeting ID: 873 1231 4815\nPasscode: 445154 \nOne tap mobile\n+17193594580\,\,87312314815#\,\,\,\,*445154# US\n+12532050468\,\,87312314815#\,\,\,\,*445154# US \nDial by your location\n• +1 719 359 4580 US\n• +1 253 205 0468 US\n• +1 253 215 8782 US (Tacoma)\n• +1 346 248 7799 US (Houston)\n• +1 669 444 9171 US\n• +1 669 900 6833 US (San Jose)\n• +1 301 715 8592 US (Washington DC)\n• +1 305 224 1968 US\n• +1 309 205 3325 US\n• +1 312 626 6799 US (Chicago)\n• +1 360 209 5623 US\n• +1 386 347 5053 US\n• +1 507 473 4847 US\n• +1 564 217 2000 US\n• +1 646 931 3860 US\n• +1 689 278 1000 US\n• +1 929 205 6099 US (New York) \nMeeting ID: 873 1231 4815\nPasscode: 445154 \nFind your local number
URL:https://www.hocrn.org/event/board-members-zoom-meeting/2027-04-13
CATEGORIES:HOCRN Events & Meetings
END:VEVENT
BEGIN:VEVENT
DTSTART;TZID=America/Phoenix:20270414T173000
DTEND;TZID=America/Phoenix:20270414T183000
DTSTAMP:20260425T183316
CREATED:20241008T054843Z
LAST-MODIFIED:20241008T062530Z
UID:10002250-1807723800-1807727400@www.hocrn.org
SUMMARY:Chamber Meeting
DESCRIPTION:
URL:https://www.hocrn.org/event/chamber-meeting/2027-04-14
LOCATION:Heber-Overgaard Fire District\, 2061 Lumber Valley Rd\, Overgaard\, 85933\, United States
CATEGORIES:HOCRN Events & Meetings
END:VEVENT
BEGIN:VEVENT
DTSTART;TZID=America/Phoenix:20270415T090000
DTEND;TZID=America/Phoenix:20270415T160000
DTSTAMP:20260425T183316
CREATED:20241008T054305Z
LAST-MODIFIED:20241008T062314Z
UID:10001901-1807779600-1807804800@www.hocrn.org
SUMMARY:HOCRN Transport
DESCRIPTION:
URL:https://www.hocrn.org/event/hocrn-transport/2027-04-15
CATEGORIES:HOCRN Events & Meetings
END:VEVENT
BEGIN:VEVENT
DTSTART;TZID=America/Phoenix:20270420T090000
DTEND;TZID=America/Phoenix:20270420T160000
DTSTAMP:20260425T183316
CREATED:20241008T054305Z
LAST-MODIFIED:20241008T062314Z
UID:10001902-1808211600-1808236800@www.hocrn.org
SUMMARY:HOCRN Transport
DESCRIPTION:
URL:https://www.hocrn.org/event/hocrn-transport/2027-04-20
CATEGORIES:HOCRN Events & Meetings
END:VEVENT
BEGIN:VEVENT
DTSTART;TZID=America/Phoenix:20270422T090000
DTEND;TZID=America/Phoenix:20270422T160000
DTSTAMP:20260425T183316
CREATED:20241008T054305Z
LAST-MODIFIED:20241008T062314Z
UID:10001903-1808384400-1808409600@www.hocrn.org
SUMMARY:HOCRN Transport
DESCRIPTION:
URL:https://www.hocrn.org/event/hocrn-transport/2027-04-22
CATEGORIES:HOCRN Events & Meetings
END:VEVENT
BEGIN:VEVENT
DTSTART;TZID=America/Phoenix:20270427T090000
DTEND;TZID=America/Phoenix:20270427T160000
DTSTAMP:20260425T183316
CREATED:20241008T054305Z
LAST-MODIFIED:20241008T062314Z
UID:10001904-1808816400-1808841600@www.hocrn.org
SUMMARY:HOCRN Transport
DESCRIPTION:
URL:https://www.hocrn.org/event/hocrn-transport/2027-04-27
CATEGORIES:HOCRN Events & Meetings
END:VEVENT
BEGIN:VEVENT
DTSTART;TZID=America/Phoenix:20270429T090000
DTEND;TZID=America/Phoenix:20270429T160000
DTSTAMP:20260425T183316
CREATED:20241008T054305Z
LAST-MODIFIED:20241008T062314Z
UID:10001905-1808989200-1809014400@www.hocrn.org
SUMMARY:HOCRN Transport
DESCRIPTION:
URL:https://www.hocrn.org/event/hocrn-transport/2027-04-29
CATEGORIES:HOCRN Events & Meetings
END:VEVENT
BEGIN:VEVENT
DTSTART;TZID=America/Phoenix:20270504T090000
DTEND;TZID=America/Phoenix:20270504T160000
DTSTAMP:20260425T183316
CREATED:20241008T054305Z
LAST-MODIFIED:20241008T062314Z
UID:10001906-1809421200-1809446400@www.hocrn.org
SUMMARY:HOCRN Transport
DESCRIPTION:
URL:https://www.hocrn.org/event/hocrn-transport/2027-05-04
CATEGORIES:HOCRN Events & Meetings
END:VEVENT
BEGIN:VEVENT
DTSTART;TZID=America/Phoenix:20270506T090000
DTEND;TZID=America/Phoenix:20270506T160000
DTSTAMP:20260425T183316
CREATED:20241008T054305Z
LAST-MODIFIED:20241008T062314Z
UID:10001907-1809594000-1809619200@www.hocrn.org
SUMMARY:HOCRN Transport
DESCRIPTION:
URL:https://www.hocrn.org/event/hocrn-transport/2027-05-06
CATEGORIES:HOCRN Events & Meetings
END:VEVENT
BEGIN:VEVENT
DTSTART;TZID=America/Phoenix:20270511T090000
DTEND;TZID=America/Phoenix:20270511T160000
DTSTAMP:20260425T183316
CREATED:20241008T054305Z
LAST-MODIFIED:20241008T062314Z
UID:10001908-1810026000-1810051200@www.hocrn.org
SUMMARY:HOCRN Transport
DESCRIPTION:
URL:https://www.hocrn.org/event/hocrn-transport/2027-05-11
CATEGORIES:HOCRN Events & Meetings
END:VEVENT
BEGIN:VEVENT
DTSTART;TZID=America/Phoenix:20270511T123000
DTEND;TZID=America/Phoenix:20270511T133000
DTSTAMP:20260425T183316
CREATED:20241008T055551Z
LAST-MODIFIED:20241008T062417Z
UID:10001607-1810038600-1810042200@www.hocrn.org
SUMMARY:Drug Coalition Meeting via Zoom
DESCRIPTION:Vicky Solomon with Nexus Coalition/The Connection Coalition would like to remind you of the monthly Coalition meetings on the second Tuesday of each month from 12:30 to 1:30 p.m. via zoom. \nTopic: TCC DFC1 Coalition Meeting \nJoin Zoom Meeting\nhttps://us02web.zoom.us/j/87559700560?pwd=bzcvN0lJbGJOSTN3aW9yTWwwaEUvUT09 \nMeeting ID: 875 5970 0560\nPasscode: 487957 \nSame zoom log in each month. Feel free to invite anyone to attend! The more the merrier! \nJoin with Google Meet: https://meet.google.com/dui-embw-tef\nOr dial: (US) +1 586-459-0352 PIN: 846821201#\nMore phone numbers: https://tel.meet/dui-embw-tef?pin=6592074319938&hs=7 \nLearn more about Meet at: https://support.google.com/a/users/answer/9282720
URL:https://www.hocrn.org/event/drug-coalition-meeting-via-zoom/2027-05-11
CATEGORIES:HOCRN Events & Meetings
END:VEVENT
BEGIN:VEVENT
DTSTART;TZID=America/Phoenix:20270511T140000
DTEND;TZID=America/Phoenix:20270511T153000
DTSTAMP:20260425T183316
CREATED:20241008T054651Z
LAST-MODIFIED:20241008T062505Z
UID:10002192-1810044000-1810049400@www.hocrn.org
SUMMARY:Board Member's Zoom Meeting
DESCRIPTION:Join our October 8 Zoom meeting \nMeeting ID: 873 1231 4815\nPasscode: 445154 \nOne tap mobile\n+17193594580\,\,87312314815#\,\,\,\,*445154# US\n+12532050468\,\,87312314815#\,\,\,\,*445154# US \nDial by your location\n• +1 719 359 4580 US\n• +1 253 205 0468 US\n• +1 253 215 8782 US (Tacoma)\n• +1 346 248 7799 US (Houston)\n• +1 669 444 9171 US\n• +1 669 900 6833 US (San Jose)\n• +1 301 715 8592 US (Washington DC)\n• +1 305 224 1968 US\n• +1 309 205 3325 US\n• +1 312 626 6799 US (Chicago)\n• +1 360 209 5623 US\n• +1 386 347 5053 US\n• +1 507 473 4847 US\n• +1 564 217 2000 US\n• +1 646 931 3860 US\n• +1 689 278 1000 US\n• +1 929 205 6099 US (New York) \nMeeting ID: 873 1231 4815\nPasscode: 445154 \nFind your local number
URL:https://www.hocrn.org/event/board-members-zoom-meeting/2027-05-11
CATEGORIES:HOCRN Events & Meetings
END:VEVENT
BEGIN:VEVENT
DTSTART;TZID=America/Phoenix:20270512T173000
DTEND;TZID=America/Phoenix:20270512T183000
DTSTAMP:20260425T183316
CREATED:20241008T054843Z
LAST-MODIFIED:20241008T062530Z
UID:10002251-1810143000-1810146600@www.hocrn.org
SUMMARY:Chamber Meeting
DESCRIPTION:
URL:https://www.hocrn.org/event/chamber-meeting/2027-05-12
LOCATION:Heber-Overgaard Fire District\, 2061 Lumber Valley Rd\, Overgaard\, 85933\, United States
CATEGORIES:HOCRN Events & Meetings
END:VEVENT
BEGIN:VEVENT
DTSTART;TZID=America/Phoenix:20270513T090000
DTEND;TZID=America/Phoenix:20270513T160000
DTSTAMP:20260425T183316
CREATED:20241008T054305Z
LAST-MODIFIED:20241008T062314Z
UID:10001909-1810198800-1810224000@www.hocrn.org
SUMMARY:HOCRN Transport
DESCRIPTION:
URL:https://www.hocrn.org/event/hocrn-transport/2027-05-13
CATEGORIES:HOCRN Events & Meetings
END:VEVENT
BEGIN:VEVENT
DTSTART;TZID=America/Phoenix:20270518T090000
DTEND;TZID=America/Phoenix:20270518T160000
DTSTAMP:20260425T183316
CREATED:20241008T054305Z
LAST-MODIFIED:20241008T062314Z
UID:10001910-1810630800-1810656000@www.hocrn.org
SUMMARY:HOCRN Transport
DESCRIPTION:
URL:https://www.hocrn.org/event/hocrn-transport/2027-05-18
CATEGORIES:HOCRN Events & Meetings
END:VEVENT
BEGIN:VEVENT
DTSTART;TZID=America/Phoenix:20270520T090000
DTEND;TZID=America/Phoenix:20270520T160000
DTSTAMP:20260425T183316
CREATED:20241008T054305Z
LAST-MODIFIED:20241008T062314Z
UID:10001911-1810803600-1810828800@www.hocrn.org
SUMMARY:HOCRN Transport
DESCRIPTION:
URL:https://www.hocrn.org/event/hocrn-transport/2027-05-20
CATEGORIES:HOCRN Events & Meetings
END:VEVENT
BEGIN:VEVENT
DTSTART;TZID=America/Phoenix:20270525T090000
DTEND;TZID=America/Phoenix:20270525T160000
DTSTAMP:20260425T183316
CREATED:20241008T054305Z
LAST-MODIFIED:20241008T062314Z
UID:10001912-1811235600-1811260800@www.hocrn.org
SUMMARY:HOCRN Transport
DESCRIPTION:
URL:https://www.hocrn.org/event/hocrn-transport/2027-05-25
CATEGORIES:HOCRN Events & Meetings
END:VEVENT
BEGIN:VEVENT
DTSTART;TZID=America/Phoenix:20270527T090000
DTEND;TZID=America/Phoenix:20270527T160000
DTSTAMP:20260425T183316
CREATED:20241008T054305Z
LAST-MODIFIED:20241008T062314Z
UID:10001913-1811408400-1811433600@www.hocrn.org
SUMMARY:HOCRN Transport
DESCRIPTION:
URL:https://www.hocrn.org/event/hocrn-transport/2027-05-27
CATEGORIES:HOCRN Events & Meetings
END:VEVENT
BEGIN:VEVENT
DTSTART;TZID=America/Phoenix:20270601T090000
DTEND;TZID=America/Phoenix:20270601T160000
DTSTAMP:20260425T183316
CREATED:20241008T054305Z
LAST-MODIFIED:20241008T062314Z
UID:10001914-1811840400-1811865600@www.hocrn.org
SUMMARY:HOCRN Transport
DESCRIPTION:
URL:https://www.hocrn.org/event/hocrn-transport/2027-06-01
CATEGORIES:HOCRN Events & Meetings
END:VEVENT
BEGIN:VEVENT
DTSTART;TZID=America/Phoenix:20270603T090000
DTEND;TZID=America/Phoenix:20270603T160000
DTSTAMP:20260425T183316
CREATED:20241008T054305Z
LAST-MODIFIED:20241008T062314Z
UID:10001915-1812013200-1812038400@www.hocrn.org
SUMMARY:HOCRN Transport
DESCRIPTION:
URL:https://www.hocrn.org/event/hocrn-transport/2027-06-03
CATEGORIES:HOCRN Events & Meetings
END:VEVENT
BEGIN:VEVENT
DTSTART;TZID=America/Phoenix:20270608T090000
DTEND;TZID=America/Phoenix:20270608T160000
DTSTAMP:20260425T183316
CREATED:20241008T054305Z
LAST-MODIFIED:20241008T062314Z
UID:10001916-1812445200-1812470400@www.hocrn.org
SUMMARY:HOCRN Transport
DESCRIPTION:
URL:https://www.hocrn.org/event/hocrn-transport/2027-06-08
CATEGORIES:HOCRN Events & Meetings
END:VEVENT
BEGIN:VEVENT
DTSTART;TZID=America/Phoenix:20270608T123000
DTEND;TZID=America/Phoenix:20270608T133000
DTSTAMP:20260425T183316
CREATED:20241008T055551Z
LAST-MODIFIED:20241008T062417Z
UID:10001608-1812457800-1812461400@www.hocrn.org
SUMMARY:Drug Coalition Meeting via Zoom
DESCRIPTION:Vicky Solomon with Nexus Coalition/The Connection Coalition would like to remind you of the monthly Coalition meetings on the second Tuesday of each month from 12:30 to 1:30 p.m. via zoom. \nTopic: TCC DFC1 Coalition Meeting \nJoin Zoom Meeting\nhttps://us02web.zoom.us/j/87559700560?pwd=bzcvN0lJbGJOSTN3aW9yTWwwaEUvUT09 \nMeeting ID: 875 5970 0560\nPasscode: 487957 \nSame zoom log in each month. Feel free to invite anyone to attend! The more the merrier! \nJoin with Google Meet: https://meet.google.com/dui-embw-tef\nOr dial: (US) +1 586-459-0352 PIN: 846821201#\nMore phone numbers: https://tel.meet/dui-embw-tef?pin=6592074319938&hs=7 \nLearn more about Meet at: https://support.google.com/a/users/answer/9282720
URL:https://www.hocrn.org/event/drug-coalition-meeting-via-zoom/2027-06-08
CATEGORIES:HOCRN Events & Meetings
END:VEVENT
BEGIN:VEVENT
DTSTART;TZID=America/Phoenix:20270608T140000
DTEND;TZID=America/Phoenix:20270608T153000
DTSTAMP:20260425T183316
CREATED:20241008T054651Z
LAST-MODIFIED:20241008T062505Z
UID:10002193-1812463200-1812468600@www.hocrn.org
SUMMARY:Board Member's Zoom Meeting
DESCRIPTION:Join our October 8 Zoom meeting \nMeeting ID: 873 1231 4815\nPasscode: 445154 \nOne tap mobile\n+17193594580\,\,87312314815#\,\,\,\,*445154# US\n+12532050468\,\,87312314815#\,\,\,\,*445154# US \nDial by your location\n• +1 719 359 4580 US\n• +1 253 205 0468 US\n• +1 253 215 8782 US (Tacoma)\n• +1 346 248 7799 US (Houston)\n• +1 669 444 9171 US\n• +1 669 900 6833 US (San Jose)\n• +1 301 715 8592 US (Washington DC)\n• +1 305 224 1968 US\n• +1 309 205 3325 US\n• +1 312 626 6799 US (Chicago)\n• +1 360 209 5623 US\n• +1 386 347 5053 US\n• +1 507 473 4847 US\n• +1 564 217 2000 US\n• +1 646 931 3860 US\n• +1 689 278 1000 US\n• +1 929 205 6099 US (New York) \nMeeting ID: 873 1231 4815\nPasscode: 445154 \nFind your local number
URL:https://www.hocrn.org/event/board-members-zoom-meeting/2027-06-08
CATEGORIES:HOCRN Events & Meetings
END:VEVENT
BEGIN:VEVENT
DTSTART;TZID=America/Phoenix:20270609T173000
DTEND;TZID=America/Phoenix:20270609T183000
DTSTAMP:20260425T183316
CREATED:20241008T054843Z
LAST-MODIFIED:20241008T062530Z
UID:10002252-1812562200-1812565800@www.hocrn.org
SUMMARY:Chamber Meeting
DESCRIPTION:
URL:https://www.hocrn.org/event/chamber-meeting/2027-06-09
LOCATION:Heber-Overgaard Fire District\, 2061 Lumber Valley Rd\, Overgaard\, 85933\, United States
CATEGORIES:HOCRN Events & Meetings
END:VEVENT
BEGIN:VEVENT
DTSTART;TZID=America/Phoenix:20270610T090000
DTEND;TZID=America/Phoenix:20270610T160000
DTSTAMP:20260425T183316
CREATED:20241008T054305Z
LAST-MODIFIED:20241008T062314Z
UID:10001917-1812618000-1812643200@www.hocrn.org
SUMMARY:HOCRN Transport
DESCRIPTION:
URL:https://www.hocrn.org/event/hocrn-transport/2027-06-10
CATEGORIES:HOCRN Events & Meetings
END:VEVENT
END:VCALENDAR