BEGIN:VCALENDAR
VERSION:2.0
PRODID:-//Heber Overgaard Community Resource Network - ECPv6.15.17.1//NONSGML v1.0//EN
CALSCALE:GREGORIAN
METHOD:PUBLISH
X-ORIGINAL-URL:https://www.hocrn.org
X-WR-CALDESC:Events for Heber Overgaard Community Resource Network
REFRESH-INTERVAL;VALUE=DURATION:PT1H
X-Robots-Tag:noindex
X-PUBLISHED-TTL:PT1H
BEGIN:VTIMEZONE
TZID:America/Phoenix
BEGIN:STANDARD
TZOFFSETFROM:-0700
TZOFFSETTO:-0700
TZNAME:MST
DTSTART:20250101T000000
END:STANDARD
END:VTIMEZONE
BEGIN:VEVENT
DTSTART;TZID=America/Phoenix:20261215T090000
DTEND;TZID=America/Phoenix:20261215T160000
DTSTAMP:20260425T132623
CREATED:20241008T054305Z
LAST-MODIFIED:20241008T062314Z
UID:10001866-1797325200-1797350400@www.hocrn.org
SUMMARY:HOCRN Transport
DESCRIPTION:
URL:https://www.hocrn.org/event/hocrn-transport/2026-12-15
CATEGORIES:HOCRN Events & Meetings
END:VEVENT
BEGIN:VEVENT
DTSTART;TZID=America/Phoenix:20261217T090000
DTEND;TZID=America/Phoenix:20261217T160000
DTSTAMP:20260425T132623
CREATED:20241008T054305Z
LAST-MODIFIED:20241008T062314Z
UID:10001867-1797498000-1797523200@www.hocrn.org
SUMMARY:HOCRN Transport
DESCRIPTION:
URL:https://www.hocrn.org/event/hocrn-transport/2026-12-17
CATEGORIES:HOCRN Events & Meetings
END:VEVENT
BEGIN:VEVENT
DTSTART;TZID=America/Phoenix:20261222T090000
DTEND;TZID=America/Phoenix:20261222T160000
DTSTAMP:20260425T132623
CREATED:20241008T054305Z
LAST-MODIFIED:20241008T062314Z
UID:10001868-1797930000-1797955200@www.hocrn.org
SUMMARY:HOCRN Transport
DESCRIPTION:
URL:https://www.hocrn.org/event/hocrn-transport/2026-12-22
CATEGORIES:HOCRN Events & Meetings
END:VEVENT
BEGIN:VEVENT
DTSTART;TZID=America/Phoenix:20261224T090000
DTEND;TZID=America/Phoenix:20261224T160000
DTSTAMP:20260425T132623
CREATED:20241008T054305Z
LAST-MODIFIED:20241008T062314Z
UID:10001869-1798102800-1798128000@www.hocrn.org
SUMMARY:HOCRN Transport
DESCRIPTION:
URL:https://www.hocrn.org/event/hocrn-transport/2026-12-24
CATEGORIES:HOCRN Events & Meetings
END:VEVENT
BEGIN:VEVENT
DTSTART;TZID=America/Phoenix:20261229T090000
DTEND;TZID=America/Phoenix:20261229T160000
DTSTAMP:20260425T132623
CREATED:20241008T054305Z
LAST-MODIFIED:20241008T062314Z
UID:10001870-1798534800-1798560000@www.hocrn.org
SUMMARY:HOCRN Transport
DESCRIPTION:
URL:https://www.hocrn.org/event/hocrn-transport/2026-12-29
CATEGORIES:HOCRN Events & Meetings
END:VEVENT
BEGIN:VEVENT
DTSTART;TZID=America/Phoenix:20261231T090000
DTEND;TZID=America/Phoenix:20261231T160000
DTSTAMP:20260425T132623
CREATED:20241008T054305Z
LAST-MODIFIED:20241008T062314Z
UID:10001871-1798707600-1798732800@www.hocrn.org
SUMMARY:HOCRN Transport
DESCRIPTION:
URL:https://www.hocrn.org/event/hocrn-transport/2026-12-31
CATEGORIES:HOCRN Events & Meetings
END:VEVENT
BEGIN:VEVENT
DTSTART;TZID=America/Phoenix:20270105T090000
DTEND;TZID=America/Phoenix:20270105T160000
DTSTAMP:20260425T132623
CREATED:20241008T054305Z
LAST-MODIFIED:20241008T062314Z
UID:10001872-1799139600-1799164800@www.hocrn.org
SUMMARY:HOCRN Transport
DESCRIPTION:
URL:https://www.hocrn.org/event/hocrn-transport/2027-01-05
CATEGORIES:HOCRN Events & Meetings
END:VEVENT
BEGIN:VEVENT
DTSTART;TZID=America/Phoenix:20270107T090000
DTEND;TZID=America/Phoenix:20270107T160000
DTSTAMP:20260425T132623
CREATED:20241008T054305Z
LAST-MODIFIED:20241008T062314Z
UID:10001873-1799312400-1799337600@www.hocrn.org
SUMMARY:HOCRN Transport
DESCRIPTION:
URL:https://www.hocrn.org/event/hocrn-transport/2027-01-07
CATEGORIES:HOCRN Events & Meetings
END:VEVENT
BEGIN:VEVENT
DTSTART;TZID=America/Phoenix:20270112T090000
DTEND;TZID=America/Phoenix:20270112T160000
DTSTAMP:20260425T132623
CREATED:20241008T054305Z
LAST-MODIFIED:20241008T062314Z
UID:10001874-1799744400-1799769600@www.hocrn.org
SUMMARY:HOCRN Transport
DESCRIPTION:
URL:https://www.hocrn.org/event/hocrn-transport/2027-01-12
CATEGORIES:HOCRN Events & Meetings
END:VEVENT
BEGIN:VEVENT
DTSTART;TZID=America/Phoenix:20270112T123000
DTEND;TZID=America/Phoenix:20270112T133000
DTSTAMP:20260425T132623
CREATED:20241008T055551Z
LAST-MODIFIED:20241008T062417Z
UID:10001603-1799757000-1799760600@www.hocrn.org
SUMMARY:Drug Coalition Meeting via Zoom
DESCRIPTION:Vicky Solomon with Nexus Coalition/The Connection Coalition would like to remind you of the monthly Coalition meetings on the second Tuesday of each month from 12:30 to 1:30 p.m. via zoom. \nTopic: TCC DFC1 Coalition Meeting \nJoin Zoom Meeting\nhttps://us02web.zoom.us/j/87559700560?pwd=bzcvN0lJbGJOSTN3aW9yTWwwaEUvUT09 \nMeeting ID: 875 5970 0560\nPasscode: 487957 \nSame zoom log in each month. Feel free to invite anyone to attend! The more the merrier! \nJoin with Google Meet: https://meet.google.com/dui-embw-tef\nOr dial: (US) +1 586-459-0352 PIN: 846821201#\nMore phone numbers: https://tel.meet/dui-embw-tef?pin=6592074319938&hs=7 \nLearn more about Meet at: https://support.google.com/a/users/answer/9282720
URL:https://www.hocrn.org/event/drug-coalition-meeting-via-zoom/2027-01-12
CATEGORIES:HOCRN Events & Meetings
END:VEVENT
BEGIN:VEVENT
DTSTART;TZID=America/Phoenix:20270112T140000
DTEND;TZID=America/Phoenix:20270112T153000
DTSTAMP:20260425T132623
CREATED:20241008T054651Z
LAST-MODIFIED:20241008T062505Z
UID:10002188-1799762400-1799767800@www.hocrn.org
SUMMARY:Board Member's Zoom Meeting
DESCRIPTION:Join our October 8 Zoom meeting \nMeeting ID: 873 1231 4815\nPasscode: 445154 \nOne tap mobile\n+17193594580\,\,87312314815#\,\,\,\,*445154# US\n+12532050468\,\,87312314815#\,\,\,\,*445154# US \nDial by your location\n• +1 719 359 4580 US\n• +1 253 205 0468 US\n• +1 253 215 8782 US (Tacoma)\n• +1 346 248 7799 US (Houston)\n• +1 669 444 9171 US\n• +1 669 900 6833 US (San Jose)\n• +1 301 715 8592 US (Washington DC)\n• +1 305 224 1968 US\n• +1 309 205 3325 US\n• +1 312 626 6799 US (Chicago)\n• +1 360 209 5623 US\n• +1 386 347 5053 US\n• +1 507 473 4847 US\n• +1 564 217 2000 US\n• +1 646 931 3860 US\n• +1 689 278 1000 US\n• +1 929 205 6099 US (New York) \nMeeting ID: 873 1231 4815\nPasscode: 445154 \nFind your local number
URL:https://www.hocrn.org/event/board-members-zoom-meeting/2027-01-12
CATEGORIES:HOCRN Events & Meetings
END:VEVENT
BEGIN:VEVENT
DTSTART;TZID=America/Phoenix:20270113T173000
DTEND;TZID=America/Phoenix:20270113T183000
DTSTAMP:20260425T132623
CREATED:20241008T054843Z
LAST-MODIFIED:20241008T062530Z
UID:10002247-1799861400-1799865000@www.hocrn.org
SUMMARY:Chamber Meeting
DESCRIPTION:
URL:https://www.hocrn.org/event/chamber-meeting/2027-01-13
LOCATION:Heber-Overgaard Fire District\, 2061 Lumber Valley Rd\, Overgaard\, 85933\, United States
CATEGORIES:HOCRN Events & Meetings
END:VEVENT
BEGIN:VEVENT
DTSTART;TZID=America/Phoenix:20270114T090000
DTEND;TZID=America/Phoenix:20270114T160000
DTSTAMP:20260425T132623
CREATED:20241008T054305Z
LAST-MODIFIED:20241008T062314Z
UID:10001875-1799917200-1799942400@www.hocrn.org
SUMMARY:HOCRN Transport
DESCRIPTION:
URL:https://www.hocrn.org/event/hocrn-transport/2027-01-14
CATEGORIES:HOCRN Events & Meetings
END:VEVENT
BEGIN:VEVENT
DTSTART;TZID=America/Phoenix:20270119T090000
DTEND;TZID=America/Phoenix:20270119T160000
DTSTAMP:20260425T132623
CREATED:20241008T054305Z
LAST-MODIFIED:20241008T062314Z
UID:10001876-1800349200-1800374400@www.hocrn.org
SUMMARY:HOCRN Transport
DESCRIPTION:
URL:https://www.hocrn.org/event/hocrn-transport/2027-01-19
CATEGORIES:HOCRN Events & Meetings
END:VEVENT
BEGIN:VEVENT
DTSTART;TZID=America/Phoenix:20270121T090000
DTEND;TZID=America/Phoenix:20270121T160000
DTSTAMP:20260425T132623
CREATED:20241008T054305Z
LAST-MODIFIED:20241008T062314Z
UID:10001877-1800522000-1800547200@www.hocrn.org
SUMMARY:HOCRN Transport
DESCRIPTION:
URL:https://www.hocrn.org/event/hocrn-transport/2027-01-21
CATEGORIES:HOCRN Events & Meetings
END:VEVENT
BEGIN:VEVENT
DTSTART;TZID=America/Phoenix:20270126T090000
DTEND;TZID=America/Phoenix:20270126T160000
DTSTAMP:20260425T132623
CREATED:20241008T054305Z
LAST-MODIFIED:20241008T062314Z
UID:10001878-1800954000-1800979200@www.hocrn.org
SUMMARY:HOCRN Transport
DESCRIPTION:
URL:https://www.hocrn.org/event/hocrn-transport/2027-01-26
CATEGORIES:HOCRN Events & Meetings
END:VEVENT
BEGIN:VEVENT
DTSTART;TZID=America/Phoenix:20270128T090000
DTEND;TZID=America/Phoenix:20270128T160000
DTSTAMP:20260425T132623
CREATED:20241008T054305Z
LAST-MODIFIED:20241008T062314Z
UID:10001879-1801126800-1801152000@www.hocrn.org
SUMMARY:HOCRN Transport
DESCRIPTION:
URL:https://www.hocrn.org/event/hocrn-transport/2027-01-28
CATEGORIES:HOCRN Events & Meetings
END:VEVENT
BEGIN:VEVENT
DTSTART;TZID=America/Phoenix:20270202T090000
DTEND;TZID=America/Phoenix:20270202T160000
DTSTAMP:20260425T132623
CREATED:20241008T054305Z
LAST-MODIFIED:20241008T062314Z
UID:10001880-1801558800-1801584000@www.hocrn.org
SUMMARY:HOCRN Transport
DESCRIPTION:
URL:https://www.hocrn.org/event/hocrn-transport/2027-02-02
CATEGORIES:HOCRN Events & Meetings
END:VEVENT
BEGIN:VEVENT
DTSTART;TZID=America/Phoenix:20270204T090000
DTEND;TZID=America/Phoenix:20270204T160000
DTSTAMP:20260425T132623
CREATED:20241008T054305Z
LAST-MODIFIED:20241008T062314Z
UID:10001881-1801731600-1801756800@www.hocrn.org
SUMMARY:HOCRN Transport
DESCRIPTION:
URL:https://www.hocrn.org/event/hocrn-transport/2027-02-04
CATEGORIES:HOCRN Events & Meetings
END:VEVENT
BEGIN:VEVENT
DTSTART;TZID=America/Phoenix:20270209T090000
DTEND;TZID=America/Phoenix:20270209T160000
DTSTAMP:20260425T132623
CREATED:20241008T054305Z
LAST-MODIFIED:20241008T062314Z
UID:10001882-1802163600-1802188800@www.hocrn.org
SUMMARY:HOCRN Transport
DESCRIPTION:
URL:https://www.hocrn.org/event/hocrn-transport/2027-02-09
CATEGORIES:HOCRN Events & Meetings
END:VEVENT
BEGIN:VEVENT
DTSTART;TZID=America/Phoenix:20270209T123000
DTEND;TZID=America/Phoenix:20270209T133000
DTSTAMP:20260425T132623
CREATED:20241008T055551Z
LAST-MODIFIED:20241008T062417Z
UID:10001604-1802176200-1802179800@www.hocrn.org
SUMMARY:Drug Coalition Meeting via Zoom
DESCRIPTION:Vicky Solomon with Nexus Coalition/The Connection Coalition would like to remind you of the monthly Coalition meetings on the second Tuesday of each month from 12:30 to 1:30 p.m. via zoom. \nTopic: TCC DFC1 Coalition Meeting \nJoin Zoom Meeting\nhttps://us02web.zoom.us/j/87559700560?pwd=bzcvN0lJbGJOSTN3aW9yTWwwaEUvUT09 \nMeeting ID: 875 5970 0560\nPasscode: 487957 \nSame zoom log in each month. Feel free to invite anyone to attend! The more the merrier! \nJoin with Google Meet: https://meet.google.com/dui-embw-tef\nOr dial: (US) +1 586-459-0352 PIN: 846821201#\nMore phone numbers: https://tel.meet/dui-embw-tef?pin=6592074319938&hs=7 \nLearn more about Meet at: https://support.google.com/a/users/answer/9282720
URL:https://www.hocrn.org/event/drug-coalition-meeting-via-zoom/2027-02-09
CATEGORIES:HOCRN Events & Meetings
END:VEVENT
BEGIN:VEVENT
DTSTART;TZID=America/Phoenix:20270209T140000
DTEND;TZID=America/Phoenix:20270209T153000
DTSTAMP:20260425T132623
CREATED:20241008T054651Z
LAST-MODIFIED:20241008T062505Z
UID:10002189-1802181600-1802187000@www.hocrn.org
SUMMARY:Board Member's Zoom Meeting
DESCRIPTION:Join our October 8 Zoom meeting \nMeeting ID: 873 1231 4815\nPasscode: 445154 \nOne tap mobile\n+17193594580\,\,87312314815#\,\,\,\,*445154# US\n+12532050468\,\,87312314815#\,\,\,\,*445154# US \nDial by your location\n• +1 719 359 4580 US\n• +1 253 205 0468 US\n• +1 253 215 8782 US (Tacoma)\n• +1 346 248 7799 US (Houston)\n• +1 669 444 9171 US\n• +1 669 900 6833 US (San Jose)\n• +1 301 715 8592 US (Washington DC)\n• +1 305 224 1968 US\n• +1 309 205 3325 US\n• +1 312 626 6799 US (Chicago)\n• +1 360 209 5623 US\n• +1 386 347 5053 US\n• +1 507 473 4847 US\n• +1 564 217 2000 US\n• +1 646 931 3860 US\n• +1 689 278 1000 US\n• +1 929 205 6099 US (New York) \nMeeting ID: 873 1231 4815\nPasscode: 445154 \nFind your local number
URL:https://www.hocrn.org/event/board-members-zoom-meeting/2027-02-09
CATEGORIES:HOCRN Events & Meetings
END:VEVENT
BEGIN:VEVENT
DTSTART;TZID=America/Phoenix:20270210T173000
DTEND;TZID=America/Phoenix:20270210T183000
DTSTAMP:20260425T132623
CREATED:20241008T054843Z
LAST-MODIFIED:20241008T062530Z
UID:10002248-1802280600-1802284200@www.hocrn.org
SUMMARY:Chamber Meeting
DESCRIPTION:
URL:https://www.hocrn.org/event/chamber-meeting/2027-02-10
LOCATION:Heber-Overgaard Fire District\, 2061 Lumber Valley Rd\, Overgaard\, 85933\, United States
CATEGORIES:HOCRN Events & Meetings
END:VEVENT
BEGIN:VEVENT
DTSTART;TZID=America/Phoenix:20270211T090000
DTEND;TZID=America/Phoenix:20270211T160000
DTSTAMP:20260425T132623
CREATED:20241008T054305Z
LAST-MODIFIED:20241008T062314Z
UID:10001883-1802336400-1802361600@www.hocrn.org
SUMMARY:HOCRN Transport
DESCRIPTION:
URL:https://www.hocrn.org/event/hocrn-transport/2027-02-11
CATEGORIES:HOCRN Events & Meetings
END:VEVENT
BEGIN:VEVENT
DTSTART;TZID=America/Phoenix:20270216T090000
DTEND;TZID=America/Phoenix:20270216T160000
DTSTAMP:20260425T132623
CREATED:20241008T054305Z
LAST-MODIFIED:20241008T062314Z
UID:10001884-1802768400-1802793600@www.hocrn.org
SUMMARY:HOCRN Transport
DESCRIPTION:
URL:https://www.hocrn.org/event/hocrn-transport/2027-02-16
CATEGORIES:HOCRN Events & Meetings
END:VEVENT
BEGIN:VEVENT
DTSTART;TZID=America/Phoenix:20270218T090000
DTEND;TZID=America/Phoenix:20270218T160000
DTSTAMP:20260425T132623
CREATED:20241008T054305Z
LAST-MODIFIED:20241008T062314Z
UID:10001885-1802941200-1802966400@www.hocrn.org
SUMMARY:HOCRN Transport
DESCRIPTION:
URL:https://www.hocrn.org/event/hocrn-transport/2027-02-18
CATEGORIES:HOCRN Events & Meetings
END:VEVENT
BEGIN:VEVENT
DTSTART;TZID=America/Phoenix:20270223T090000
DTEND;TZID=America/Phoenix:20270223T160000
DTSTAMP:20260425T132623
CREATED:20241008T054305Z
LAST-MODIFIED:20241008T062314Z
UID:10001886-1803373200-1803398400@www.hocrn.org
SUMMARY:HOCRN Transport
DESCRIPTION:
URL:https://www.hocrn.org/event/hocrn-transport/2027-02-23
CATEGORIES:HOCRN Events & Meetings
END:VEVENT
BEGIN:VEVENT
DTSTART;TZID=America/Phoenix:20270225T090000
DTEND;TZID=America/Phoenix:20270225T160000
DTSTAMP:20260425T132624
CREATED:20241008T054305Z
LAST-MODIFIED:20241008T062314Z
UID:10001887-1803546000-1803571200@www.hocrn.org
SUMMARY:HOCRN Transport
DESCRIPTION:
URL:https://www.hocrn.org/event/hocrn-transport/2027-02-25
CATEGORIES:HOCRN Events & Meetings
END:VEVENT
BEGIN:VEVENT
DTSTART;TZID=America/Phoenix:20270302T090000
DTEND;TZID=America/Phoenix:20270302T160000
DTSTAMP:20260425T132624
CREATED:20241008T054305Z
LAST-MODIFIED:20241008T062314Z
UID:10001888-1803978000-1804003200@www.hocrn.org
SUMMARY:HOCRN Transport
DESCRIPTION:
URL:https://www.hocrn.org/event/hocrn-transport/2027-03-02
CATEGORIES:HOCRN Events & Meetings
END:VEVENT
BEGIN:VEVENT
DTSTART;TZID=America/Phoenix:20270304T090000
DTEND;TZID=America/Phoenix:20270304T160000
DTSTAMP:20260425T132624
CREATED:20241008T054305Z
LAST-MODIFIED:20241008T062314Z
UID:10001889-1804150800-1804176000@www.hocrn.org
SUMMARY:HOCRN Transport
DESCRIPTION:
URL:https://www.hocrn.org/event/hocrn-transport/2027-03-04
CATEGORIES:HOCRN Events & Meetings
END:VEVENT
END:VCALENDAR