BEGIN:VCALENDAR
VERSION:2.0
PRODID:-//Heber Overgaard Community Resource Network - ECPv6.15.17.1//NONSGML v1.0//EN
CALSCALE:GREGORIAN
METHOD:PUBLISH
X-WR-CALNAME:Heber Overgaard Community Resource Network
X-ORIGINAL-URL:https://www.hocrn.org
X-WR-CALDESC:Events for Heber Overgaard Community Resource Network
REFRESH-INTERVAL;VALUE=DURATION:PT1H
X-Robots-Tag:noindex
X-PUBLISHED-TTL:PT1H
BEGIN:VTIMEZONE
TZID:America/Phoenix
BEGIN:STANDARD
TZOFFSETFROM:-0700
TZOFFSETTO:-0700
TZNAME:MST
DTSTART:20250101T000000
END:STANDARD
END:VTIMEZONE
BEGIN:VEVENT
DTSTART;TZID=America/Phoenix:20260403T090000
DTEND;TZID=America/Phoenix:20260403T100000
DTSTAMP:20260425T043749
CREATED:20241008T152154Z
LAST-MODIFIED:20241008T154335Z
UID:10006607-1775206800-1775210400@www.hocrn.org
SUMMARY:Bible Study
DESCRIPTION:
URL:https://www.hocrn.org/event/bible-study/2026-04-03
LOCATION:Lutheran Church
CATEGORIES:Community Events & Meetings
END:VEVENT
BEGIN:VEVENT
DTSTART;TZID=America/Phoenix:20260403T090000
DTEND;TZID=America/Phoenix:20260403T130000
DTSTAMP:20260425T043749
CREATED:20241008T153522Z
LAST-MODIFIED:20241008T154045Z
UID:10004604-1775206800-1775221200@www.hocrn.org
SUMMARY:RCSC Open
DESCRIPTION:
URL:https://www.hocrn.org/event/rcsc-open-4/2026-04-03
CATEGORIES:Community Events & Meetings
END:VEVENT
BEGIN:VEVENT
DTSTART;TZID=America/Phoenix:20260403T090000
DTEND;TZID=America/Phoenix:20260403T160000
DTSTAMP:20260425T043749
CREATED:20241008T152857Z
LAST-MODIFIED:20241008T153144Z
UID:10003271-1775206800-1775232000@www.hocrn.org
SUMMARY:Chamber Open
DESCRIPTION:
URL:https://www.hocrn.org/event/chamber-open-5/2026-04-03
CATEGORIES:Community Events & Meetings
END:VEVENT
BEGIN:VEVENT
DTSTART;TZID=America/Phoenix:20260403T110000
DTEND;TZID=America/Phoenix:20260403T140000
DTSTAMP:20260425T043749
CREATED:20241008T152416Z
LAST-MODIFIED:20241008T154423Z
UID:10006867-1775214000-1775224800@www.hocrn.org
SUMMARY:Library Open
DESCRIPTION:
URL:https://www.hocrn.org/event/library-open-3/2026-04-03
CATEGORIES:Community Events & Meetings
END:VEVENT
END:VCALENDAR