BEGIN:VCALENDAR
VERSION:2.0
PRODID:-//Heber Overgaard Community Resource Network - ECPv6.15.17.1//NONSGML v1.0//EN
CALSCALE:GREGORIAN
METHOD:PUBLISH
X-WR-CALNAME:Heber Overgaard Community Resource Network
X-ORIGINAL-URL:https://www.hocrn.org
X-WR-CALDESC:Events for Heber Overgaard Community Resource Network
REFRESH-INTERVAL;VALUE=DURATION:PT1H
X-Robots-Tag:noindex
X-PUBLISHED-TTL:PT1H
BEGIN:VTIMEZONE
TZID:America/Phoenix
BEGIN:STANDARD
TZOFFSETFROM:-0700
TZOFFSETTO:-0700
TZNAME:MST
DTSTART:20250101T000000
END:STANDARD
END:VTIMEZONE
BEGIN:VEVENT
DTSTART;VALUE=DATE:20260311
DTEND;VALUE=DATE:20260312
DTSTAMP:20260425T043750
CREATED:20241008T145455Z
LAST-MODIFIED:20241008T153046Z
UID:10002516-1773187200-1773273599@www.hocrn.org
SUMMARY:Chamber Closed
DESCRIPTION:
URL:https://www.hocrn.org/event/chamber-closed/2026-03-11
CATEGORIES:Community Events & Meetings
END:VEVENT
BEGIN:VEVENT
DTSTART;TZID=America/Phoenix:20260311T090000
DTEND;TZID=America/Phoenix:20260311T130000
DTSTAMP:20260425T043750
CREATED:20241008T153522Z
LAST-MODIFIED:20241008T154045Z
UID:10005824-1773219600-1773234000@www.hocrn.org
SUMMARY:RCSC Open
DESCRIPTION:
URL:https://www.hocrn.org/event/rcsc-open-4/2026-03-11
CATEGORIES:Community Events & Meetings
END:VEVENT
BEGIN:VEVENT
DTSTART;TZID=America/Phoenix:20260311T110000
DTEND;TZID=America/Phoenix:20260311T160000
DTSTAMP:20260425T043750
CREATED:20241008T150017Z
LAST-MODIFIED:20241008T154137Z
UID:10006084-1773226800-1773244800@www.hocrn.org
SUMMARY:Library Open
DESCRIPTION:
URL:https://www.hocrn.org/event/library-open-2/2026-03-11
CATEGORIES:Community Events & Meetings
END:VEVENT
BEGIN:VEVENT
DTSTART;TZID=America/Phoenix:20260311T173000
DTEND;TZID=America/Phoenix:20260311T183000
DTSTAMP:20260425T043750
CREATED:20241008T054843Z
LAST-MODIFIED:20241008T062530Z
UID:10002237-1773250200-1773253800@www.hocrn.org
SUMMARY:Chamber Meeting
DESCRIPTION:
URL:https://www.hocrn.org/event/chamber-meeting/2026-03-11
LOCATION:Heber-Overgaard Fire District\, 2061 Lumber Valley Rd\, Overgaard\, 85933\, United States
CATEGORIES:HOCRN Events & Meetings
END:VEVENT
END:VCALENDAR